| Back to the "Multiple platform build/check report" | 
| Package 6/83 | Hostname | OS / Arch | BUILD | CHECK | BUILD BIN | ||||
| beta7 1.0.0 Jean Yang 
 | wilson1 | Linux (openSUSE 11.1) / x86_64 | OK | OK | |||||
| liverpool | Windows Server 2003 R2 (32-bit) / x64 | OK | OK | OK | |||||
| pelham | Mac OS X Leopard (10.5.8) / i386 | OK | OK | [ OK ] | 
| Package: beta7 | 
| Version: 1.0.0 | 
| Command: /Users/biocbuild/BBS/utils/build-universal.sh beta7_1.0.0.tar.gz /Library/Frameworks/R.framework/Versions/2.11/Resources/bin/R beta7.buildbin-libdir | 
| StartedAt: 2010-09-24 04:19:49 -0700 (Fri, 24 Sep 2010) | 
| EndedAt: 2010-09-24 04:20:23 -0700 (Fri, 24 Sep 2010) | 
| EllapsedTime: 33.7 seconds | 
| RetCode: 0 | 
| Status: OK | 
| PackageFile: beta7_1.0.0.tgz | 
| PackageFileSize: 15.3 MiB | 
                INSTALLATION WITH 'R CMD INSTALL --preclean --library=beta7.buildbin-libdir beta7_1.0.0.tar.gz'
* installing *source* package ‘beta7’ ...
** data
** inst
** help
*** installing help indices
** building package indices ...
** testing if installed package can be loaded
* DONE (beta7)