| Back to the "Multiple platform build/check report" | 
| Package 25/83 | Hostname | OS / Arch | BUILD | CHECK | BUILD BIN | ||||
| fibroEset 1.4.4 Sylvia Merk 
 | wilson1 | Linux (openSUSE 11.1) / x86_64 | OK | OK | |||||
| liverpool | Windows Server 2003 R2 (32-bit) / x64 | OK | OK | OK | |||||
| pelham | Mac OS X Leopard (10.5.8) / i386 | [ OK ] | OK | OK | 
| Package: fibroEset | 
| Version: 1.4.4 | 
| Command: /Library/Frameworks/R.framework/Versions/2.11/Resources/bin/R CMD build fibroEset | 
| StartedAt: 2010-09-24 01:59:06 -0700 (Fri, 24 Sep 2010) | 
| EndedAt: 2010-09-24 01:59:08 -0700 (Fri, 24 Sep 2010) | 
| EllapsedTime: 1.8 seconds | 
| RetCode: 0 | 
| Status: OK | 
| PackageFile: fibroEset_1.4.4.tar.gz | 
| PackageFileSize: 1.81 MiB | 
* checking for file 'fibroEset/DESCRIPTION' ... OK * preparing 'fibroEset': * checking DESCRIPTION meta-information ... OK * removing junk files * checking for LF line-endings in source and make files * checking for empty or unneeded directories * building 'fibroEset_1.4.4.tar.gz'