| Back to the "Multiple platform build/check report" | 
| Package 56/83 | Hostname | OS / Arch | BUILD | CHECK | BUILD BIN | ||||
| lumiBarnes 1.3.4 Pan Du 
 | wilson1 | Linux (openSUSE 11.1) / x86_64 | OK | OK | |||||
| liverpool | Windows Server 2003 R2 (32-bit) / x64 | OK | OK | OK | |||||
| pelham | Mac OS X Leopard (10.5.8) / i386 | OK | OK | [ OK ] | 
| Package: lumiBarnes | 
| Version: 1.3.4 | 
| Command: /Users/biocbuild/BBS/utils/build-universal.sh lumiBarnes_1.3.4.tar.gz /Library/Frameworks/R.framework/Versions/2.11/Resources/bin/R lumiBarnes.buildbin-libdir | 
| StartedAt: 2010-09-24 04:43:49 -0700 (Fri, 24 Sep 2010) | 
| EndedAt: 2010-09-24 04:44:16 -0700 (Fri, 24 Sep 2010) | 
| EllapsedTime: 26.4 seconds | 
| RetCode: 0 | 
| Status: OK | 
| PackageFile: lumiBarnes_1.3.4.tgz | 
| PackageFileSize: 4.988 MiB | 
                INSTALLATION WITH 'R CMD INSTALL --preclean --library=lumiBarnes.buildbin-libdir lumiBarnes_1.3.4.tar.gz'
* installing *source* package ‘lumiBarnes’ ...
** data
** help
*** installing help indices
** building package indices ...
** testing if installed package can be loaded
* DONE (lumiBarnes)