| Back to the "Multiple platform build/check report" | 
| Package 14/83 | Hostname | OS / Arch | BUILD | CHECK | BUILD BIN | ||||
| colonCA 1.4.5 W Sylvia Merk 
 | wilson1 | Linux (openSUSE 11.1) / x86_64 | OK | OK | |||||
| liverpool | Windows Server 2003 R2 (32-bit) / x64 | OK | OK | OK | |||||
| pelham | Mac OS X Leopard (10.5.8) / i386 | [ OK ] | OK | OK | 
| Package: colonCA | 
| Version: 1.4.5 | 
| Command: /Library/Frameworks/R.framework/Versions/2.11/Resources/bin/R CMD build colonCA | 
| StartedAt: 2010-09-24 01:56:41 -0700 (Fri, 24 Sep 2010) | 
| EndedAt: 2010-09-24 01:56:43 -0700 (Fri, 24 Sep 2010) | 
| EllapsedTime: 1.8 seconds | 
| RetCode: 0 | 
| Status: OK | 
| PackageFile: colonCA_1.4.5.tar.gz | 
| PackageFileSize: 783.1 KiB | 
* checking for file 'colonCA/DESCRIPTION' ... OK * preparing 'colonCA': * checking DESCRIPTION meta-information ... OK * removing junk files * checking for LF line-endings in source and make files * checking for empty or unneeded directories * building 'colonCA_1.4.5.tar.gz'