| tinesath1cdf 1.0.3 Tine Casneuf
 
 | Snapshot Date: 2010-09-24 00:28:34 -0700 (Fri, 24 Sep 2010) |  | URL: https://hedgehog.fhcrc.org/bioc-data/trunk/experiment/pkgs/tinesath1cdf |  | Last Changed Rev: 959 / Revision: 1309 |  | Last Changed Date: 2009-09-10 11:19:18 -0700 (Thu, 10 Sep 2009) | 
 | wilson1 | Linux (openSUSE 11.1) / x86_64 | OK | OK |  | 
| liverpool | Windows Server 2003 R2 (32-bit) / x64 | OK | OK | ERROR | 
| pelham | Mac OS X Leopard (10.5.8) / i386 | OK | OK | [ OK ] | 
                INSTALLATION WITH 'R CMD INSTALL --preclean --library=tinesath1cdf.buildbin-libdir tinesath1cdf_1.0.3.tar.gz'
* installing *source* package ‘tinesath1cdf’ ...
** R
** data
** preparing package for lazy loading
** help
*** installing help indices
** building package indices ...
** testing if installed package can be loaded
* DONE (tinesath1cdf)