Back to Multiple platform build/check report for BioC 3.22:   simplified   long
A[B]CDEFGHIJKLMNOPQRSTUVWXYZ

This page was generated on 2025-11-07 11:59 -0500 (Fri, 07 Nov 2025).

HostnameOSArch (*)R versionInstalled pkgs
nebbiolo2Linux (Ubuntu 24.04.3 LTS)x86_644.5.1 Patched (2025-08-23 r88802) -- "Great Square Root" 4902
kjohnson3macOS 13.7.7 Venturaarm644.5.1 Patched (2025-09-10 r88807) -- "Great Square Root" 4638
Click on any hostname to see more info about the system (e.g. compilers)      (*) as reported by 'uname -p', except on Windows and Mac OS X

All results for package basilisk


To the developers/maintainers of the basilisk package:
- Allow up to 24 hours (and sometimes 48 hours) for your latest push to git@git.bioconductor.org:packages/basilisk.git to reflect on this report. See Troubleshooting Build Report for more information.
- Use the following Renviron settings to reproduce errors and warnings.
- If 'R CMD check' started to fail recently on the Linux builder(s) over a missing dependency, add the missing dependency to 'Suggests:' in your DESCRIPTION file. See Renviron.bioc for more information.

raw results

Package 143/2361HostnameOS / ArchINSTALLBUILDCHECKBUILD BIN
basilisk 1.22.0  (landing page)
Aaron Lun
Snapshot Date: 2025-11-06 13:45 -0500 (Thu, 06 Nov 2025)
git_url: https://git.bioconductor.org/packages/basilisk
git_branch: RELEASE_3_22
git_last_commit: 18be55f
git_last_commit_date: 2025-10-29 10:56:48 -0500 (Wed, 29 Oct 2025)
nebbiolo2Linux (Ubuntu 24.04.3 LTS) / x86_64  OK    OK    OK  UNNEEDED, same version is already published
kjohnson3macOS 13.7.7 Ventura / arm64  OK    OK    OK    OK  UNNEEDED, same version is already published



Results for Bioconductor software packages that depend directly on package basilisk

QUICK STATSOS / ArchINSTALLBUILDCHECKBUILD BIN
nebbiolo2Linux (Ubuntu 24.04.3 LTS) / x86_64
0029
0227
00324
kjohnson3macOS 13.7.7 Ventura / arm64
0028
11017
00215
0017
Package 1/29HostnameOS / ArchINSTALLBUILDCHECKBUILD BIN
BiocHail 1.10.0  (landing page)
Vincent Carey
git_last_commit: dc7f0b8
git_last_commit_date: 2025-10-29 11:23:05 -0500
nebbiolo2Linux (Ubuntu 24.04.3 LTS) / x86_64  OK    OK    OK  UNNEEDED, same version is already published
kjohnson3macOS 13.7.7 Ventura / arm64... NOT SUPPORTED ...
Package 2/29HostnameOS / ArchINSTALLBUILDCHECKBUILD BIN
BiocSklearn 1.32.0  (landing page)
Vince Carey
git_last_commit: b143900
git_last_commit_date: 2025-10-29 10:39:55 -0500
nebbiolo2Linux (Ubuntu 24.04.3 LTS) / x86_64  OK    OK    OK  UNNEEDED, same version is already published
kjohnson3macOS 13.7.7 Ventura / arm64  OK    OK    OK    OK  UNNEEDED, same version is already published
Package 3/29HostnameOS / ArchINSTALLBUILDCHECKBUILD BIN
cbpManager 1.18.0  (landing page)
Arsenij Ustjanzew
git_last_commit: 5565444
git_last_commit_date: 2025-10-29 11:09:08 -0500
nebbiolo2Linux (Ubuntu 24.04.3 LTS) / x86_64  OK    OK    WARNINGS  UNNEEDED, same version is already published
kjohnson3macOS 13.7.7 Ventura / arm64  OK    OK    WARNINGS    OK  UNNEEDED, same version is already published
Package 4/29HostnameOS / ArchINSTALLBUILDCHECKBUILD BIN
cfTools 1.10.0  (landing page)
Ran Hu
git_last_commit: d9d259e
git_last_commit_date: 2025-10-29 11:22:51 -0500
nebbiolo2Linux (Ubuntu 24.04.3 LTS) / x86_64  OK    OK    OK  UNNEEDED, same version is already published
kjohnson3macOS 13.7.7 Ventura / arm64  OK    ERROR  skippedskipped
Package 5/29HostnameOS / ArchINSTALLBUILDCHECKBUILD BIN
crisprScore 1.14.0  (landing page)
Jean-Philippe Fortin
git_last_commit: 86c5f68
git_last_commit_date: 2025-10-29 11:14:23 -0500
nebbiolo2Linux (Ubuntu 24.04.3 LTS) / x86_64  OK    OK    OK  UNNEEDED, same version is already published
kjohnson3macOS 13.7.7 Ventura / arm64  OK    OK    OK    OK  UNNEEDED, same version is already published
Package 6/29HostnameOS / ArchINSTALLBUILDCHECKBUILD BIN
densvis 1.20.1  (landing page)
Alan O'Callaghan
git_last_commit: aeec1b9
git_last_commit_date: 2025-11-04 03:10:37 -0500
nebbiolo2Linux (Ubuntu 24.04.3 LTS) / x86_64  OK    OK    OK  UNNEEDED, same version is already published
kjohnson3macOS 13.7.7 Ventura / arm64  OK    OK    OK    OK  UNNEEDED, same version is already published
Package 7/29HostnameOS / ArchINSTALLBUILDCHECKBUILD BIN
DNAcycP2 1.2.0  (landing page)
Ji-Ping Wang
git_last_commit: 05e80ac
git_last_commit_date: 2025-10-29 11:35:02 -0500
nebbiolo2Linux (Ubuntu 24.04.3 LTS) / x86_64  OK    OK    OK  UNNEEDED, same version is already published
kjohnson3macOS 13.7.7 Ventura / arm64  OK    ERROR  skippedskipped
Package 8/29HostnameOS / ArchINSTALLBUILDCHECKBUILD BIN
DOtools 1.0.0  (landing page)
Mariano Ruz Jurado
git_last_commit: 95a2404
git_last_commit_date: 2025-10-29 11:38:46 -0500
nebbiolo2Linux (Ubuntu 24.04.3 LTS) / x86_64  OK    OK    OK  UNNEEDED, same version is already published
kjohnson3macOS 13.7.7 Ventura / arm64  OK    ERROR  skippedskipped
Package 9/29HostnameOS / ArchINSTALLBUILDCHECKBUILD BIN
FLAMES 2.4.1  (landing page)
Changqing Wang
git_last_commit: 41bbd55
git_last_commit_date: 2025-10-31 01:50:56 -0500
nebbiolo2Linux (Ubuntu 24.04.3 LTS) / x86_64  OK    OK    OK  UNNEEDED, same version is already published
kjohnson3macOS 13.7.7 Ventura / arm64  OK    OK    OK    OK  UNNEEDED, same version is already published
Package 10/29HostnameOS / ArchINSTALLBUILDCHECKBUILD BIN
HiCool 1.10.0  (landing page)
Jacques Serizay
git_last_commit: 901249c
git_last_commit_date: 2025-10-29 11:21:39 -0500
nebbiolo2Linux (Ubuntu 24.04.3 LTS) / x86_64  OK    ERROR  skipped
kjohnson3macOS 13.7.7 Ventura / arm64  OK    OK    OK    OK  UNNEEDED, same version is already published
Package 11/29HostnameOS / ArchINSTALLBUILDCHECKBUILD BIN
Ibex 1.0.0  (landing page)
Nick Borcherding
git_last_commit: 92396da
git_last_commit_date: 2025-10-29 11:38:26 -0500
nebbiolo2Linux (Ubuntu 24.04.3 LTS) / x86_64  OK    OK    OK  UNNEEDED, same version is already published
kjohnson3macOS 13.7.7 Ventura / arm64  OK    OK    OK    OK  UNNEEDED, same version is already published
Package 12/29HostnameOS / ArchINSTALLBUILDCHECKBUILD BIN
MACSr 1.18.0  (landing page)
Qiang Hu
git_last_commit: 9263ac2
git_last_commit_date: 2025-10-29 11:06:10 -0500
nebbiolo2Linux (Ubuntu 24.04.3 LTS) / x86_64  OK    OK    OK  UNNEEDED, same version is already published
kjohnson3macOS 13.7.7 Ventura / arm64  OK    OK    OK    OK  UNNEEDED, same version is already published
Package 13/29HostnameOS / ArchINSTALLBUILDCHECKBUILD BIN
MOFA2 1.20.0  (landing page)
Ricard Argelaguet
git_last_commit: 4dd4d60
git_last_commit_date: 2025-10-29 11:03:35 -0500
nebbiolo2Linux (Ubuntu 24.04.3 LTS) / x86_64  OK    OK    WARNINGS  UNNEEDED, same version is already published
kjohnson3macOS 13.7.7 Ventura / arm64  OK    ERROR  skippedskipped
Package 14/29HostnameOS / ArchINSTALLBUILDCHECKBUILD BIN
ontoProc 2.4.0  (landing page)
Vincent Carey
git_last_commit: f2c1b3f
git_last_commit_date: 2025-10-29 19:20:08 -0500
nebbiolo2Linux (Ubuntu 24.04.3 LTS) / x86_64  OK    OK    OK  UNNEEDED, same version is already published
kjohnson3macOS 13.7.7 Ventura / arm64  OK    OK    OK    OK  UNNEEDED, same version is already published
Package 15/29HostnameOS / ArchINSTALLBUILDCHECKBUILD BIN
orthos 1.8.0  (landing page)
Panagiotis Papasaikas
git_last_commit: 53e77e2
git_last_commit_date: 2025-10-29 11:24:17 -0500
nebbiolo2Linux (Ubuntu 24.04.3 LTS) / x86_64  OK    OK    OK  UNNEEDED, same version is already published
kjohnson3macOS 13.7.7 Ventura / arm64  OK    ERROR  skippedskipped
Package 16/29HostnameOS / ArchINSTALLBUILDCHECKBUILD BIN
Pirat 1.4.1  (landing page)
Lucas Etourneau
git_last_commit: 8617159
git_last_commit_date: 2025-11-05 04:30:31 -0500
nebbiolo2Linux (Ubuntu 24.04.3 LTS) / x86_64  OK    ERROR  skipped
kjohnson3macOS 13.7.7 Ventura / arm64  OK    ERROR  skippedskipped
Package 17/29HostnameOS / ArchINSTALLBUILDCHECKBUILD BIN
Rcwl 1.26.0  (landing page)
Qiang Hu
git_last_commit: 0b6281a
git_last_commit_date: 2025-10-29 10:50:00 -0500
nebbiolo2Linux (Ubuntu 24.04.3 LTS) / x86_64  OK    OK    OK  UNNEEDED, same version is already published
kjohnson3macOS 13.7.7 Ventura / arm64  OK    ERROR  skippedskipped
Package 18/29HostnameOS / ArchINSTALLBUILDCHECKBUILD BIN
recountmethylation 1.20.0  (landing page)
Sean K Maden
git_last_commit: 3d96dab
git_last_commit_date: 2025-10-29 11:01:55 -0500
nebbiolo2Linux (Ubuntu 24.04.3 LTS) / x86_64  OK    OK    OK  UNNEEDED, same version is already published
kjohnson3macOS 13.7.7 Ventura / arm64  OK    OK    OK    OK  UNNEEDED, same version is already published
Package 19/29HostnameOS / ArchINSTALLBUILDCHECKBUILD BIN
ReUseData 1.10.0  (landing page)
Qian Liu
git_last_commit: 2d4066b
git_last_commit_date: 2025-10-29 11:20:44 -0500
nebbiolo2Linux (Ubuntu 24.04.3 LTS) / x86_64  OK    OK    OK  UNNEEDED, same version is already published
kjohnson3macOS 13.7.7 Ventura / arm64  OK    ERROR  skippedskipped
Package 20/29HostnameOS / ArchINSTALLBUILDCHECKBUILD BIN
scifer 1.12.0  (landing page)
Rodrigo Arcoverde Cerveira
git_last_commit: e09cc12
git_last_commit_date: 2025-10-29 11:18:43 -0500
nebbiolo2Linux (Ubuntu 24.04.3 LTS) / x86_64  OK    OK    OK  UNNEEDED, same version is already published
kjohnson3macOS 13.7.7 Ventura / arm64  OK    OK    OK    OK  UNNEEDED, same version is already published
Package 21/29HostnameOS / ArchINSTALLBUILDCHECKBUILD BIN
scPipe 2.10.0  (landing page)
Shian Su
git_last_commit: c021029
git_last_commit_date: 2025-10-29 10:41:31 -0500
nebbiolo2Linux (Ubuntu 24.04.3 LTS) / x86_64  OK    OK    OK  UNNEEDED, same version is already published
kjohnson3macOS 13.7.7 Ventura / arm64  OK    OK    OK    OK  UNNEEDED, same version is already published
Package 22/29HostnameOS / ArchINSTALLBUILDCHECKBUILD BIN
scviR 1.10.0  (landing page)
Vincent Carey
git_last_commit: 76c9278
git_last_commit_date: 2025-10-29 11:21:42 -0500
nebbiolo2Linux (Ubuntu 24.04.3 LTS) / x86_64  OK    OK    OK  UNNEEDED, same version is already published
kjohnson3macOS 13.7.7 Ventura / arm64  OK    TIMEOUT  skippedskipped
Package 23/29HostnameOS / ArchINSTALLBUILDCHECKBUILD BIN
SimBu 1.12.0  (landing page)
Alexander Dietrich
git_last_commit: c0333a2
git_last_commit_date: 2025-10-29 11:18:10 -0500
nebbiolo2Linux (Ubuntu 24.04.3 LTS) / x86_64  OK    OK    OK  UNNEEDED, same version is already published
kjohnson3macOS 13.7.7 Ventura / arm64  OK    OK    OK    OK  UNNEEDED, same version is already published
Package 24/29HostnameOS / ArchINSTALLBUILDCHECKBUILD BIN
sketchR 1.6.0  (landing page)
Charlotte Soneson
git_last_commit: b2a0713
git_last_commit_date: 2025-10-29 11:28:06 -0500
nebbiolo2Linux (Ubuntu 24.04.3 LTS) / x86_64  OK    OK    OK  UNNEEDED, same version is already published
kjohnson3macOS 13.7.7 Ventura / arm64  OK    OK    OK    OK  UNNEEDED, same version is already published
Package 25/29HostnameOS / ArchINSTALLBUILDCHECKBUILD BIN
snifter 1.20.0  (landing page)
Alan O'Callaghan
git_last_commit: 38ed1de
git_last_commit_date: 2025-10-29 11:01:22 -0500
nebbiolo2Linux (Ubuntu 24.04.3 LTS) / x86_64  OK    OK    OK  UNNEEDED, same version is already published
kjohnson3macOS 13.7.7 Ventura / arm64  OK    OK    OK    OK  UNNEEDED, same version is already published
Package 26/29HostnameOS / ArchINSTALLBUILDCHECKBUILD BIN
spatialDE 1.16.0  (landing page)
Gabriele Sales
git_last_commit: dfd143b
git_last_commit_date: 2025-10-29 11:11:31 -0500
nebbiolo2Linux (Ubuntu 24.04.3 LTS) / x86_64  OK    OK    OK  UNNEEDED, same version is already published
kjohnson3macOS 13.7.7 Ventura / arm64  OK    ERROR  skippedskipped
Package 27/29HostnameOS / ArchINSTALLBUILDCHECKBUILD BIN
stPipe 1.0.0  (landing page)
Yang Xu
git_last_commit: f234c12
git_last_commit_date: 2025-10-29 11:37:41 -0500
nebbiolo2Linux (Ubuntu 24.04.3 LTS) / x86_64  OK    OK    WARNINGS  UNNEEDED, same version is already published
kjohnson3macOS 13.7.7 Ventura / arm64  OK    OK    WARNINGS    OK  UNNEEDED, same version is already published
Package 28/29HostnameOS / ArchINSTALLBUILDCHECKBUILD BIN
velociraptor 1.20.0  (landing page)
Kevin Rue-Albrecht
git_last_commit: 67b4a9e
git_last_commit_date: 2025-10-29 11:02:39 -0500
nebbiolo2Linux (Ubuntu 24.04.3 LTS) / x86_64  OK    OK    OK  UNNEEDED, same version is already published
kjohnson3macOS 13.7.7 Ventura / arm64  OK    OK    OK    OK  UNNEEDED, same version is already published
Package 29/29HostnameOS / ArchINSTALLBUILDCHECKBUILD BIN
zellkonverter 1.20.0  (landing page)
Luke Zappia
git_last_commit: cf55b0f
git_last_commit_date: 2025-10-29 11:01:36 -0500
nebbiolo2Linux (Ubuntu 24.04.3 LTS) / x86_64  OK    OK    OK  UNNEEDED, same version is already published
kjohnson3macOS 13.7.7 Ventura / arm64  OK    ERROR  skippedskipped