Back to Multiple platform build/check report for BioC 3.21:   simplified   long
ABCDEFGHIJKLMNOPQR[S]TUVWXYZ

This page was generated on 2025-10-16 11:40 -0400 (Thu, 16 Oct 2025).

HostnameOSArch (*)R versionInstalled pkgs
nebbiolo1Linux (Ubuntu 24.04.3 LTS)x86_644.5.1 (2025-06-13) -- "Great Square Root" 4833
merida1macOS 12.7.6 Montereyx86_644.5.1 RC (2025-06-05 r88288) -- "Great Square Root" 4614
kjohnson1macOS 13.7.5 Venturaarm644.5.1 Patched (2025-06-14 r88325) -- "Great Square Root" 4555
kunpeng2Linux (openEuler 24.03 LTS)aarch64R Under development (unstable) (2025-02-19 r87757) -- "Unsuffered Consequences" 4586
Click on any hostname to see more info about the system (e.g. compilers)      (*) as reported by 'uname -p', except on Windows and Mac OS X

Package 2056/2341HostnameOS / ArchINSTALLBUILDCHECKBUILD BIN
spatialDE 1.14.1  (landing page)
Gabriele Sales
Snapshot Date: 2025-10-13 13:40 -0400 (Mon, 13 Oct 2025)
git_url: https://git.bioconductor.org/packages/spatialDE
git_branch: RELEASE_3_21
git_last_commit: 205de11
git_last_commit_date: 2025-04-15 08:22:50 -0400 (Tue, 15 Apr 2025)
nebbiolo1Linux (Ubuntu 24.04.3 LTS) / x86_64  OK    OK    OK  UNNEEDED, same version is already published
merida1macOS 12.7.6 Monterey / x86_64  OK    OK    OK    OK  UNNEEDED, same version is already published
kjohnson1macOS 13.7.5 Ventura / arm64  OK    OK    OK    OK  UNNEEDED, same version is already published
kunpeng2Linux (openEuler 24.03 LTS) / aarch64  OK    ERROR  skipped


CHECK results for spatialDE on kjohnson1

To the developers/maintainers of the spatialDE package:
- Allow up to 24 hours (and sometimes 48 hours) for your latest push to git@git.bioconductor.org:packages/spatialDE.git to reflect on this report. See Troubleshooting Build Report for more information.
- Use the following Renviron settings to reproduce errors and warnings.
- If 'R CMD check' started to fail recently on the Linux builder(s) over a missing dependency, add the missing dependency to 'Suggests:' in your DESCRIPTION file. See Renviron.bioc for more information.

raw results


Summary

Package: spatialDE
Version: 1.14.1
Command: /Library/Frameworks/R.framework/Resources/bin/R CMD check --install=check:spatialDE.install-out.txt --library=/Library/Frameworks/R.framework/Resources/library --no-vignettes --timings spatialDE_1.14.1.tar.gz
StartedAt: 2025-10-15 13:34:16 -0400 (Wed, 15 Oct 2025)
EndedAt: 2025-10-15 13:39:30 -0400 (Wed, 15 Oct 2025)
EllapsedTime: 314.3 seconds
RetCode: 0
Status:   OK  
CheckDir: spatialDE.Rcheck
Warnings: 0

Command output

##############################################################################
##############################################################################
###
### Running command:
###
###   /Library/Frameworks/R.framework/Resources/bin/R CMD check --install=check:spatialDE.install-out.txt --library=/Library/Frameworks/R.framework/Resources/library --no-vignettes --timings spatialDE_1.14.1.tar.gz
###
##############################################################################
##############################################################################


* using log directory ‘/Users/biocbuild/bbs-3.21-bioc/meat/spatialDE.Rcheck’
* using R version 4.5.1 Patched (2025-06-14 r88325)
* using platform: aarch64-apple-darwin20
* R was compiled by
    Apple clang version 16.0.0 (clang-1600.0.26.6)
    GNU Fortran (GCC) 14.2.0
* running under: macOS Ventura 13.7.5
* using session charset: UTF-8
* using option ‘--no-vignettes’
* checking for file ‘spatialDE/DESCRIPTION’ ... OK
* this is package ‘spatialDE’ version ‘1.14.1’
* package encoding: UTF-8
* checking package namespace information ... OK
* checking package dependencies ... OK
* checking if this is a source package ... OK
* checking if there is a namespace ... OK
* checking for hidden files and directories ... OK
* checking for portable file names ... OK
* checking for sufficient/correct file permissions ... OK
* checking whether package ‘spatialDE’ can be installed ... NOTE
Found the following notes/warnings:
  Non-staged installation was used
See ‘/Users/biocbuild/bbs-3.21-bioc/meat/spatialDE.Rcheck/00install.out’ for details.
* checking installed package size ... OK
* checking package directory ... OK
* checking ‘build’ directory ... OK
* checking DESCRIPTION meta-information ... OK
* checking top-level files ... OK
* checking for left-over files ... OK
* checking index information ... OK
* checking package subdirectories ... OK
* checking code files for non-ASCII characters ... OK
* checking R files for syntax errors ... OK
* checking whether the package can be loaded ... OK
* checking whether the package can be loaded with stated dependencies ... OK
* checking whether the package can be unloaded cleanly ... OK
* checking whether the namespace can be loaded with stated dependencies ... OK
* checking whether the namespace can be unloaded cleanly ... OK
* checking dependencies in R code ... OK
* checking S3 generic/method consistency ... OK
* checking replacement functions ... OK
* checking foreign function calls ... OK
* checking R code for possible problems ... OK
* checking Rd files ... OK
* checking Rd metadata ... OK
* checking Rd cross-references ... NOTE
Found the following Rd file(s) with Rd \link{} targets missing package
anchors:
  mockSVG.Rd: SpatialExperiment-class
  modelSearch.Rd: SpatialExperiment-class
  multiGenePlots.Rd: SpatialExperiment-class
  spatialDE.Rd: SpatialExperiment-class
  spatialPatterns.Rd: SpatialExperiment-class
Please provide package anchors for all Rd \link{} targets not in the
package itself and the base packages.
* checking for missing documentation entries ... OK
* checking for code/documentation mismatches ... OK
* checking Rd \usage sections ... OK
* checking Rd contents ... OK
* checking for unstated dependencies in examples ... OK
* checking contents of ‘data’ directory ... OK
* checking data for non-ASCII characters ... OK
* checking data for ASCII and uncompressed saves ... OK
* checking line endings in shell scripts ... OK
* checking files in ‘vignettes’ ... OK
* checking examples ... OK
Examples with CPU (user + system) or elapsed time > 5s
                   user system elapsed
spatial_patterns 17.685  2.900  16.179
FSV_sig           9.420  3.312  16.541
* checking for unstated dependencies in ‘tests’ ... OK
* checking tests ...
  Running ‘testthat.R’
 OK
* checking for unstated dependencies in vignettes ... OK
* checking package vignettes ... OK
* checking running R code from vignettes ... SKIPPED
* checking re-building of vignette outputs ... SKIPPED
* checking PDF version of manual ... OK
* DONE

Status: 2 NOTEs
See
  ‘/Users/biocbuild/bbs-3.21-bioc/meat/spatialDE.Rcheck/00check.log’
for details.


Installation output

spatialDE.Rcheck/00install.out

##############################################################################
##############################################################################
###
### Running command:
###
###   /Library/Frameworks/R.framework/Resources/bin/R CMD INSTALL spatialDE
###
##############################################################################
##############################################################################


* installing to library ‘/Library/Frameworks/R.framework/Versions/4.5-arm64/Resources/library’
* installing *source* package ‘spatialDE’ ...
** this is package ‘spatialDE’ version ‘1.14.1’
** using non-staged installation via StagedInstall field
** R
** data
** inst
** byte-compile and prepare package for lazy loading
** help
*** installing help indices
** building package indices
** installing vignettes
** testing if installed package can be loaded
* DONE (spatialDE)

Tests output

spatialDE.Rcheck/tests/testthat.Rout


R version 4.5.1 Patched (2025-06-14 r88325) -- "Great Square Root"
Copyright (C) 2025 The R Foundation for Statistical Computing
Platform: aarch64-apple-darwin20

R is free software and comes with ABSOLUTELY NO WARRANTY.
You are welcome to redistribute it under certain conditions.
Type 'license()' or 'licence()' for distribution details.

R is a collaborative project with many contributors.
Type 'contributors()' for more information and
'citation()' on how to cite R or R packages in publications.

Type 'demo()' for some demos, 'help()' for on-line help, or
'help.start()' for an HTML browser interface to help.
Type 'q()' to quit R.

> library(testthat)
> library(spatialDE)
> 
> test_check("spatialDE")
Loading required package: SingleCellExperiment
Loading required package: SummarizedExperiment
Loading required package: MatrixGenerics
Loading required package: matrixStats

Attaching package: 'MatrixGenerics'

The following objects are masked from 'package:matrixStats':

    colAlls, colAnyNAs, colAnys, colAvgsPerRowSet, colCollapse,
    colCounts, colCummaxs, colCummins, colCumprods, colCumsums,
    colDiffs, colIQRDiffs, colIQRs, colLogSumExps, colMadDiffs,
    colMads, colMaxs, colMeans2, colMedians, colMins, colOrderStats,
    colProds, colQuantiles, colRanges, colRanks, colSdDiffs, colSds,
    colSums2, colTabulates, colVarDiffs, colVars, colWeightedMads,
    colWeightedMeans, colWeightedMedians, colWeightedSds,
    colWeightedVars, rowAlls, rowAnyNAs, rowAnys, rowAvgsPerColSet,
    rowCollapse, rowCounts, rowCummaxs, rowCummins, rowCumprods,
    rowCumsums, rowDiffs, rowIQRDiffs, rowIQRs, rowLogSumExps,
    rowMadDiffs, rowMads, rowMaxs, rowMeans2, rowMedians, rowMins,
    rowOrderStats, rowProds, rowQuantiles, rowRanges, rowRanks,
    rowSdDiffs, rowSds, rowSums2, rowTabulates, rowVarDiffs, rowVars,
    rowWeightedMads, rowWeightedMeans, rowWeightedMedians,
    rowWeightedSds, rowWeightedVars

Loading required package: GenomicRanges
Loading required package: stats4
Loading required package: BiocGenerics
Loading required package: generics

Attaching package: 'generics'

The following objects are masked from 'package:base':

    as.difftime, as.factor, as.ordered, intersect, is.element, setdiff,
    setequal, union


Attaching package: 'BiocGenerics'

The following objects are masked from 'package:stats':

    IQR, mad, sd, var, xtabs

The following objects are masked from 'package:base':

    Filter, Find, Map, Position, Reduce, anyDuplicated, aperm, append,
    as.data.frame, basename, cbind, colnames, dirname, do.call,
    duplicated, eval, evalq, get, grep, grepl, is.unsorted, lapply,
    mapply, match, mget, order, paste, pmax, pmax.int, pmin, pmin.int,
    rank, rbind, rownames, sapply, saveRDS, table, tapply, unique,
    unsplit, which.max, which.min

Loading required package: S4Vectors

Attaching package: 'S4Vectors'

The following object is masked from 'package:utils':

    findMatches

The following objects are masked from 'package:base':

    I, expand.grid, unname

Loading required package: IRanges
Loading required package: GenomeInfoDb
Loading required package: Biobase
Welcome to Bioconductor

    Vignettes contain introductory material; view with
    'browseVignettes()'. To cite Bioconductor, see
    'citation("Biobase")', and for packages 'citation("pkgname")'.


Attaching package: 'Biobase'

The following object is masked from 'package:MatrixGenerics':

    rowMedians

The following objects are masked from 'package:matrixStats':

    anyMissing, rowMedians


Models:   0%|          | 0/10 [00:00<?, ?it/s]

  0%|          | 0/100 [00:00<?, ?it/s]

 51%|█████     | 51/100 [00:00<00:00, 505.14it/s]

                                                 
Models:  10%|█         | 1/10 [00:00<00:01,  4.87it/s]

  0%|          | 0/100 [00:00<?, ?it/s]

 41%|████      | 41/100 [00:00<00:00, 403.45it/s]

 82%|████████▏ | 82/100 [00:00<00:00, 374.51it/s]

                                                 
Models:  20%|██        | 2/10 [00:00<00:01,  4.02it/s]

  0%|          | 0/100 [00:00<?, ?it/s]

 34%|███▍      | 34/100 [00:00<00:00, 339.69it/s]

 68%|██████▊   | 68/100 [00:00<00:00, 329.57it/s]

                                                 
Models:  30%|███       | 3/10 [00:00<00:01,  3.62it/s]

  0%|          | 0/100 [00:00<?, ?it/s]

 34%|███▍      | 34/100 [00:00<00:00, 328.35it/s]

 67%|██████▋   | 67/100 [00:00<00:00, 321.39it/s]

100%|██████████| 100/100 [00:00<00:00, 316.46it/s]

                                                  
Models:  40%|████      | 4/10 [00:01<00:01,  3.42it/s]

  0%|          | 0/100 [00:00<?, ?it/s]

 33%|███▎      | 33/100 [00:00<00:00, 327.85it/s]

 66%|██████▌   | 66/100 [00:00<00:00, 325.82it/s]

 99%|█████████▉| 99/100 [00:00<00:00, 309.78it/s]

                                                 
Models:  50%|█████     | 5/10 [00:01<00:01,  3.30it/s]

  0%|          | 0/100 [00:00<?, ?it/s]

 35%|███▌      | 35/100 [00:00<00:00, 340.93it/s]

 70%|███████   | 70/100 [00:00<00:00, 333.42it/s]

                                                 
Models:  60%|██████    | 6/10 [00:01<00:01,  3.28it/s]

  0%|          | 0/100 [00:00<?, ?it/s]

 35%|███▌      | 35/100 [00:00<00:00, 341.32it/s]

 70%|███████   | 70/100 [00:00<00:00, 338.32it/s]

                                                 
Models:  70%|███████   | 7/10 [00:02<00:00,  3.29it/s]

  0%|          | 0/100 [00:00<?, ?it/s]

 35%|███▌      | 35/100 [00:00<00:00, 347.25it/s]

 70%|███████   | 70/100 [00:00<00:00, 335.60it/s]

                                                 
Models:  80%|████████  | 8/10 [00:02<00:00,  3.29it/s]

  0%|          | 0/100 [00:00<?, ?it/s]

 37%|███▋      | 37/100 [00:00<00:00, 363.22it/s]

 74%|███████▍  | 74/100 [00:00<00:00, 357.50it/s]

                                                 
Models:  90%|█████████ | 9/10 [00:02<00:00,  3.12it/s]

  0%|          | 0/100 [00:00<?, ?it/s]

 37%|███▋      | 37/100 [00:00<00:00, 367.71it/s]

 74%|███████▍  | 74/100 [00:00<00:00, 354.26it/s]

                                                 
Models: 100%|██████████| 10/10 [00:02<00:00,  3.23it/s]
Models: 100%|██████████| 10/10 [00:02<00:00,  3.35it/s]

Models:   0%|          | 0/10 [00:00<?, ?it/s]

  0%|          | 0/100 [00:00<?, ?it/s]

 94%|█████████▍| 94/100 [00:00<00:00, 923.35it/s]

                                                 
Models:  10%|█         | 1/10 [00:00<00:01,  8.90it/s]

  0%|          | 0/100 [00:00<?, ?it/s]

 76%|███████▌  | 76/100 [00:00<00:00, 751.24it/s]

                                                 
Models:  20%|██        | 2/10 [00:00<00:01,  6.72it/s]

  0%|          | 0/100 [00:00<?, ?it/s]

 40%|████      | 40/100 [00:00<00:00, 392.02it/s]

                                                 
Models:  30%|███       | 3/10 [00:00<00:01,  6.06it/s]

  0%|          | 0/100 [00:00<?, ?it/s]

 47%|████▋     | 47/100 [00:00<00:00, 456.79it/s]

 93%|█████████▎| 93/100 [00:00<00:00, 368.65it/s]

                                                 
Models:  40%|████      | 4/10 [00:00<00:01,  4.84it/s]

  0%|          | 0/100 [00:00<?, ?it/s]

 36%|███▌      | 36/100 [00:00<00:00, 353.76it/s]

 72%|███████▏  | 72/100 [00:00<00:00, 327.88it/s]

                                                 
Models:  50%|█████     | 5/10 [00:01<00:01,  4.07it/s]

  0%|          | 0/100 [00:00<?, ?it/s]

 35%|███▌      | 35/100 [00:00<00:00, 348.75it/s]

 70%|███████   | 70/100 [00:00<00:00, 321.15it/s]

                                                 
Models:  60%|██████    | 6/10 [00:01<00:01,  3.73it/s]

  0%|          | 0/100 [00:00<?, ?it/s]

 36%|███▌      | 36/100 [00:00<00:00, 350.69it/s]

 72%|███████▏  | 72/100 [00:00<00:00, 338.91it/s]

                                                 
Models:  70%|███████   | 7/10 [00:01<00:00,  3.58it/s]

  0%|          | 0/100 [00:00<?, ?it/s]

 37%|███▋      | 37/100 [00:00<00:00, 360.97it/s]

 74%|███████▍  | 74/100 [00:00<00:00, 333.67it/s]

                                                 
Models:  80%|████████  | 8/10 [00:01<00:00,  3.49it/s]

  0%|          | 0/100 [00:00<?, ?it/s]

 36%|███▌      | 36/100 [00:00<00:00, 357.32it/s]

 72%|███████▏  | 72/100 [00:00<00:00, 340.40it/s]

                                                 
Models:  90%|█████████ | 9/10 [00:02<00:00,  3.48it/s]

  0%|          | 0/100 [00:00<?, ?it/s]

 37%|███▋      | 37/100 [00:00<00:00, 369.24it/s]

 74%|███████▍  | 74/100 [00:00<00:00, 358.29it/s]

                                                 
Models: 100%|██████████| 10/10 [00:02<00:00,  3.51it/s]
Models: 100%|██████████| 10/10 [00:02<00:00,  3.93it/s]
/Users/biocbuild/Library/Caches/org.R-project.R/R/basilisk/1.20.0/spatialDE/1.14.1/env/lib/python3.11/site-packages/pandas/core/internals/blocks.py:351: RuntimeWarning: invalid value encountered in log
  result = func(self.values, **kwargs)

Models:   0%|          | 0/10 [00:00<?, ?it/s]

  0%|          | 0/100 [00:00<?, ?it/s]

 49%|████▉     | 49/100 [00:00<00:00, 484.83it/s]

                                                 
Models:  10%|█         | 1/10 [00:00<00:01,  5.16it/s]

  0%|          | 0/100 [00:00<?, ?it/s]

 41%|████      | 41/100 [00:00<00:00, 404.78it/s]

 82%|████████▏ | 82/100 [00:00<00:00, 381.01it/s]

                                                 
Models:  20%|██        | 2/10 [00:00<00:01,  4.26it/s]

  0%|          | 0/100 [00:00<?, ?it/s]

 37%|███▋      | 37/100 [00:00<00:00, 365.08it/s]

 74%|███████▍  | 74/100 [00:00<00:00, 349.58it/s]

                                                 
Models:  30%|███       | 3/10 [00:00<00:01,  3.85it/s]

  0%|          | 0/100 [00:00<?, ?it/s]

 36%|███▌      | 36/100 [00:00<00:00, 358.23it/s]

 72%|███████▏  | 72/100 [00:00<00:00, 335.52it/s]

                                                 
Models:  40%|████      | 4/10 [00:01<00:01,  3.63it/s]

  0%|          | 0/100 [00:00<?, ?it/s]

 36%|███▌      | 36/100 [00:00<00:00, 356.04it/s]

 72%|███████▏  | 72/100 [00:00<00:00, 332.94it/s]

                                                 
Models:  50%|█████     | 5/10 [00:01<00:01,  3.50it/s]

  0%|          | 0/100 [00:00<?, ?it/s]

 32%|███▏      | 32/100 [00:00<00:00, 318.85it/s]

 64%|██████▍   | 64/100 [00:00<00:00, 314.87it/s]

 96%|█████████▌| 96/100 [00:00<00:00, 316.60it/s]

                                                 
Models:  60%|██████    | 6/10 [00:01<00:01,  3.37it/s]

  0%|          | 0/100 [00:00<?, ?it/s]

 36%|███▌      | 36/100 [00:00<00:00, 347.85it/s]

 71%|███████   | 71/100 [00:00<00:00, 334.65it/s]

                                                 
Models:  70%|███████   | 7/10 [00:01<00:00,  3.35it/s]

  0%|          | 0/100 [00:00<?, ?it/s]

 36%|███▌      | 36/100 [00:00<00:00, 352.52it/s]

 72%|███████▏  | 72/100 [00:00<00:00, 338.59it/s]

                                                 
Models:  80%|████████  | 8/10 [00:02<00:00,  3.35it/s]

  0%|          | 0/100 [00:00<?, ?it/s]

 38%|███▊      | 38/100 [00:00<00:00, 374.27it/s]

 76%|███████▌  | 76/100 [00:00<00:00, 343.64it/s]

                                                 
Models:  90%|█████████ | 9/10 [00:02<00:00,  3.38it/s]

  0%|          | 0/100 [00:00<?, ?it/s]

 38%|███▊      | 38/100 [00:00<00:00, 379.37it/s]

 77%|███████▋  | 77/100 [00:00<00:00, 380.81it/s]

                                                 
Models: 100%|██████████| 10/10 [00:02<00:00,  3.46it/s]
Models: 100%|██████████| 10/10 [00:02<00:00,  3.53it/s]

Models:   0%|          | 0/10 [00:00<?, ?it/s]

  0%|          | 0/100 [00:00<?, ?it/s]

 49%|████▉     | 49/100 [00:00<00:00, 484.90it/s]

                                                 
Models:  10%|█         | 1/10 [00:00<00:01,  4.96it/s]

  0%|          | 0/100 [00:00<?, ?it/s]

 40%|████      | 40/100 [00:00<00:00, 389.56it/s]

 79%|███████▉  | 79/100 [00:00<00:00, 382.06it/s]

                                                 
Models:  20%|██        | 2/10 [00:00<00:01,  4.17it/s]

  0%|          | 0/100 [00:00<?, ?it/s]

 36%|███▌      | 36/100 [00:00<00:00, 359.74it/s]

 72%|███████▏  | 72/100 [00:00<00:00, 347.08it/s]

                                                 
Models:  30%|███       | 3/10 [00:00<00:01,  3.79it/s]

  0%|          | 0/100 [00:00<?, ?it/s]

 36%|███▌      | 36/100 [00:00<00:00, 350.34it/s]

 72%|███████▏  | 72/100 [00:00<00:00, 335.07it/s]

                                                 
Models:  40%|████      | 4/10 [00:01<00:01,  3.58it/s]

  0%|          | 0/100 [00:00<?, ?it/s]

 35%|███▌      | 35/100 [00:00<00:00, 339.62it/s]

 69%|██████▉   | 69/100 [00:00<00:00, 327.72it/s]

                                                 
Models:  50%|█████     | 5/10 [00:01<00:01,  3.46it/s]

  0%|          | 0/100 [00:00<?, ?it/s]

 35%|███▌      | 35/100 [00:00<00:00, 341.94it/s]

 70%|███████   | 70/100 [00:00<00:00, 325.99it/s]

                                                 
Models:  60%|██████    | 6/10 [00:01<00:01,  3.40it/s]

  0%|          | 0/100 [00:00<?, ?it/s]

 36%|███▌      | 36/100 [00:00<00:00, 354.75it/s]

 72%|███████▏  | 72/100 [00:00<00:00, 339.67it/s]

                                                 
Models:  70%|███████   | 7/10 [00:01<00:00,  3.38it/s]

  0%|          | 0/100 [00:00<?, ?it/s]

 36%|███▌      | 36/100 [00:00<00:00, 352.84it/s]

 72%|███████▏  | 72/100 [00:00<00:00, 339.33it/s]

                                                 
Models:  80%|████████  | 8/10 [00:02<00:00,  3.34it/s]

  0%|          | 0/100 [00:00<?, ?it/s]

 38%|███▊      | 38/100 [00:00<00:00, 376.19it/s]

 76%|███████▌  | 76/100 [00:00<00:00, 359.17it/s]

                                                 
Models:  90%|█████████ | 9/10 [00:02<00:00,  3.39it/s]

  0%|          | 0/100 [00:00<?, ?it/s]

 39%|███▉      | 39/100 [00:00<00:00, 389.86it/s]

 78%|███████▊  | 78/100 [00:00<00:00, 382.70it/s]

                                                 
Models: 100%|██████████| 10/10 [00:02<00:00,  3.50it/s]
Models: 100%|██████████| 10/10 [00:02<00:00,  3.53it/s]

Models:   0%|          | 0/10 [00:00<?, ?it/s]

  0%|          | 0/100 [00:00<?, ?it/s]

 47%|████▋     | 47/100 [00:00<00:00, 468.65it/s]

 97%|█████████▋| 97/100 [00:00<00:00, 486.97it/s]

                                                 
Models:  10%|█         | 1/10 [00:00<00:01,  4.77it/s]

  0%|          | 0/100 [00:00<?, ?it/s]

 42%|████▏     | 42/100 [00:00<00:00, 415.47it/s]

 84%|████████▍ | 84/100 [00:00<00:00, 380.67it/s]

                                                 
Models:  20%|██        | 2/10 [00:00<00:01,  4.14it/s]

  0%|          | 0/100 [00:00<?, ?it/s]

 36%|███▌      | 36/100 [00:00<00:00, 351.90it/s]

 72%|███████▏  | 72/100 [00:00<00:00, 338.54it/s]

                                                 
Models:  30%|███       | 3/10 [00:00<00:01,  3.75it/s]

  0%|          | 0/100 [00:00<?, ?it/s]

 36%|███▌      | 36/100 [00:00<00:00, 348.80it/s]

 71%|███████   | 71/100 [00:00<00:00, 335.33it/s]

                                                 
Models:  40%|████      | 4/10 [00:01<00:01,  3.57it/s]

  0%|          | 0/100 [00:00<?, ?it/s]

 35%|███▌      | 35/100 [00:00<00:00, 341.36it/s]

 70%|███████   | 70/100 [00:00<00:00, 335.64it/s]

                                                 
Models:  50%|█████     | 5/10 [00:01<00:01,  3.46it/s]

  0%|          | 0/100 [00:00<?, ?it/s]

 35%|███▌      | 35/100 [00:00<00:00, 341.61it/s]

 70%|███████   | 70/100 [00:00<00:00, 331.91it/s]

                                                 
Models:  60%|██████    | 6/10 [00:01<00:01,  3.40it/s]

  0%|          | 0/100 [00:00<?, ?it/s]

 34%|███▍      | 34/100 [00:00<00:00, 335.26it/s]

 69%|██████▉   | 69/100 [00:00<00:00, 340.44it/s]

                                                 
Models:  70%|███████   | 7/10 [00:01<00:00,  3.36it/s]

  0%|          | 0/100 [00:00<?, ?it/s]

 39%|███▉      | 39/100 [00:00<00:00, 380.67it/s]

 78%|███████▊  | 78/100 [00:00<00:00, 346.89it/s]

                                                 
Models:  80%|████████  | 8/10 [00:02<00:00,  3.39it/s]

  0%|          | 0/100 [00:00<?, ?it/s]

 38%|███▊      | 38/100 [00:00<00:00, 373.28it/s]

 76%|███████▌  | 76/100 [00:00<00:00, 355.45it/s]

                                                 
Models:  90%|█████████ | 9/10 [00:02<00:00,  3.41it/s]

  0%|          | 0/100 [00:00<?, ?it/s]

 36%|███▌      | 36/100 [00:00<00:00, 357.65it/s]

 75%|███████▌  | 75/100 [00:00<00:00, 373.16it/s]

                                                 
Models: 100%|██████████| 10/10 [00:02<00:00,  3.49it/s]
Models: 100%|██████████| 10/10 [00:02<00:00,  3.53it/s]
[ FAIL 0 | WARN 0 | SKIP 0 | PASS 29 ]
> 
> proc.time()
   user  system elapsed 
 49.699   3.443  54.257 
/Users/biocbuild/Library/Caches/org.R-project.R/R/basilisk/1.20.0/spatialDE/1.14.1/env/lib/python3.11/multiprocessing/resource_tracker.py:254: UserWarning: resource_tracker: There appear to be 1 leaked semaphore objects to clean up at shutdown
  warnings.warn('resource_tracker: There appear to be %d '

Example timings

spatialDE.Rcheck/spatialDE-Ex.timings

nameusersystemelapsed
FSV_sig 9.420 3.31216.541
mockSVG0.1310.0020.135
modelSearch1.8130.3772.088
model_search1.5060.3521.709
multiGenePlots1.9410.2272.119
regress_out0.1110.0050.119
run0.8290.1650.931
spatialDE0.8850.1760.985
spatialPatterns0.9160.2441.203
spatial_patterns17.685 2.90016.179
stabilize0.0540.0030.057