| Back to Multiple platform build/check report for BioC 3.21: simplified long |
|
This page was generated on 2025-07-31 11:41 -0400 (Thu, 31 Jul 2025).
| Hostname | OS | Arch (*) | R version | Installed pkgs |
|---|---|---|---|---|
| nebbiolo1 | Linux (Ubuntu 24.04.2 LTS) | x86_64 | 4.5.1 (2025-06-13) -- "Great Square Root" | 4823 |
| palomino7 | Windows Server 2022 Datacenter | x64 | 4.5.1 (2025-06-13 ucrt) -- "Great Square Root" | 4565 |
| merida1 | macOS 12.7.5 Monterey | x86_64 | 4.5.1 RC (2025-06-05 r88288) -- "Great Square Root" | 4603 |
| kjohnson1 | macOS 13.6.6 Ventura | arm64 | 4.5.1 Patched (2025-06-14 r88325) -- "Great Square Root" | 4544 |
| kunpeng2 | Linux (openEuler 24.03 LTS) | aarch64 | R Under development (unstable) (2025-02-19 r87757) -- "Unsuffered Consequences" | 4579 |
| Click on any hostname to see more info about the system (e.g. compilers) (*) as reported by 'uname -p', except on Windows and Mac OS X | ||||
| Package 1492/2341 | Hostname | OS / Arch | INSTALL | BUILD | CHECK | BUILD BIN | ||||||||
| ontoProc 2.2.1 (landing page) Vincent Carey
| nebbiolo1 | Linux (Ubuntu 24.04.2 LTS) / x86_64 | OK | OK | OK | |||||||||
| palomino7 | Windows Server 2022 Datacenter / x64 | OK | OK | OK | OK | |||||||||
| merida1 | macOS 12.7.5 Monterey / x86_64 | OK | OK | OK | OK | |||||||||
| kjohnson1 | macOS 13.6.6 Ventura / arm64 | OK | OK | OK | OK | |||||||||
| kunpeng2 | Linux (openEuler 24.03 LTS) / aarch64 | OK | OK | OK | ||||||||||
|
To the developers/maintainers of the ontoProc package: - Allow up to 24 hours (and sometimes 48 hours) for your latest push to git@git.bioconductor.org:packages/ontoProc.git to reflect on this report. See Troubleshooting Build Report for more information. - Use the following Renviron settings to reproduce errors and warnings. - If 'R CMD check' started to fail recently on the Linux builder(s) over a missing dependency, add the missing dependency to 'Suggests:' in your DESCRIPTION file. See Renviron.bioc for more information. |
| Package: ontoProc |
| Version: 2.2.1 |
| Command: /home/biocbuild/bbs-3.21-bioc/R/bin/R CMD check --install=check:ontoProc.install-out.txt --library=/home/biocbuild/bbs-3.21-bioc/R/site-library --timings ontoProc_2.2.1.tar.gz |
| StartedAt: 2025-07-31 00:59:16 -0400 (Thu, 31 Jul 2025) |
| EndedAt: 2025-07-31 01:16:16 -0400 (Thu, 31 Jul 2025) |
| EllapsedTime: 1020.0 seconds |
| RetCode: 0 |
| Status: OK |
| CheckDir: ontoProc.Rcheck |
| Warnings: 0 |
##############################################################################
##############################################################################
###
### Running command:
###
### /home/biocbuild/bbs-3.21-bioc/R/bin/R CMD check --install=check:ontoProc.install-out.txt --library=/home/biocbuild/bbs-3.21-bioc/R/site-library --timings ontoProc_2.2.1.tar.gz
###
##############################################################################
##############################################################################
* using log directory ‘/home/biocbuild/bbs-3.21-bioc/meat/ontoProc.Rcheck’
* using R version 4.5.1 (2025-06-13)
* using platform: x86_64-pc-linux-gnu
* R was compiled by
gcc (Ubuntu 13.3.0-6ubuntu2~24.04) 13.3.0
GNU Fortran (Ubuntu 13.3.0-6ubuntu2~24.04) 13.3.0
* running under: Ubuntu 24.04.2 LTS
* using session charset: UTF-8
* checking for file ‘ontoProc/DESCRIPTION’ ... OK
* this is package ‘ontoProc’ version ‘2.2.1’
* package encoding: UTF-8
* checking package namespace information ... OK
* checking package dependencies ... OK
* checking if this is a source package ... OK
* checking if there is a namespace ... OK
* checking for hidden files and directories ... OK
* checking for portable file names ... OK
* checking for sufficient/correct file permissions ... OK
* checking whether package ‘ontoProc’ can be installed ... OK
* checking installed package size ... INFO
installed size is 9.7Mb
sub-directories of 1Mb or more:
app 1.6Mb
data 1.8Mb
ontoRda 2.7Mb
owl 3.0Mb
* checking package directory ... OK
* checking ‘build’ directory ... OK
* checking DESCRIPTION meta-information ... OK
* checking top-level files ... OK
* checking for left-over files ... OK
* checking index information ... OK
* checking package subdirectories ... OK
* checking code files for non-ASCII characters ... OK
* checking R files for syntax errors ... OK
* checking whether the package can be loaded ... OK
* checking whether the package can be loaded with stated dependencies ... OK
* checking whether the package can be unloaded cleanly ... OK
* checking whether the namespace can be loaded with stated dependencies ... OK
* checking whether the namespace can be unloaded cleanly ... OK
* checking loading without being on the library search path ... OK
* checking dependencies in R code ... NOTE
':::' call which should be '::': ‘ontologyPlot:::remove_uninformative_terms’
See the note in ?`:::` about the use of this operator.
* checking S3 generic/method consistency ... OK
* checking replacement functions ... OK
* checking foreign function calls ... OK
* checking R code for possible problems ... NOTE
CLfeat : prupdate: no visible binding for global variable ‘PROSYM’
CLfeat : prupdate: no visible binding for global variable ‘PRID’
CLfeat : prupdate: no visible binding for global variable ‘SYMBOL’
ctmarks : server: no visible binding for global variable ‘text’
ctmarks : server: no visible binding for global variable ‘packDesc2022’
ctmarks : server: no visible binding for global variable ‘packDesc2021’
ctmarks: no visible binding for global variable ‘cumu’
dropStop: no visible binding for global variable ‘stopWords’
getOnto: no visible binding for global variable ‘rdatadateadded’
getOnto: no visible binding for global variable ‘title’
getOnto: no visible binding for global variable ‘description’
ldfToTerm: no visible binding for global variable ‘PROSYM’
sym2CellOnto: no visible binding for global variable ‘PROSYM’
sym2CellOnto: no visible binding for global variable ‘SYMBOL’
Undefined global functions or variables:
PRID PROSYM SYMBOL cumu description packDesc2021 packDesc2022
rdatadateadded stopWords text title
Consider adding
importFrom("graphics", "text", "title")
to your NAMESPACE file.
* checking Rd files ... OK
* checking Rd metadata ... OK
* checking Rd cross-references ... NOTE
Found the following Rd file(s) with Rd \link{} targets missing package
anchors:
findCommonAncestors.Rd: graph, DataFrame-class, List-class
Please provide package anchors for all Rd \link{} targets not in the
package itself and the base packages.
* checking for missing documentation entries ... OK
* checking for code/documentation mismatches ... OK
* checking Rd \usage sections ... NOTE
S3 methods shown with full name in Rd file 'plot.owlents.Rd':
‘plot.owlents’
The \usage entries for S3 methods should use the \method markup and not
their full name.
See chapter ‘Writing R documentation files’ in the ‘Writing R
Extensions’ manual.
* checking Rd contents ... OK
* checking for unstated dependencies in examples ... OK
* checking contents of ‘data’ directory ... OK
* checking data for non-ASCII characters ... OK
* checking data for ASCII and uncompressed saves ... OK
* checking files in ‘vignettes’ ... OK
* checking examples ... OK
Examples with CPU (user + system) or elapsed time > 5s
user system elapsed
sym2CellOnto 61.330 5.075 71.694
CLfeats 30.797 3.417 34.990
labels.owlents 28.825 1.426 34.452
siblings_TAG 24.700 3.075 28.652
owl2cache 24.635 2.389 22.571
nomenCheckup 19.693 4.651 28.079
mapOneNaive 18.304 2.824 26.203
liberalMap 18.493 2.608 32.367
secLevGen 16.944 2.668 24.142
ontoDiff 16.217 2.535 24.490
make_graphNEL_from_ontology_plot 13.776 3.847 21.447
selectFromMap 13.766 1.641 16.340
fastGrep 14.060 1.312 15.584
getLeavesFromTerm 14.195 1.021 15.427
cleanCLOnames 12.447 1.150 13.813
onto_plot2 12.061 1.531 21.983
ancestors 12.180 0.948 14.323
plot.owlents 12.032 0.987 15.915
getOnto 10.466 1.388 12.264
common_classes 9.704 1.223 11.210
findCommonAncestors 8.211 0.729 9.155
TermSet-class 7.387 0.608 8.238
parents 7.447 0.366 12.017
setup_entities 5.009 0.354 5.373
ldfToTerms 4.722 0.209 6.001
search_labels 1.467 0.125 68.859
bioregistry_ols_resources 0.041 0.012 14.216
* checking for unstated dependencies in ‘tests’ ... OK
* checking tests ...
Running ‘test.R’
OK
* checking for unstated dependencies in vignettes ... OK
* checking package vignettes ... OK
* checking re-building of vignette outputs ... OK
* checking PDF version of manual ... OK
* DONE
Status: 4 NOTEs
See
‘/home/biocbuild/bbs-3.21-bioc/meat/ontoProc.Rcheck/00check.log’
for details.
ontoProc.Rcheck/00install.out
############################################################################## ############################################################################## ### ### Running command: ### ### /home/biocbuild/bbs-3.21-bioc/R/bin/R CMD INSTALL ontoProc ### ############################################################################## ############################################################################## * installing to library ‘/home/biocbuild/bbs-3.21-bioc/R/site-library’ * installing *source* package ‘ontoProc’ ... ** this is package ‘ontoProc’ version ‘2.2.1’ ** using staged installation ** R ** data ** inst ** byte-compile and prepare package for lazy loading ** help *** installing help indices ** building package indices ** installing vignettes ** testing if installed package can be loaded from temporary location ** testing if installed package can be loaded from final location ** testing if installed package keeps a record of temporary installation path * DONE (ontoProc)
ontoProc.Rcheck/tests/test.Rout
R version 4.5.1 (2025-06-13) -- "Great Square Root"
Copyright (C) 2025 The R Foundation for Statistical Computing
Platform: x86_64-pc-linux-gnu
R is free software and comes with ABSOLUTELY NO WARRANTY.
You are welcome to redistribute it under certain conditions.
Type 'license()' or 'licence()' for distribution details.
R is a collaborative project with many contributors.
Type 'contributors()' for more information and
'citation()' on how to cite R or R packages in publications.
Type 'demo()' for some demos, 'help()' for on-line help, or
'help.start()' for an HTML browser interface to help.
Type 'q()' to quit R.
>
> library(ontoProc)
Loading required package: ontologyIndex
> library(testthat)
>
> test_check("ontoProc")
[ FAIL 0 | WARN 0 | SKIP 0 | PASS 12 ]
>
>
> proc.time()
user system elapsed
81.066 5.558 94.021
ontoProc.Rcheck/ontoProc-Ex.timings
| name | user | system | elapsed | |
| CLfeats | 30.797 | 3.417 | 34.990 | |
| PROSYM | 0.223 | 0.008 | 0.232 | |
| TermSet-class | 7.387 | 0.608 | 8.238 | |
| allGOterms | 0.110 | 0.002 | 0.113 | |
| ancestors | 12.180 | 0.948 | 14.323 | |
| ancestors_names | 3.771 | 0.137 | 3.911 | |
| bioregistry_ols_resources | 0.041 | 0.012 | 14.216 | |
| cellTypeToGO | 1.984 | 0.126 | 2.110 | |
| children_names | 3.852 | 0.024 | 3.876 | |
| cleanCLOnames | 12.447 | 1.150 | 13.813 | |
| common_classes | 9.704 | 1.223 | 11.210 | |
| ctmarks | 0 | 0 | 0 | |
| cyclicSigset | 0.006 | 0.001 | 0.007 | |
| demoApp | 0 | 0 | 0 | |
| dropStop | 0.003 | 0.002 | 0.005 | |
| fastGrep | 14.060 | 1.312 | 15.584 | |
| findCommonAncestors | 8.211 | 0.729 | 9.155 | |
| getLeavesFromTerm | 14.195 | 1.021 | 15.427 | |
| getOnto | 10.466 | 1.388 | 12.264 | |
| humrna | 0.011 | 0.004 | 0.015 | |
| labels.owlents | 28.825 | 1.426 | 34.452 | |
| ldfToTerms | 4.722 | 0.209 | 6.001 | |
| liberalMap | 18.493 | 2.608 | 32.367 | |
| makeSelectInput | 0.000 | 0.001 | 0.001 | |
| make_graphNEL_from_ontology_plot | 13.776 | 3.847 | 21.447 | |
| mapOneNaive | 18.304 | 2.824 | 26.203 | |
| minicorpus | 0.001 | 0.002 | 0.003 | |
| nomenCheckup | 19.693 | 4.651 | 28.079 | |
| ontoDiff | 16.217 | 2.535 | 24.490 | |
| onto_plot2 | 12.061 | 1.531 | 21.983 | |
| onto_roots | 0.000 | 0.000 | 0.001 | |
| owl2cache | 24.635 | 2.389 | 22.571 | |
| packDesc2019 | 0.007 | 0.003 | 0.026 | |
| packDesc2021 | 0.006 | 0.000 | 0.016 | |
| packDesc2022 | 0.006 | 0.002 | 0.015 | |
| packDesc2023 | 0.005 | 0.003 | 0.015 | |
| parents | 7.447 | 0.366 | 12.017 | |
| plot.owlents | 12.032 | 0.987 | 15.915 | |
| quickOnto | 0.775 | 0.102 | 0.956 | |
| recognizedPredicates | 0.000 | 0.001 | 0.001 | |
| search_labels | 1.467 | 0.125 | 68.859 | |
| secLevGen | 16.944 | 2.668 | 24.142 | |
| selectFromMap | 13.766 | 1.641 | 16.340 | |
| setup_entities | 5.009 | 0.354 | 5.373 | |
| setup_entities2 | 0.720 | 0.048 | 0.768 | |
| seur3kTab | 0.004 | 0.002 | 0.006 | |
| siblings_TAG | 24.700 | 3.075 | 28.652 | |
| stopWords | 0.000 | 0.002 | 0.002 | |
| subclasses | 4.213 | 0.302 | 4.523 | |
| sym2CellOnto | 61.330 | 5.075 | 71.694 | |
| valid_ontonames | 0 | 0 | 0 | |