Back to Multiple platform build/check report for BioC 3.20:   simplified   long
ABCDEFGHIJKLMNOPQR[S]TUVWXYZ

This page was generated on 2025-02-03 12:09 -0500 (Mon, 03 Feb 2025).

HostnameOSArch (*)R versionInstalled pkgs
nebbiolo2Linux (Ubuntu 24.04.1 LTS)x86_644.4.2 (2024-10-31) -- "Pile of Leaves" 4746
palomino8Windows Server 2022 Datacenterx644.4.2 (2024-10-31 ucrt) -- "Pile of Leaves" 4494
merida1macOS 12.7.5 Montereyx86_644.4.2 (2024-10-31) -- "Pile of Leaves" 4517
kjohnson1macOS 13.6.6 Venturaarm644.4.2 (2024-10-31) -- "Pile of Leaves" 4469
taishanLinux (openEuler 24.03 LTS)aarch644.4.2 (2024-10-31) -- "Pile of Leaves" 4400
Click on any hostname to see more info about the system (e.g. compilers)      (*) as reported by 'uname -p', except on Windows and Mac OS X

Package 2016/2289HostnameOS / ArchINSTALLBUILDCHECKBUILD BIN
spatialDE 1.12.0  (landing page)
Gabriele Sales
Snapshot Date: 2025-01-30 13:00 -0500 (Thu, 30 Jan 2025)
git_url: https://git.bioconductor.org/packages/spatialDE
git_branch: RELEASE_3_20
git_last_commit: 8d3fc1f
git_last_commit_date: 2024-10-29 11:03:13 -0500 (Tue, 29 Oct 2024)
nebbiolo2Linux (Ubuntu 24.04.1 LTS) / x86_64  OK    OK    OK  UNNEEDED, same version is already published
palomino8Windows Server 2022 Datacenter / x64  OK    OK    OK    OK  UNNEEDED, same version is already published
merida1macOS 12.7.5 Monterey / x86_64  OK    OK    OK    OK  UNNEEDED, same version is already published
kjohnson1macOS 13.6.6 Ventura / arm64  OK    OK    OK    OK  UNNEEDED, same version is already published
taishanLinux (openEuler 24.03 LTS) / aarch64  OK    OK    OK  


CHECK results for spatialDE on merida1

To the developers/maintainers of the spatialDE package:
- Allow up to 24 hours (and sometimes 48 hours) for your latest push to git@git.bioconductor.org:packages/spatialDE.git to reflect on this report. See Troubleshooting Build Report for more information.
- Use the following Renviron settings to reproduce errors and warnings.
- If 'R CMD check' started to fail recently on the Linux builder(s) over a missing dependency, add the missing dependency to 'Suggests:' in your DESCRIPTION file. See Renviron.bioc for more information.

raw results


Summary

Package: spatialDE
Version: 1.12.0
Command: /Library/Frameworks/R.framework/Resources/bin/R CMD check --install=check:spatialDE.install-out.txt --library=/Library/Frameworks/R.framework/Resources/library --no-vignettes --timings spatialDE_1.12.0.tar.gz
StartedAt: 2025-01-31 10:26:59 -0500 (Fri, 31 Jan 2025)
EndedAt: 2025-01-31 10:36:54 -0500 (Fri, 31 Jan 2025)
EllapsedTime: 595.5 seconds
RetCode: 0
Status:   OK  
CheckDir: spatialDE.Rcheck
Warnings: 0

Command output

##############################################################################
##############################################################################
###
### Running command:
###
###   /Library/Frameworks/R.framework/Resources/bin/R CMD check --install=check:spatialDE.install-out.txt --library=/Library/Frameworks/R.framework/Resources/library --no-vignettes --timings spatialDE_1.12.0.tar.gz
###
##############################################################################
##############################################################################


* using log directory ‘/Users/biocbuild/bbs-3.20-bioc/meat/spatialDE.Rcheck’
* using R version 4.4.2 (2024-10-31)
* using platform: x86_64-apple-darwin20
* R was compiled by
    Apple clang version 14.0.0 (clang-1400.0.29.202)
    GNU Fortran (GCC) 12.2.0
* running under: macOS Monterey 12.7.6
* using session charset: UTF-8
* using option ‘--no-vignettes’
* checking for file ‘spatialDE/DESCRIPTION’ ... OK
* this is package ‘spatialDE’ version ‘1.12.0’
* package encoding: UTF-8
* checking package namespace information ... OK
* checking package dependencies ... OK
* checking if this is a source package ... OK
* checking if there is a namespace ... OK
* checking for hidden files and directories ... OK
* checking for portable file names ... OK
* checking for sufficient/correct file permissions ... OK
* checking whether package ‘spatialDE’ can be installed ... NOTE
Found the following notes/warnings:
  Non-staged installation was used
See ‘/Users/biocbuild/bbs-3.20-bioc/meat/spatialDE.Rcheck/00install.out’ for details.
* checking installed package size ... OK
* checking package directory ... OK
* checking ‘build’ directory ... OK
* checking DESCRIPTION meta-information ... OK
* checking top-level files ... OK
* checking for left-over files ... OK
* checking index information ... OK
* checking package subdirectories ... OK
* checking code files for non-ASCII characters ... OK
* checking R files for syntax errors ... OK
* checking whether the package can be loaded ... OK
* checking whether the package can be loaded with stated dependencies ... OK
* checking whether the package can be unloaded cleanly ... OK
* checking whether the namespace can be loaded with stated dependencies ... OK
* checking whether the namespace can be unloaded cleanly ... OK
* checking dependencies in R code ... OK
* checking S3 generic/method consistency ... OK
* checking replacement functions ... OK
* checking foreign function calls ... OK
* checking R code for possible problems ... OK
* checking Rd files ... OK
* checking Rd metadata ... OK
* checking Rd cross-references ... OK
* checking for missing documentation entries ... OK
* checking for code/documentation mismatches ... OK
* checking Rd \usage sections ... OK
* checking Rd contents ... OK
* checking for unstated dependencies in examples ... OK
* checking contents of ‘data’ directory ... OK
* checking data for non-ASCII characters ... OK
* checking data for ASCII and uncompressed saves ... OK
* checking line endings in shell scripts ... OK
* checking files in ‘vignettes’ ... OK
* checking examples ... OK
Examples with CPU (user + system) or elapsed time > 5s
                   user system elapsed
spatial_patterns 33.068  3.828  33.345
FSV_sig           9.833  2.307  28.079
* checking for unstated dependencies in ‘tests’ ... OK
* checking tests ...
  Running ‘testthat.R’
 OK
* checking for unstated dependencies in vignettes ... OK
* checking package vignettes ... OK
* checking running R code from vignettes ... SKIPPED
* checking re-building of vignette outputs ... SKIPPED
* checking PDF version of manual ... OK
* DONE

Status: 1 NOTE
See
  ‘/Users/biocbuild/bbs-3.20-bioc/meat/spatialDE.Rcheck/00check.log’
for details.


Installation output

spatialDE.Rcheck/00install.out

##############################################################################
##############################################################################
###
### Running command:
###
###   /Library/Frameworks/R.framework/Resources/bin/R CMD INSTALL spatialDE
###
##############################################################################
##############################################################################


* installing to library ‘/Library/Frameworks/R.framework/Versions/4.4-x86_64/Resources/library’
* installing *source* package ‘spatialDE’ ...
** using non-staged installation via StagedInstall field
** R
** data
** inst
** byte-compile and prepare package for lazy loading
** help
*** installing help indices
** building package indices
** installing vignettes
** testing if installed package can be loaded
* DONE (spatialDE)

Tests output

spatialDE.Rcheck/tests/testthat.Rout


R version 4.4.2 (2024-10-31) -- "Pile of Leaves"
Copyright (C) 2024 The R Foundation for Statistical Computing
Platform: x86_64-apple-darwin20

R is free software and comes with ABSOLUTELY NO WARRANTY.
You are welcome to redistribute it under certain conditions.
Type 'license()' or 'licence()' for distribution details.

R is a collaborative project with many contributors.
Type 'contributors()' for more information and
'citation()' on how to cite R or R packages in publications.

Type 'demo()' for some demos, 'help()' for on-line help, or
'help.start()' for an HTML browser interface to help.
Type 'q()' to quit R.

> library(testthat)
> library(spatialDE)
> 
> test_check("spatialDE")
Loading required package: SingleCellExperiment
Loading required package: SummarizedExperiment
Loading required package: MatrixGenerics
Loading required package: matrixStats

Attaching package: 'MatrixGenerics'

The following objects are masked from 'package:matrixStats':

    colAlls, colAnyNAs, colAnys, colAvgsPerRowSet, colCollapse,
    colCounts, colCummaxs, colCummins, colCumprods, colCumsums,
    colDiffs, colIQRDiffs, colIQRs, colLogSumExps, colMadDiffs,
    colMads, colMaxs, colMeans2, colMedians, colMins, colOrderStats,
    colProds, colQuantiles, colRanges, colRanks, colSdDiffs, colSds,
    colSums2, colTabulates, colVarDiffs, colVars, colWeightedMads,
    colWeightedMeans, colWeightedMedians, colWeightedSds,
    colWeightedVars, rowAlls, rowAnyNAs, rowAnys, rowAvgsPerColSet,
    rowCollapse, rowCounts, rowCummaxs, rowCummins, rowCumprods,
    rowCumsums, rowDiffs, rowIQRDiffs, rowIQRs, rowLogSumExps,
    rowMadDiffs, rowMads, rowMaxs, rowMeans2, rowMedians, rowMins,
    rowOrderStats, rowProds, rowQuantiles, rowRanges, rowRanks,
    rowSdDiffs, rowSds, rowSums2, rowTabulates, rowVarDiffs, rowVars,
    rowWeightedMads, rowWeightedMeans, rowWeightedMedians,
    rowWeightedSds, rowWeightedVars

Loading required package: GenomicRanges
Loading required package: stats4
Loading required package: BiocGenerics

Attaching package: 'BiocGenerics'

The following objects are masked from 'package:stats':

    IQR, mad, sd, var, xtabs

The following objects are masked from 'package:base':

    Filter, Find, Map, Position, Reduce, anyDuplicated, aperm, append,
    as.data.frame, basename, cbind, colnames, dirname, do.call,
    duplicated, eval, evalq, get, grep, grepl, intersect, is.unsorted,
    lapply, mapply, match, mget, order, paste, pmax, pmax.int, pmin,
    pmin.int, rank, rbind, rownames, sapply, saveRDS, setdiff, table,
    tapply, union, unique, unsplit, which.max, which.min

Loading required package: S4Vectors

Attaching package: 'S4Vectors'

The following object is masked from 'package:utils':

    findMatches

The following objects are masked from 'package:base':

    I, expand.grid, unname

Loading required package: IRanges
Loading required package: GenomeInfoDb
Loading required package: Biobase
Welcome to Bioconductor

    Vignettes contain introductory material; view with
    'browseVignettes()'. To cite Bioconductor, see
    'citation("Biobase")', and for packages 'citation("pkgname")'.


Attaching package: 'Biobase'

The following object is masked from 'package:MatrixGenerics':

    rowMedians

The following objects are masked from 'package:matrixStats':

    anyMissing, rowMedians


Models:   0%|          | 0/10 [00:00<?, ?it/s]

  0%|          | 0/100 [00:00<?, ?it/s]

 11%|█         | 11/100 [00:00<00:00, 101.67it/s]

 22%|██▏       | 22/100 [00:00<00:00, 99.25it/s] 

 35%|███▌      | 35/100 [00:00<00:00, 108.22it/s]

 46%|████▌     | 46/100 [00:00<00:00, 102.19it/s]

 59%|█████▉    | 59/100 [00:00<00:00, 110.05it/s]

 71%|███████   | 71/100 [00:00<00:00, 112.15it/s]

 84%|████████▍ | 84/100 [00:00<00:00, 115.24it/s]

 97%|█████████▋| 97/100 [00:00<00:00, 117.62it/s]

                                                 
Models:  10%|█         | 1/10 [00:00<00:08,  1.12it/s]

  0%|          | 0/100 [00:00<?, ?it/s]

 12%|█▏        | 12/100 [00:00<00:00, 110.23it/s]

 24%|██▍       | 24/100 [00:00<00:00, 94.37it/s] 

 34%|███▍      | 34/100 [00:00<00:00, 93.38it/s]

 44%|████▍     | 44/100 [00:00<00:00, 83.48it/s]

 54%|█████▍    | 54/100 [00:00<00:00, 86.20it/s]

 64%|██████▍   | 64/100 [00:00<00:00, 89.18it/s]

 76%|███████▌  | 76/100 [00:00<00:00, 95.41it/s]

 86%|████████▌ | 86/100 [00:00<00:00, 93.35it/s]

 96%|█████████▌| 96/100 [00:01<00:00, 91.26it/s]

                                                
Models:  20%|██        | 2/10 [00:02<00:08,  1.02s/it]

  0%|          | 0/100 [00:00<?, ?it/s]

 10%|█         | 10/100 [00:00<00:00, 93.38it/s]

 20%|██        | 20/100 [00:00<00:00, 81.87it/s]

 29%|██▉       | 29/100 [00:00<00:00, 81.07it/s]

 38%|███▊      | 38/100 [00:00<00:00, 79.49it/s]

 46%|████▌     | 46/100 [00:00<00:00, 77.17it/s]

 55%|█████▌    | 55/100 [00:00<00:00, 80.56it/s]

 64%|██████▍   | 64/100 [00:00<00:00, 80.02it/s]

 73%|███████▎  | 73/100 [00:00<00:00, 82.77it/s]

 82%|████████▏ | 82/100 [00:01<00:00, 78.81it/s]

 91%|█████████ | 91/100 [00:01<00:00, 79.50it/s]

 99%|█████████▉| 99/100 [00:01<00:00, 77.53it/s]

                                                
Models:  30%|███       | 3/10 [00:03<00:07,  1.13s/it]

  0%|          | 0/100 [00:00<?, ?it/s]

  8%|▊         | 8/100 [00:00<00:01, 74.77it/s]

 16%|█▌        | 16/100 [00:00<00:01, 72.09it/s]

 24%|██▍       | 24/100 [00:00<00:01, 74.82it/s]

 32%|███▏      | 32/100 [00:00<00:00, 75.98it/s]

 40%|████      | 40/100 [00:00<00:00, 72.97it/s]

 48%|████▊     | 48/100 [00:00<00:00, 71.15it/s]

 57%|█████▋    | 57/100 [00:00<00:00, 76.07it/s]

 65%|██████▌   | 65/100 [00:00<00:00, 74.52it/s]

 73%|███████▎  | 73/100 [00:00<00:00, 75.44it/s]

 82%|████████▏ | 82/100 [00:01<00:00, 77.72it/s]

 90%|█████████ | 90/100 [00:01<00:00, 77.48it/s]

 98%|█████████▊| 98/100 [00:01<00:00, 75.50it/s]

                                                
Models:  40%|████      | 4/10 [00:04<00:07,  1.21s/it]

  0%|          | 0/100 [00:00<?, ?it/s]

  8%|▊         | 8/100 [00:00<00:01, 75.97it/s]

 16%|█▌        | 16/100 [00:00<00:01, 74.12it/s]

 24%|██▍       | 24/100 [00:00<00:01, 72.99it/s]

 32%|███▏      | 32/100 [00:00<00:00, 72.46it/s]

 40%|████      | 40/100 [00:00<00:00, 70.66it/s]

 48%|████▊     | 48/100 [00:00<00:00, 71.37it/s]

 56%|█████▌    | 56/100 [00:00<00:00, 71.82it/s]

 64%|██████▍   | 64/100 [00:00<00:00, 72.59it/s]

 73%|███████▎  | 73/100 [00:00<00:00, 76.55it/s]

 81%|████████  | 81/100 [00:01<00:00, 77.48it/s]

 89%|████████▉ | 89/100 [00:01<00:00, 77.81it/s]

 97%|█████████▋| 97/100 [00:01<00:00, 74.74it/s]

                                                
Models:  50%|█████     | 5/10 [00:05<00:06,  1.27s/it]

  0%|          | 0/100 [00:00<?, ?it/s]

  8%|▊         | 8/100 [00:00<00:01, 70.15it/s]

 16%|█▌        | 16/100 [00:00<00:01, 71.13it/s]

 24%|██▍       | 24/100 [00:00<00:01, 72.51it/s]

 32%|███▏      | 32/100 [00:00<00:00, 75.23it/s]

 40%|████      | 40/100 [00:00<00:00, 72.85it/s]

 48%|████▊     | 48/100 [00:00<00:00, 72.25it/s]

 57%|█████▋    | 57/100 [00:00<00:00, 74.58it/s]

 66%|██████▌   | 66/100 [00:00<00:00, 75.85it/s]

 75%|███████▌  | 75/100 [00:01<00:00, 77.11it/s]

 83%|████████▎ | 83/100 [00:01<00:00, 76.79it/s]

 92%|█████████▏| 92/100 [00:01<00:00, 78.43it/s]

100%|██████████| 100/100 [00:01<00:00, 77.17it/s]

                                                 
Models:  60%|██████    | 6/10 [00:07<00:05,  1.29s/it]

  0%|          | 0/100 [00:00<?, ?it/s]

  8%|▊         | 8/100 [00:00<00:01, 75.65it/s]

 16%|█▌        | 16/100 [00:00<00:01, 74.71it/s]

 25%|██▌       | 25/100 [00:00<00:00, 80.27it/s]

 34%|███▍      | 34/100 [00:00<00:00, 78.60it/s]

 42%|████▏     | 42/100 [00:00<00:00, 75.87it/s]

 50%|█████     | 50/100 [00:00<00:00, 76.26it/s]

 58%|█████▊    | 58/100 [00:00<00:00, 76.60it/s]

 67%|██████▋   | 67/100 [00:00<00:00, 79.82it/s]

 75%|███████▌  | 75/100 [00:00<00:00, 79.01it/s]

 84%|████████▍ | 84/100 [00:01<00:00, 80.95it/s]

 93%|█████████▎| 93/100 [00:01<00:00, 78.16it/s]

                                                
Models:  70%|███████   | 7/10 [00:08<00:03,  1.29s/it]

  0%|          | 0/100 [00:00<?, ?it/s]

  8%|▊         | 8/100 [00:00<00:01, 72.56it/s]

 16%|█▌        | 16/100 [00:00<00:01, 73.09it/s]

 25%|██▌       | 25/100 [00:00<00:00, 76.11it/s]

 33%|███▎      | 33/100 [00:00<00:00, 75.48it/s]

 41%|████      | 41/100 [00:00<00:00, 75.63it/s]

 49%|████▉     | 49/100 [00:00<00:00, 74.89it/s]

 57%|█████▋    | 57/100 [00:00<00:00, 75.78it/s]

 65%|██████▌   | 65/100 [00:00<00:00, 76.91it/s]

 73%|███████▎  | 73/100 [00:00<00:00, 77.07it/s]

 82%|████████▏ | 82/100 [00:01<00:00, 77.89it/s]

 90%|█████████ | 90/100 [00:01<00:00, 77.28it/s]

 98%|█████████▊| 98/100 [00:01<00:00, 76.63it/s]

                                                
Models:  80%|████████  | 8/10 [00:09<00:02,  1.30s/it]

  0%|          | 0/100 [00:00<?, ?it/s]

  8%|▊         | 8/100 [00:00<00:01, 73.80it/s]

 16%|█▌        | 16/100 [00:00<00:01, 68.82it/s]

 24%|██▍       | 24/100 [00:00<00:01, 73.30it/s]

 32%|███▏      | 32/100 [00:00<00:00, 73.37it/s]

 40%|████      | 40/100 [00:00<00:00, 73.55it/s]

 48%|████▊     | 48/100 [00:00<00:00, 74.59it/s]

 57%|█████▋    | 57/100 [00:00<00:00, 78.03it/s]

 66%|██████▌   | 66/100 [00:00<00:00, 79.22it/s]

 74%|███████▍  | 74/100 [00:01<00:00, 67.37it/s]

 82%|████████▏ | 82/100 [00:01<00:00, 69.79it/s]

 90%|█████████ | 90/100 [00:01<00:00, 72.41it/s]

 98%|█████████▊| 98/100 [00:01<00:00, 72.50it/s]

                                                
Models:  90%|█████████ | 9/10 [00:11<00:01,  1.32s/it]

  0%|          | 0/100 [00:00<?, ?it/s]

  9%|▉         | 9/100 [00:00<00:01, 82.58it/s]

 18%|█▊        | 18/100 [00:00<00:01, 79.03it/s]

 26%|██▌       | 26/100 [00:00<00:00, 77.10it/s]

 34%|███▍      | 34/100 [00:00<00:00, 66.77it/s]

 41%|████      | 41/100 [00:00<00:00, 63.51it/s]

 50%|█████     | 50/100 [00:00<00:00, 70.28it/s]

 59%|█████▉    | 59/100 [00:00<00:00, 75.01it/s]

 68%|██████▊   | 68/100 [00:00<00:00, 77.16it/s]

 76%|███████▌  | 76/100 [00:01<00:00, 77.40it/s]

 85%|████████▌ | 85/100 [00:01<00:00, 78.08it/s]

 93%|█████████▎| 93/100 [00:01<00:00, 78.42it/s]

                                                
Models: 100%|██████████| 10/10 [00:12<00:00,  1.33s/it]
Models: 100%|██████████| 10/10 [00:12<00:00,  1.26s/it]

Models:   0%|          | 0/10 [00:00<?, ?it/s]

  0%|          | 0/100 [00:00<?, ?it/s]

  9%|▉         | 9/100 [00:00<00:01, 88.11it/s]

 19%|█▉        | 19/100 [00:00<00:00, 93.71it/s]

 29%|██▉       | 29/100 [00:00<00:00, 94.89it/s]

 39%|███▉      | 39/100 [00:00<00:00, 95.67it/s]

 50%|█████     | 50/100 [00:00<00:00, 98.41it/s]

 62%|██████▏   | 62/100 [00:00<00:00, 105.00it/s]

 75%|███████▌  | 75/100 [00:00<00:00, 112.18it/s]

 90%|█████████ | 90/100 [00:00<00:00, 121.37it/s]

                                                 
Models:  10%|█         | 1/10 [00:00<00:08,  1.09it/s]

  0%|          | 0/100 [00:00<?, ?it/s]

 12%|█▏        | 12/100 [00:00<00:00, 114.11it/s]

 24%|██▍       | 24/100 [00:00<00:00, 107.52it/s]

 35%|███▌      | 35/100 [00:00<00:00, 97.30it/s] 

 45%|████▌     | 45/100 [00:00<00:00, 91.12it/s]

 55%|█████▌    | 55/100 [00:00<00:00, 86.32it/s]

 64%|██████▍   | 64/100 [00:00<00:00, 84.38it/s]

 74%|███████▍  | 74/100 [00:00<00:00, 87.62it/s]

 85%|████████▌ | 85/100 [00:00<00:00, 90.98it/s]

 95%|█████████▌| 95/100 [00:01<00:00, 87.25it/s]

                                                
Models:  20%|██        | 2/10 [00:02<00:08,  1.04s/it]

  0%|          | 0/100 [00:00<?, ?it/s]

 11%|█         | 11/100 [00:00<00:00, 103.35it/s]

 22%|██▏       | 22/100 [00:00<00:00, 97.15it/s] 

 32%|███▏      | 32/100 [00:00<00:00, 85.17it/s]

 41%|████      | 41/100 [00:00<00:00, 81.50it/s]

 50%|█████     | 50/100 [00:00<00:00, 80.53it/s]

 59%|█████▉    | 59/100 [00:00<00:00, 80.53it/s]

 68%|██████▊   | 68/100 [00:00<00:00, 79.38it/s]

 77%|███████▋  | 77/100 [00:00<00:00, 80.38it/s]

 86%|████████▌ | 86/100 [00:01<00:00, 72.76it/s]

 94%|█████████▍| 94/100 [00:01<00:00, 69.82it/s]

                                                
Models:  30%|███       | 3/10 [00:03<00:08,  1.15s/it]

  0%|          | 0/100 [00:00<?, ?it/s]

 12%|█▏        | 12/100 [00:00<00:00, 108.11it/s]

 23%|██▎       | 23/100 [00:00<00:00, 95.31it/s] 

 33%|███▎      | 33/100 [00:00<00:00, 82.36it/s]

 42%|████▏     | 42/100 [00:00<00:00, 80.60it/s]

 51%|█████     | 51/100 [00:00<00:00, 78.86it/s]

 60%|██████    | 60/100 [00:00<00:00, 79.67it/s]

 69%|██████▉   | 69/100 [00:00<00:00, 80.66it/s]

 78%|███████▊  | 78/100 [00:00<00:00, 78.58it/s]

 87%|████████▋ | 87/100 [00:01<00:00, 80.71it/s]

 96%|█████████▌| 96/100 [00:01<00:00, 78.87it/s]

                                                
Models:  40%|████      | 4/10 [00:04<00:07,  1.19s/it]

  0%|          | 0/100 [00:00<?, ?it/s]

 12%|█▏        | 12/100 [00:00<00:00, 114.22it/s]

 24%|██▍       | 24/100 [00:00<00:00, 94.11it/s] 

 34%|███▍      | 34/100 [00:00<00:00, 83.64it/s]

 43%|████▎     | 43/100 [00:00<00:00, 83.22it/s]

 52%|█████▏    | 52/100 [00:00<00:00, 82.20it/s]

 61%|██████    | 61/100 [00:00<00:00, 79.31it/s]

 69%|██████▉   | 69/100 [00:00<00:00, 76.33it/s]

 77%|███████▋  | 77/100 [00:00<00:00, 75.74it/s]

 85%|████████▌ | 85/100 [00:01<00:00, 75.48it/s]

 93%|█████████▎| 93/100 [00:01<00:00, 74.97it/s]

                                                
Models:  50%|█████     | 5/10 [00:05<00:06,  1.21s/it]

  0%|          | 0/100 [00:00<?, ?it/s]

 12%|█▏        | 12/100 [00:00<00:00, 114.22it/s]

 24%|██▍       | 24/100 [00:00<00:00, 95.41it/s] 

 34%|███▍      | 34/100 [00:00<00:00, 85.96it/s]

 43%|████▎     | 43/100 [00:00<00:00, 82.61it/s]

 52%|█████▏    | 52/100 [00:00<00:00, 83.10it/s]

 61%|██████    | 61/100 [00:00<00:00, 79.69it/s]

 70%|███████   | 70/100 [00:00<00:00, 78.90it/s]

 78%|███████▊  | 78/100 [00:00<00:00, 76.87it/s]

 87%|████████▋ | 87/100 [00:01<00:00, 77.55it/s]

 96%|█████████▌| 96/100 [00:01<00:00, 80.04it/s]

                                                
Models:  60%|██████    | 6/10 [00:07<00:04,  1.22s/it]

  0%|          | 0/100 [00:00<?, ?it/s]

 11%|█         | 11/100 [00:00<00:00, 106.35it/s]

 22%|██▏       | 22/100 [00:00<00:00, 90.82it/s] 

 32%|███▏      | 32/100 [00:00<00:00, 79.71it/s]

 41%|████      | 41/100 [00:00<00:00, 77.01it/s]

 51%|█████     | 51/100 [00:00<00:00, 81.16it/s]

 60%|██████    | 60/100 [00:00<00:00, 81.43it/s]

 69%|██████▉   | 69/100 [00:00<00:00, 81.94it/s]

 78%|███████▊  | 78/100 [00:00<00:00, 82.36it/s]

 87%|████████▋ | 87/100 [00:01<00:00, 80.68it/s]

 96%|█████████▌| 96/100 [00:01<00:00, 81.44it/s]

                                                
Models:  70%|███████   | 7/10 [00:08<00:03,  1.22s/it]

  0%|          | 0/100 [00:00<?, ?it/s]

 11%|█         | 11/100 [00:00<00:00, 100.64it/s]

 22%|██▏       | 22/100 [00:00<00:00, 89.24it/s] 

 32%|███▏      | 32/100 [00:00<00:00, 81.28it/s]

 41%|████      | 41/100 [00:00<00:00, 79.94it/s]

 50%|█████     | 50/100 [00:00<00:00, 80.56it/s]

 59%|█████▉    | 59/100 [00:00<00:00, 80.02it/s]

 68%|██████▊   | 68/100 [00:00<00:00, 81.50it/s]

 77%|███████▋  | 77/100 [00:00<00:00, 79.80it/s]

 86%|████████▌ | 86/100 [00:01<00:00, 78.94it/s]

 95%|█████████▌| 95/100 [00:01<00:00, 81.45it/s]

                                                
Models:  80%|████████  | 8/10 [00:09<00:02,  1.22s/it]

  0%|          | 0/100 [00:00<?, ?it/s]

 12%|█▏        | 12/100 [00:00<00:00, 118.67it/s]

 24%|██▍       | 24/100 [00:00<00:00, 93.70it/s] 

 34%|███▍      | 34/100 [00:00<00:00, 86.69it/s]

 43%|████▎     | 43/100 [00:00<00:00, 83.46it/s]

 52%|█████▏    | 52/100 [00:00<00:00, 82.79it/s]

 61%|██████    | 61/100 [00:00<00:00, 82.02it/s]

 70%|███████   | 70/100 [00:00<00:00, 80.57it/s]

 79%|███████▉  | 79/100 [00:00<00:00, 82.76it/s]

 88%|████████▊ | 88/100 [00:01<00:00, 83.74it/s]

 97%|█████████▋| 97/100 [00:01<00:00, 83.97it/s]

                                                
Models:  90%|█████████ | 9/10 [00:10<00:01,  1.21s/it]

  0%|          | 0/100 [00:00<?, ?it/s]

 11%|█         | 11/100 [00:00<00:00, 104.17it/s]

 22%|██▏       | 22/100 [00:00<00:00, 94.61it/s] 

 32%|███▏      | 32/100 [00:00<00:00, 87.05it/s]

 41%|████      | 41/100 [00:00<00:00, 83.01it/s]

 50%|█████     | 50/100 [00:00<00:00, 84.13it/s]

 59%|█████▉    | 59/100 [00:00<00:00, 83.77it/s]

 68%|██████▊   | 68/100 [00:00<00:00, 85.23it/s]

 77%|███████▋  | 77/100 [00:00<00:00, 86.33it/s]

 86%|████████▌ | 86/100 [00:01<00:00, 84.16it/s]

 96%|█████████▌| 96/100 [00:01<00:00, 86.14it/s]

                                                
Models: 100%|██████████| 10/10 [00:11<00:00,  1.20s/it]
Models: 100%|██████████| 10/10 [00:11<00:00,  1.19s/it]
/Users/biocbuild/Library/Caches/org.R-project.R/R/basilisk/1.18.0/spatialDE/1.12.0/env/lib/python3.10/site-packages/pandas/core/internals/blocks.py:351: RuntimeWarning: invalid value encountered in log
  result = func(self.values, **kwargs)

Models:   0%|          | 0/10 [00:00<?, ?it/s]

  0%|          | 0/100 [00:00<?, ?it/s]

 15%|█▌        | 15/100 [00:00<00:00, 142.81it/s]

 30%|███       | 30/100 [00:00<00:00, 117.53it/s]

 43%|████▎     | 43/100 [00:00<00:00, 111.64it/s]

 57%|█████▋    | 57/100 [00:00<00:00, 119.57it/s]

 70%|███████   | 70/100 [00:00<00:00, 119.85it/s]

 84%|████████▍ | 84/100 [00:00<00:00, 124.48it/s]

 98%|█████████▊| 98/100 [00:00<00:00, 126.68it/s]

                                                 
Models:  10%|█         | 1/10 [00:00<00:07,  1.22it/s]

  0%|          | 0/100 [00:00<?, ?it/s]

 12%|█▏        | 12/100 [00:00<00:00, 114.22it/s]

 24%|██▍       | 24/100 [00:00<00:00, 97.05it/s] 

 34%|███▍      | 34/100 [00:00<00:00, 95.58it/s]

 44%|████▍     | 44/100 [00:00<00:00, 89.84it/s]

 54%|█████▍    | 54/100 [00:00<00:00, 88.72it/s]

 63%|██████▎   | 63/100 [00:00<00:00, 88.40it/s]

 73%|███████▎  | 73/100 [00:00<00:00, 90.97it/s]

 83%|████████▎ | 83/100 [00:00<00:00, 89.28it/s]

 93%|█████████▎| 93/100 [00:01<00:00, 91.39it/s]

                                                
Models:  20%|██        | 2/10 [00:01<00:07,  1.03it/s]

  0%|          | 0/100 [00:00<?, ?it/s]

 11%|█         | 11/100 [00:00<00:00, 106.03it/s]

 22%|██▏       | 22/100 [00:00<00:00, 92.13it/s] 

 32%|███▏      | 32/100 [00:00<00:00, 84.67it/s]

 41%|████      | 41/100 [00:00<00:00, 82.01it/s]

 50%|█████     | 50/100 [00:00<00:00, 81.32it/s]

 59%|█████▉    | 59/100 [00:00<00:00, 79.37it/s]

 69%|██████▉   | 69/100 [00:00<00:00, 83.20it/s]

 78%|███████▊  | 78/100 [00:00<00:00, 80.42it/s]

 87%|████████▋ | 87/100 [00:01<00:00, 80.73it/s]

 96%|█████████▌| 96/100 [00:01<00:00, 82.15it/s]

                                                
Models:  30%|███       | 3/10 [00:03<00:07,  1.08s/it]

  0%|          | 0/100 [00:00<?, ?it/s]

 11%|█         | 11/100 [00:00<00:00, 109.11it/s]

 22%|██▏       | 22/100 [00:00<00:00, 89.73it/s] 

 32%|███▏      | 32/100 [00:00<00:00, 84.14it/s]

 41%|████      | 41/100 [00:00<00:00, 81.29it/s]

 50%|█████     | 50/100 [00:00<00:00, 79.13it/s]

 58%|█████▊    | 58/100 [00:00<00:00, 77.80it/s]

 67%|██████▋   | 67/100 [00:00<00:00, 80.10it/s]

 76%|███████▌  | 76/100 [00:00<00:00, 79.61it/s]

 84%|████████▍ | 84/100 [00:01<00:00, 77.46it/s]

 93%|█████████▎| 93/100 [00:01<00:00, 80.45it/s]

                                                
Models:  40%|████      | 4/10 [00:04<00:06,  1.14s/it]

  0%|          | 0/100 [00:00<?, ?it/s]

 11%|█         | 11/100 [00:00<00:00, 109.53it/s]

 22%|██▏       | 22/100 [00:00<00:00, 86.22it/s] 

 31%|███       | 31/100 [00:00<00:00, 84.75it/s]

 40%|████      | 40/100 [00:00<00:00, 81.12it/s]

 49%|████▉     | 49/100 [00:00<00:00, 81.83it/s]

 58%|█████▊    | 58/100 [00:00<00:00, 80.06it/s]

 67%|██████▋   | 67/100 [00:00<00:00, 81.52it/s]

 76%|███████▌  | 76/100 [00:00<00:00, 77.93it/s]

 84%|████████▍ | 84/100 [00:01<00:00, 77.66it/s]

 93%|█████████▎| 93/100 [00:01<00:00, 78.98it/s]

                                                
Models:  50%|█████     | 5/10 [00:05<00:05,  1.17s/it]

  0%|          | 0/100 [00:00<?, ?it/s]

 11%|█         | 11/100 [00:00<00:00, 101.84it/s]

 22%|██▏       | 22/100 [00:00<00:00, 85.01it/s] 

 31%|███       | 31/100 [00:00<00:00, 80.40it/s]

 40%|████      | 40/100 [00:00<00:00, 77.25it/s]

 48%|████▊     | 48/100 [00:00<00:00, 77.95it/s]

 56%|█████▌    | 56/100 [00:00<00:00, 76.67it/s]

 64%|██████▍   | 64/100 [00:00<00:00, 77.49it/s]

 72%|███████▏  | 72/100 [00:00<00:00, 76.91it/s]

 80%|████████  | 80/100 [00:01<00:00, 76.06it/s]

 88%|████████▊ | 88/100 [00:01<00:00, 76.72it/s]

 97%|█████████▋| 97/100 [00:01<00:00, 79.74it/s]

                                                
Models:  60%|██████    | 6/10 [00:06<00:04,  1.21s/it]

  0%|          | 0/100 [00:00<?, ?it/s]

 11%|█         | 11/100 [00:00<00:00, 101.29it/s]

 22%|██▏       | 22/100 [00:00<00:00, 88.59it/s] 

 31%|███       | 31/100 [00:00<00:00, 85.33it/s]

 40%|████      | 40/100 [00:00<00:00, 86.65it/s]

 49%|████▉     | 49/100 [00:00<00:00, 84.03it/s]

 58%|█████▊    | 58/100 [00:00<00:00, 82.71it/s]

 67%|██████▋   | 67/100 [00:00<00:00, 83.59it/s]

 76%|███████▌  | 76/100 [00:00<00:00, 81.95it/s]

 85%|████████▌ | 85/100 [00:01<00:00, 81.95it/s]

 94%|█████████▍| 94/100 [00:01<00:00, 83.46it/s]

                                                
Models:  70%|███████   | 7/10 [00:08<00:03,  1.20s/it]

  0%|          | 0/100 [00:00<?, ?it/s]

 11%|█         | 11/100 [00:00<00:00, 107.38it/s]

 22%|██▏       | 22/100 [00:00<00:00, 93.30it/s] 

 32%|███▏      | 32/100 [00:00<00:00, 87.03it/s]

 41%|████      | 41/100 [00:00<00:00, 84.90it/s]

 50%|█████     | 50/100 [00:00<00:00, 83.43it/s]

 59%|█████▉    | 59/100 [00:00<00:00, 80.16it/s]

 68%|██████▊   | 68/100 [00:00<00:00, 81.26it/s]

 77%|███████▋  | 77/100 [00:00<00:00, 80.62it/s]

 86%|████████▌ | 86/100 [00:01<00:00, 80.80it/s]

 95%|█████████▌| 95/100 [00:01<00:00, 82.74it/s]

                                                
Models:  80%|████████  | 8/10 [00:09<00:02,  1.20s/it]

  0%|          | 0/100 [00:00<?, ?it/s]

 12%|█▏        | 12/100 [00:00<00:00, 116.47it/s]

 24%|██▍       | 24/100 [00:00<00:00, 94.51it/s] 

 34%|███▍      | 34/100 [00:00<00:00, 88.81it/s]

 44%|████▍     | 44/100 [00:00<00:00, 86.06it/s]

 53%|█████▎    | 53/100 [00:00<00:00, 85.32it/s]

 62%|██████▏   | 62/100 [00:00<00:00, 84.57it/s]

 71%|███████   | 71/100 [00:00<00:00, 85.09it/s]

 80%|████████  | 80/100 [00:00<00:00, 83.54it/s]

 89%|████████▉ | 89/100 [00:01<00:00, 84.61it/s]

 98%|█████████▊| 98/100 [00:01<00:00, 84.75it/s]

                                                
Models:  90%|█████████ | 9/10 [00:10<00:01,  1.19s/it]

  0%|          | 0/100 [00:00<?, ?it/s]

 10%|█         | 10/100 [00:00<00:00, 96.40it/s]

 21%|██        | 21/100 [00:00<00:00, 99.54it/s]

 31%|███       | 31/100 [00:00<00:00, 97.84it/s]

 41%|████      | 41/100 [00:00<00:00, 97.57it/s]

 51%|█████     | 51/100 [00:00<00:00, 97.07it/s]

 61%|██████    | 61/100 [00:00<00:00, 93.60it/s]

 71%|███████   | 71/100 [00:00<00:00, 92.74it/s]

 81%|████████  | 81/100 [00:00<00:00, 92.53it/s]

 91%|█████████ | 91/100 [00:00<00:00, 93.13it/s]

                                                
Models: 100%|██████████| 10/10 [00:11<00:00,  1.15s/it]
Models: 100%|██████████| 10/10 [00:11<00:00,  1.15s/it]

Models:   0%|          | 0/10 [00:00<?, ?it/s]

  0%|          | 0/100 [00:00<?, ?it/s]

 14%|█▍        | 14/100 [00:00<00:00, 136.66it/s]

 28%|██▊       | 28/100 [00:00<00:00, 113.94it/s]

 40%|████      | 40/100 [00:00<00:00, 112.26it/s]

 53%|█████▎    | 53/100 [00:00<00:00, 117.95it/s]

 66%|██████▌   | 66/100 [00:00<00:00, 119.74it/s]

 79%|███████▉  | 79/100 [00:00<00:00, 119.57it/s]

 93%|█████████▎| 93/100 [00:00<00:00, 125.69it/s]

                                                 
Models:  10%|█         | 1/10 [00:00<00:07,  1.20it/s]

  0%|          | 0/100 [00:00<?, ?it/s]

 12%|█▏        | 12/100 [00:00<00:00, 116.76it/s]

 24%|██▍       | 24/100 [00:00<00:00, 99.91it/s] 

 35%|███▌      | 35/100 [00:00<00:00, 95.65it/s]

 46%|████▌     | 46/100 [00:00<00:00, 96.83it/s]

 56%|█████▌    | 56/100 [00:00<00:00, 92.52it/s]

 66%|██████▌   | 66/100 [00:00<00:00, 91.79it/s]

 76%|███████▌  | 76/100 [00:00<00:00, 89.24it/s]

 85%|████████▌ | 85/100 [00:00<00:00, 89.40it/s]

 95%|█████████▌| 95/100 [00:01<00:00, 90.58it/s]

                                                
Models:  20%|██        | 2/10 [00:01<00:07,  1.02it/s]

  0%|          | 0/100 [00:00<?, ?it/s]

 11%|█         | 11/100 [00:00<00:00, 107.07it/s]

 22%|██▏       | 22/100 [00:00<00:00, 89.73it/s] 

 32%|███▏      | 32/100 [00:00<00:00, 85.77it/s]

 41%|████      | 41/100 [00:00<00:00, 82.45it/s]

 50%|█████     | 50/100 [00:00<00:00, 82.21it/s]

 59%|█████▉    | 59/100 [00:00<00:00, 82.05it/s]

 69%|██████▉   | 69/100 [00:00<00:00, 85.19it/s]

 78%|███████▊  | 78/100 [00:00<00:00, 72.15it/s]

 87%|████████▋ | 87/100 [00:01<00:00, 74.72it/s]

 96%|█████████▌| 96/100 [00:01<00:00, 78.58it/s]

                                                
Models:  30%|███       | 3/10 [00:03<00:07,  1.10s/it]

  0%|          | 0/100 [00:00<?, ?it/s]

 11%|█         | 11/100 [00:00<00:00, 105.46it/s]

 22%|██▏       | 22/100 [00:00<00:00, 85.19it/s] 

 31%|███       | 31/100 [00:00<00:00, 83.64it/s]

 40%|████      | 40/100 [00:00<00:00, 78.45it/s]

 49%|████▉     | 49/100 [00:00<00:00, 80.10it/s]

 58%|█████▊    | 58/100 [00:00<00:00, 77.91it/s]

 67%|██████▋   | 67/100 [00:00<00:00, 80.47it/s]

 76%|███████▌  | 76/100 [00:00<00:00, 79.52it/s]

 84%|████████▍ | 84/100 [00:01<00:00, 77.23it/s]

 92%|█████████▏| 92/100 [00:01<00:00, 77.06it/s]

                                                
Models:  40%|████      | 4/10 [00:04<00:06,  1.16s/it]

  0%|          | 0/100 [00:00<?, ?it/s]

 13%|█▎        | 13/100 [00:00<00:00, 116.37it/s]

 25%|██▌       | 25/100 [00:00<00:00, 86.61it/s] 

 35%|███▌      | 35/100 [00:00<00:00, 87.16it/s]

 44%|████▍     | 44/100 [00:00<00:00, 85.07it/s]

 53%|█████▎    | 53/100 [00:00<00:00, 83.40it/s]

 62%|██████▏   | 62/100 [00:00<00:00, 84.20it/s]

 71%|███████   | 71/100 [00:00<00:00, 83.29it/s]

 80%|████████  | 80/100 [00:00<00:00, 85.05it/s]

 89%|████████▉ | 89/100 [00:01<00:00, 82.73it/s]

 99%|█████████▉| 99/100 [00:01<00:00, 85.16it/s]

                                                
Models:  50%|█████     | 5/10 [00:05<00:05,  1.17s/it]

  0%|          | 0/100 [00:00<?, ?it/s]

 11%|█         | 11/100 [00:00<00:00, 101.97it/s]

 22%|██▏       | 22/100 [00:00<00:00, 85.61it/s] 

 31%|███       | 31/100 [00:00<00:00, 78.92it/s]

 39%|███▉      | 39/100 [00:00<00:00, 76.98it/s]

 47%|████▋     | 47/100 [00:00<00:00, 77.69it/s]

 55%|█████▌    | 55/100 [00:00<00:00, 77.55it/s]

 65%|██████▌   | 65/100 [00:00<00:00, 81.90it/s]

 74%|███████▍  | 74/100 [00:00<00:00, 80.43it/s]

 83%|████████▎ | 83/100 [00:01<00:00, 79.16it/s]

 92%|█████████▏| 92/100 [00:01<00:00, 82.06it/s]

                                                
Models:  60%|██████    | 6/10 [00:06<00:04,  1.19s/it]

  0%|          | 0/100 [00:00<?, ?it/s]

 12%|█▏        | 12/100 [00:00<00:00, 115.43it/s]

 24%|██▍       | 24/100 [00:00<00:00, 95.78it/s] 

 34%|███▍      | 34/100 [00:00<00:00, 87.95it/s]

 44%|████▍     | 44/100 [00:00<00:00, 89.71it/s]

 54%|█████▍    | 54/100 [00:00<00:00, 89.83it/s]

 64%|██████▍   | 64/100 [00:00<00:00, 91.03it/s]

 74%|███████▍  | 74/100 [00:00<00:00, 84.45it/s]

 83%|████████▎ | 83/100 [00:00<00:00, 85.09it/s]

 92%|█████████▏| 92/100 [00:01<00:00, 86.12it/s]

                                                
Models:  70%|███████   | 7/10 [00:07<00:03,  1.17s/it]

  0%|          | 0/100 [00:00<?, ?it/s]

 11%|█         | 11/100 [00:00<00:00, 105.48it/s]

 22%|██▏       | 22/100 [00:00<00:00, 89.19it/s] 

 32%|███▏      | 32/100 [00:00<00:00, 86.99it/s]

 41%|████      | 41/100 [00:00<00:00, 85.43it/s]

 50%|█████     | 50/100 [00:00<00:00, 84.15it/s]

 59%|█████▉    | 59/100 [00:00<00:00, 80.85it/s]

 68%|██████▊   | 68/100 [00:00<00:00, 80.92it/s]

 77%|███████▋  | 77/100 [00:00<00:00, 81.26it/s]

 87%|████████▋ | 87/100 [00:01<00:00, 84.52it/s]

 96%|█████████▌| 96/100 [00:01<00:00, 84.79it/s]

                                                
Models:  80%|████████  | 8/10 [00:09<00:02,  1.18s/it]

  0%|          | 0/100 [00:00<?, ?it/s]

 12%|█▏        | 12/100 [00:00<00:00, 111.96it/s]

 24%|██▍       | 24/100 [00:00<00:00, 90.50it/s] 

 34%|███▍      | 34/100 [00:00<00:00, 88.79it/s]

 44%|████▍     | 44/100 [00:00<00:00, 86.53it/s]

 53%|█████▎    | 53/100 [00:00<00:00, 84.63it/s]

 62%|██████▏   | 62/100 [00:00<00:00, 86.15it/s]

 71%|███████   | 71/100 [00:00<00:00, 84.30it/s]

 80%|████████  | 80/100 [00:00<00:00, 83.06it/s]

 89%|████████▉ | 89/100 [00:01<00:00, 83.48it/s]

 98%|█████████▊| 98/100 [00:01<00:00, 85.17it/s]

                                                
Models:  90%|█████████ | 9/10 [00:10<00:01,  1.17s/it]

  0%|          | 0/100 [00:00<?, ?it/s]

 10%|█         | 10/100 [00:00<00:00, 90.96it/s]

 20%|██        | 20/100 [00:00<00:00, 88.69it/s]

 30%|███       | 30/100 [00:00<00:00, 89.42it/s]

 40%|████      | 40/100 [00:00<00:00, 91.40it/s]

 50%|█████     | 50/100 [00:00<00:00, 93.75it/s]

 60%|██████    | 60/100 [00:00<00:00, 94.85it/s]

 70%|███████   | 70/100 [00:00<00:00, 93.40it/s]

 80%|████████  | 80/100 [00:00<00:00, 89.13it/s]

 90%|█████████ | 90/100 [00:00<00:00, 90.81it/s]

100%|██████████| 100/100 [00:01<00:00, 89.02it/s]

                                                 
Models: 100%|██████████| 10/10 [00:11<00:00,  1.15s/it]
Models: 100%|██████████| 10/10 [00:11<00:00,  1.14s/it]

Models:   0%|          | 0/10 [00:00<?, ?it/s]

  0%|          | 0/100 [00:00<?, ?it/s]

 14%|█▍        | 14/100 [00:00<00:00, 137.95it/s]

 28%|██▊       | 28/100 [00:00<00:00, 118.46it/s]

 41%|████      | 41/100 [00:00<00:00, 116.67it/s]

 54%|█████▍    | 54/100 [00:00<00:00, 119.94it/s]

 70%|███████   | 70/100 [00:00<00:00, 129.47it/s]

 84%|████████▍ | 84/100 [00:00<00:00, 127.18it/s]

 97%|█████████▋| 97/100 [00:00<00:00, 121.65it/s]

                                                 
Models:  10%|█         | 1/10 [00:00<00:07,  1.22it/s]

  0%|          | 0/100 [00:00<?, ?it/s]

 13%|█▎        | 13/100 [00:00<00:00, 128.56it/s]

 26%|██▌       | 26/100 [00:00<00:00, 96.32it/s] 

 37%|███▋      | 37/100 [00:00<00:00, 96.96it/s]

 47%|████▋     | 47/100 [00:00<00:00, 93.77it/s]

 57%|█████▋    | 57/100 [00:00<00:00, 94.71it/s]

 67%|██████▋   | 67/100 [00:00<00:00, 95.22it/s]

 77%|███████▋  | 77/100 [00:00<00:00, 91.77it/s]

 87%|████████▋ | 87/100 [00:00<00:00, 90.49it/s]

 97%|█████████▋| 97/100 [00:01<00:00, 90.10it/s]

                                                
Models:  20%|██        | 2/10 [00:01<00:07,  1.03it/s]

  0%|          | 0/100 [00:00<?, ?it/s]

 13%|█▎        | 13/100 [00:00<00:00, 118.48it/s]

 25%|██▌       | 25/100 [00:00<00:00, 91.33it/s] 

 35%|███▌      | 35/100 [00:00<00:00, 88.01it/s]

 44%|████▍     | 44/100 [00:00<00:00, 86.66it/s]

 53%|█████▎    | 53/100 [00:00<00:00, 86.79it/s]

 62%|██████▏   | 62/100 [00:00<00:00, 86.83it/s]

 71%|███████   | 71/100 [00:00<00:00, 85.79it/s]

 80%|████████  | 80/100 [00:00<00:00, 86.53it/s]

 89%|████████▉ | 89/100 [00:01<00:00, 84.73it/s]

 99%|█████████▉| 99/100 [00:01<00:00, 87.09it/s]

                                                
Models:  30%|███       | 3/10 [00:03<00:07,  1.05s/it]

  0%|          | 0/100 [00:00<?, ?it/s]

 11%|█         | 11/100 [00:00<00:00, 107.70it/s]

 22%|██▏       | 22/100 [00:00<00:00, 88.75it/s] 

 32%|███▏      | 32/100 [00:00<00:00, 85.02it/s]

 41%|████      | 41/100 [00:00<00:00, 82.36it/s]

 50%|█████     | 50/100 [00:00<00:00, 81.17it/s]

 59%|█████▉    | 59/100 [00:00<00:00, 78.36it/s]

 68%|██████▊   | 68/100 [00:00<00:00, 81.70it/s]

 77%|███████▋  | 77/100 [00:00<00:00, 81.10it/s]

 86%|████████▌ | 86/100 [00:01<00:00, 77.96it/s]

 95%|█████████▌| 95/100 [00:01<00:00, 78.65it/s]

                                                
Models:  40%|████      | 4/10 [00:04<00:06,  1.12s/it]

  0%|          | 0/100 [00:00<?, ?it/s]

 12%|█▏        | 12/100 [00:00<00:00, 114.83it/s]

 24%|██▍       | 24/100 [00:00<00:00, 86.76it/s] 

 34%|███▍      | 34/100 [00:00<00:00, 82.35it/s]

 43%|████▎     | 43/100 [00:00<00:00, 83.64it/s]

 52%|█████▏    | 52/100 [00:00<00:00, 80.29it/s]

 61%|██████    | 61/100 [00:00<00:00, 78.82it/s]

 69%|██████▉   | 69/100 [00:00<00:00, 78.12it/s]

 77%|███████▋  | 77/100 [00:00<00:00, 76.55it/s]

 85%|████████▌ | 85/100 [00:01<00:00, 76.67it/s]

 94%|█████████▍| 94/100 [00:01<00:00, 79.27it/s]

                                                
Models:  50%|█████     | 5/10 [00:05<00:05,  1.17s/it]

  0%|          | 0/100 [00:00<?, ?it/s]

 11%|█         | 11/100 [00:00<00:00, 100.56it/s]

 22%|██▏       | 22/100 [00:00<00:00, 84.92it/s] 

 31%|███       | 31/100 [00:00<00:00, 81.27it/s]

 40%|████      | 40/100 [00:00<00:00, 77.38it/s]

 48%|████▊     | 48/100 [00:00<00:00, 77.48it/s]

 56%|█████▌    | 56/100 [00:00<00:00, 77.33it/s]

 65%|██████▌   | 65/100 [00:00<00:00, 78.16it/s]

 73%|███████▎  | 73/100 [00:00<00:00, 76.91it/s]

 81%|████████  | 81/100 [00:01<00:00, 76.42it/s]

 89%|████████▉ | 89/100 [00:01<00:00, 76.22it/s]

 98%|█████████▊| 98/100 [00:01<00:00, 79.44it/s]

                                                
Models:  60%|██████    | 6/10 [00:06<00:04,  1.20s/it]

  0%|          | 0/100 [00:00<?, ?it/s]

 10%|█         | 10/100 [00:00<00:00, 99.80it/s]

 20%|██        | 20/100 [00:00<00:00, 85.69it/s]

 29%|██▉       | 29/100 [00:00<00:00, 81.09it/s]

 38%|███▊      | 38/100 [00:00<00:00, 80.38it/s]

 47%|████▋     | 47/100 [00:00<00:00, 79.68it/s]

 55%|█████▌    | 55/100 [00:00<00:00, 79.74it/s]

 64%|██████▍   | 64/100 [00:00<00:00, 80.08it/s]

 73%|███████▎  | 73/100 [00:00<00:00, 79.21it/s]

 81%|████████  | 81/100 [00:01<00:00, 77.72it/s]

 89%|████████▉ | 89/100 [00:01<00:00, 77.36it/s]

 97%|█████████▋| 97/100 [00:01<00:00, 78.02it/s]

                                                
Models:  70%|███████   | 7/10 [00:08<00:03,  1.22s/it]

  0%|          | 0/100 [00:00<?, ?it/s]

 11%|█         | 11/100 [00:00<00:00, 102.72it/s]

 22%|██▏       | 22/100 [00:00<00:00, 86.52it/s] 

 31%|███       | 31/100 [00:00<00:00, 82.55it/s]

 40%|████      | 40/100 [00:00<00:00, 81.12it/s]

 49%|████▉     | 49/100 [00:00<00:00, 80.11it/s]

 58%|█████▊    | 58/100 [00:00<00:00, 78.02it/s]

 67%|██████▋   | 67/100 [00:00<00:00, 79.04it/s]

 75%|███████▌  | 75/100 [00:00<00:00, 78.48it/s]

 84%|████████▍ | 84/100 [00:01<00:00, 78.98it/s]

 93%|█████████▎| 93/100 [00:01<00:00, 80.34it/s]

                                                
Models:  80%|████████  | 8/10 [00:09<00:02,  1.23s/it]

  0%|          | 0/100 [00:00<?, ?it/s]

 11%|█         | 11/100 [00:00<00:00, 109.83it/s]

 22%|██▏       | 22/100 [00:00<00:00, 93.40it/s] 

 32%|███▏      | 32/100 [00:00<00:00, 86.63it/s]

 41%|████      | 41/100 [00:00<00:00, 83.79it/s]

 50%|█████     | 50/100 [00:00<00:00, 81.84it/s]

 59%|█████▉    | 59/100 [00:00<00:00, 79.64it/s]

 68%|██████▊   | 68/100 [00:00<00:00, 80.33it/s]

 77%|███████▋  | 77/100 [00:00<00:00, 81.32it/s]

 86%|████████▌ | 86/100 [00:01<00:00, 80.23it/s]

 95%|█████████▌| 95/100 [00:01<00:00, 80.85it/s]

                                                
Models:  90%|█████████ | 9/10 [00:10<00:01,  1.22s/it]

  0%|          | 0/100 [00:00<?, ?it/s]

 10%|█         | 10/100 [00:00<00:00, 95.27it/s]

 20%|██        | 20/100 [00:00<00:00, 90.88it/s]

 30%|███       | 30/100 [00:00<00:00, 89.50it/s]

 40%|████      | 40/100 [00:00<00:00, 90.64it/s]

 50%|█████     | 50/100 [00:00<00:00, 89.89it/s]

 59%|█████▉    | 59/100 [00:00<00:00, 88.01it/s]

 69%|██████▉   | 69/100 [00:00<00:00, 89.84it/s]

 78%|███████▊  | 78/100 [00:00<00:00, 88.25it/s]

 87%|████████▋ | 87/100 [00:00<00:00, 86.94it/s]

 96%|█████████▌| 96/100 [00:01<00:00, 85.98it/s]

                                                
Models: 100%|██████████| 10/10 [00:11<00:00,  1.20s/it]
Models: 100%|██████████| 10/10 [00:11<00:00,  1.16s/it]
[ FAIL 0 | WARN 0 | SKIP 0 | PASS 29 ]
> 
> proc.time()
   user  system elapsed 
154.785   4.528 159.430 

Example timings

spatialDE.Rcheck/spatialDE-Ex.timings

nameusersystemelapsed
FSV_sig 9.833 2.30728.079
mockSVG0.4900.0840.575
modelSearch3.6460.4814.148
model_search3.0410.3703.327
multiGenePlots4.0710.3173.905
regress_out0.3230.0100.362
run1.7310.1731.912
spatialDE2.1320.1822.080
spatialPatterns2.5850.2952.544
spatial_patterns33.068 3.82833.345
stabilize0.1600.0090.165