This page was generated on 2025-11-08 10:13 -0500 (Sat, 08 Nov 2025).
| |
| See this page for all the Bioconductor builds and their schedule. |
| Hostname | OS | Arch (*) | R version | Installed pkgs |
|---|---|---|---|---|
| teran2 | Linux (Ubuntu 24.04.3 LTS) | x86_64 | R Under development (unstable) (2025-10-28 r88973) -- "Unsuffered Consequences" | 917 |
| Click on any hostname to see more info about the system (e.g. compilers) (*) as reported by 'uname -p', except on Windows and Mac OS X | ||||
| QUICK STATS | OS / Arch | INSTALL | BUILD | CHECK | |||||||||||||
| teran2 | Linux (Ubuntu 24.04.3 LTS) / x86_64 |
|
|
| |||||||||||||
| Package | Maintainer | INSTALL | BUILD | CHECK | |||||||||||||
| 1/230 | affxparser 1.83.0 (landing page) | Kasper Daniel Hansen | OK | OK | WARNINGS | ||||||||||||
| 2/230 | affy 1.89.0 (landing page) | Robert D. Shear | OK | OK | WARNINGS | ||||||||||||
| 3/230 | affyio 1.81.0 (landing page) | Ben Bolstad | OK | OK | WARNINGS | ||||||||||||
| 4/230 | affyPLM 1.87.0 (landing page) | Ben Bolstad | OK | OK | WARNINGS | ||||||||||||
| 5/230 | alabaster.base 1.11.1 (landing page) | Aaron Lun | OK | OK | WARNINGS | ||||||||||||
| 6/230 | alabaster.matrix 1.11.0 (landing page) | Aaron Lun | OK | OK | OK | ||||||||||||
| 7/230 | alabaster.ranges 1.11.0 (landing page) | Aaron Lun | OK | OK | OK | ||||||||||||
| 8/230 | alabaster.sce 1.11.0 (landing page) | Aaron Lun | OK | OK | OK | ||||||||||||
| 9/230 | alabaster.schemas 1.11.0 (landing page) | Aaron Lun | OK | OK | OK | ||||||||||||
| 10/230 | alabaster.se 1.11.0 (landing page) | Aaron Lun | OK | OK | OK | ||||||||||||
| 11/230 | annotate 1.89.0 (landing page) | Bioconductor Package Maintainer | OK | OK | ERROR | ||||||||||||
| 12/230 | AnnotationDbi 1.73.0 (landing page) | Bioconductor Package Maintainer | OK | OK | WARNINGS | ||||||||||||
| 13/230 | AnnotationFilter 1.35.0 (landing page) | Bioconductor Package Maintainer | OK | OK | OK | ||||||||||||
| 14/230 | AnnotationForge 1.53.0 (landing page) | Bioconductor Package Maintainer | OK | OK | OK | ||||||||||||
| 15/230 | AnnotationHub 4.1.0 (landing page) | Bioconductor Package Maintainer | OK | OK | OK | ||||||||||||
| 16/230 | AnnotationHubData 1.41.0 (landing page) | Bioconductor Package Maintainer | OK | OK | WARNINGS | ||||||||||||
| 17/230 | apeglm 1.33.0 (landing page) | Anqi Zhu | OK | OK | OK | ||||||||||||
| 18/230 | aroma.light 3.41.0 (landing page) | Henrik Bengtsson | OK | OK | OK | ||||||||||||
| 19/230 | assorthead 1.5.1 (landing page) | Aaron Lun | OK | OK | OK | ||||||||||||
| 20/230 | bamsignals 1.43.0 (landing page) | Johannes Helmuth | OK | OK | OK | ||||||||||||
| 21/230 | basilisk 1.23.0 (landing page) | Aaron Lun | OK | OK | OK | ||||||||||||
| 22/230 | basilisk.utils 1.23.0 (landing page) | Aaron Lun | OK | OK | OK | ||||||||||||
| 23/230 | batchelor 1.27.0 (landing page) | Aaron Lun | OK | OK | OK | ||||||||||||
| 24/230 | beachmat 2.27.0 (landing page) | Aaron Lun | OK | OK | OK | ||||||||||||
| 25/230 | beachmat.hdf5 1.9.0 (landing page) | Aaron Lun | OK | OK | WARNINGS | ||||||||||||
| 26/230 | Biobase 2.71.0 (landing page) | Bioconductor Package Maintainer | OK | OK | OK | ||||||||||||
| 27/230 | BiocBaseUtils 1.13.0 (landing page) | Marcel Ramos | OK | OK | OK | ||||||||||||
| 28/230 | BiocCheck 1.47.1 (landing page) | Marcel Ramos | OK | OK | ERROR | ||||||||||||
| 29/230 | BiocFileCache 3.1.0 (landing page) | Lori Shepherd | OK | OK | OK | ||||||||||||
| 30/230 | BiocGenerics 0.57.0 (landing page) | Hervé Pagès | OK | OK | WARNINGS | ||||||||||||
| 31/230 | BiocIO 1.21.0 (landing page) | Marcel Ramos | OK | OK | OK | ||||||||||||
| 32/230 | biocmake 1.3.0 (landing page) | Aaron Lun | OK | OK | OK | ||||||||||||
| 33/230 | BiocNeighbors 2.5.0 (landing page) | Aaron Lun | OK | OK | OK | ||||||||||||
| 34/230 | BiocParallel 1.45.0 (landing page) | Jiefei Wang | OK | OK | OK | ||||||||||||
| 35/230 | BiocPkgTools 1.29.0 (landing page) | Sean Davis | OK | ERROR | skipped | ||||||||||||
| 36/230 | BiocSingular 1.27.0 (landing page) | Aaron Lun | OK | OK | WARNINGS | ||||||||||||
| 37/230 | BiocStyle 2.39.0 (landing page) | Bioconductor Package Maintainer | OK | OK | OK | ||||||||||||
| 38/230 | biocthis 1.21.0 (landing page) | Leonardo Collado-Torres | OK | OK | OK | ||||||||||||
| 39/230 | BiocVersion 3.23.1 (landing page) | Bioconductor Package Maintainer | OK | OK | OK | ||||||||||||
| 40/230 | biocViews 1.79.0 (landing page) | Bioconductor Package Maintainer | OK | OK | OK | ||||||||||||
| 41/230 | biomaRt 2.67.0 (landing page) | Hugo Gruson | OK | OK | OK | ||||||||||||
| 42/230 | biomformat 1.39.0 (landing page) | Paul J. McMurdie | OK | OK | OK | ||||||||||||
| 43/230 | Biostrings 2.79.2 (landing page) | Hervé Pagès | OK | OK | WARNINGS | ||||||||||||
| 44/230 | biovizBase 1.59.0 (landing page) | Michael Lawrence | OK | OK | WARNINGS | ||||||||||||
| 45/230 | bluster 1.21.0 (landing page) | Aaron Lun | OK | OK | OK | ||||||||||||
| 46/230 | BSgenome 1.79.1 (landing page) | Hervé Pagès | OK | OK | WARNINGS | ||||||||||||
| 47/230 | BSgenomeForge 1.11.0 (landing page) | Hervé Pagès | OK | OK | OK | ||||||||||||
| 48/230 | bsseq 1.47.1 (landing page) | Kasper Daniel Hansen | OK | OK | WARNINGS | ||||||||||||
| 49/230 | bumphunter 1.53.0 (landing page) | Tamilselvi Guharaj | OK | OK | OK | ||||||||||||
| 50/230 | BumpyMatrix 1.19.0 (landing page) | Aaron Lun | OK | OK | OK | ||||||||||||
| 51/230 | Category 2.77.0 (landing page) | Bioconductor Package Maintainer | OK | OK | OK | ||||||||||||
| 52/230 | ChemmineOB 1.49.0 (landing page) | Thomas Girke | OK | OK | WARNINGS | ||||||||||||
| 53/230 | ChemmineR 3.63.0 (landing page) | Thomas Girke | OK | OK | WARNINGS | ||||||||||||
| 54/230 | chihaya 1.11.0 (landing page) | Aaron Lun | OK | OK | WARNINGS | ||||||||||||
| 55/230 | cigarillo 1.1.0 (landing page) | Hervé Pagès | OK | OK | OK | ||||||||||||
| 56/230 | clusterProfiler 4.19.1 (landing page) | Guangchuang Yu | OK | OK | OK | ||||||||||||
| 57/230 | CNEr 1.47.0 (landing page) | Boris Lenhard | OK | OK | WARNINGS | ||||||||||||
| 58/230 | ComplexHeatmap 2.27.0 (landing page) | Zuguang Gu | OK | OK | OK | ||||||||||||
| 59/230 | CompoundDb 1.15.0 (landing page) | Johannes Rainer | OK | OK | OK | ||||||||||||
| 60/230 | ConsensusClusterPlus 1.75.0 (landing page) | Matt Wilkerson | OK | OK | OK | ||||||||||||
| 61/230 | csaw 1.45.0 (landing page) | Aaron Lun | OK | OK | OK | ||||||||||||
| 62/230 | cytolib 2.23.0 (landing page) | Mike Jiang | OK | OK | WARNINGS | ||||||||||||
| 63/230 | CytoML 2.23.0 (landing page) | Mike Jiang | OK | OK | WARNINGS | ||||||||||||
| 64/230 | DECIPHER 3.7.0 (landing page) | Erik Wright | OK | OK | OK | ||||||||||||
| 65/230 | DelayedArray 0.37.0 (landing page) | Hervé Pagès | OK | OK | WARNINGS | ||||||||||||
| 66/230 | DelayedMatrixStats 1.33.0 (landing page) | Peter Hickey | OK | OK | OK | ||||||||||||
| 67/230 | densvis 1.21.1 (landing page) | Alan O'Callaghan | OK | OK | OK | ||||||||||||
| 68/230 | DESeq2 1.51.0 (landing page) | Michael Love | OK | OK | OK | ||||||||||||
| 69/230 | DEXSeq 1.57.0 (landing page) | Alejandro Reyes | OK | OK | OK | ||||||||||||
| 70/230 | dir.expiry 1.19.0 (landing page) | Aaron Lun | OK | OK | OK | ||||||||||||
| 71/230 | DirichletMultinomial 1.53.0 (landing page) | Martin Morgan | OK | OK | WARNINGS | ||||||||||||
| 72/230 | DNAcopy 1.85.0 (landing page) | Venkatraman E. Seshan | OK | OK | OK | ||||||||||||
| 73/230 | DOSE 4.5.0 (landing page) | Guangchuang Yu | OK | OK | OK | ||||||||||||
| 74/230 | DropletUtils 1.31.0 (landing page) | Jonathan Griffiths | OK | OK | WARNINGS | ||||||||||||
| 75/230 | DynDoc 1.89.0 (landing page) | Bioconductor Package Maintainer | OK | OK | WARNINGS | ||||||||||||
| 76/230 | EBarrays 2.75.0 (landing page) | Ming Yuan | OK | OK | OK | ||||||||||||
| 77/230 | EBImage 4.53.0 (landing page) | Andrzej Oleś | OK | OK | OK | ||||||||||||
| 78/230 | EDASeq 2.45.0 (landing page) | Davide Risso | OK | OK | OK | ||||||||||||
| 79/230 | edgeR 4.9.0 (landing page) | Yunshun Chen | OK | OK | WARNINGS | ||||||||||||
| 80/230 | eds 1.13.0 (landing page) | Avi Srivastava | OK | OK | OK | ||||||||||||
| 81/230 | EnhancedVolcano 1.29.0 (landing page) | Kevin Blighe | OK | OK | ERROR | ||||||||||||
| 82/230 | EnrichedHeatmap 1.41.0 (landing page) | Zuguang Gu | OK | OK | OK | ||||||||||||
| 83/230 | enrichplot 1.31.0 (landing page) | Guangchuang Yu | OK | OK | OK | ||||||||||||
| 84/230 | ensembldb 2.35.0 (landing page) | Johannes Rainer | OK | OK | OK | ||||||||||||
| 85/230 | ExperimentHub 3.1.0 (landing page) | Bioconductor Package Maintainer | OK | OK | WARNINGS | ||||||||||||
| 86/230 | ExperimentHubData 1.37.0 (landing page) | Bioconductor Package Maintainer | OK | OK | WARNINGS | ||||||||||||
| 87/230 | fgsea 1.37.0 (landing page) | Alexey Sergushichev | OK | ERROR | skipped | ||||||||||||
| 88/230 | fishpond 2.17.0 (landing page) | Michael Love | OK | OK | OK | ||||||||||||
| 89/230 | flowClust 3.49.0 (landing page) | Greg Finak | OK | OK | WARNINGS | ||||||||||||
| 90/230 | flowCore 2.23.0 (landing page) | Mike Jiang | OK | OK | WARNINGS | ||||||||||||
| 91/230 | flowStats 4.23.0 (landing page) | Greg Finak | OK | OK | WARNINGS | ||||||||||||
| 92/230 | flowViz 1.75.0 (landing page) | Mike Jiang | OK | OK | OK | ||||||||||||
| 93/230 | flowWorkspace 4.23.0 (landing page) | Greg Finak | OK | OK | WARNINGS | ||||||||||||
| 94/230 | fmcsR 1.53.0 (landing page) | Thomas Girke | OK | OK | WARNINGS | ||||||||||||
| 95/230 | gage 2.61.0 (landing page) | Weijun Luo | OK | OK | WARNINGS | ||||||||||||
| 96/230 | gcrma 2.83.0 (landing page) | Z. Wu | OK | OK | OK | ||||||||||||
| 97/230 | gdsfmt 1.47.0 (landing page) | Xiuwen Zheng | OK | OK | OK | ||||||||||||
| 98/230 | genefilter 1.93.0 (landing page) | Bioconductor Package Maintainer | OK | OK | WARNINGS | ||||||||||||
| 99/230 | geneplotter 1.89.0 (landing page) | Bioconductor Package Maintainer | OK | OK | OK | ||||||||||||
| 100/230 | GenomeInfoDb 1.47.0 (landing page) | Hervé Pagès | OK | OK | OK | ||||||||||||
| 101/230 | GenomicAlignments 1.47.0 (landing page) | Hervé Pagès | OK | OK | OK | ||||||||||||
| 102/230 | GenomicFeatures 1.63.1 (landing page) | H. Pagès | OK | OK | OK | ||||||||||||
| 103/230 | GenomicRanges 1.63.0 (landing page) | Hervé Pagès | OK | OK | OK | ||||||||||||
| 104/230 | GEOquery 2.79.0 (landing page) | Sean Davis | OK | OK | WARNINGS | ||||||||||||
| 105/230 | ggbio 1.59.0 (landing page) | Michael Lawrence | OK | OK | WARNINGS | ||||||||||||
| 106/230 | ggcyto 1.39.0 (landing page) | Mike Jiang | OK | OK | WARNINGS | ||||||||||||
| 107/230 | ggtree 4.1.1 (landing page) | Guangchuang Yu | OK | OK | OK | ||||||||||||
| 108/230 | ggtreeExtra 1.21.0 (landing page) | Shuangbin Xu | OK | OK | OK | ||||||||||||
| 109/230 | glmGamPoi 1.23.0 (landing page) | Constantin Ahlmann-Eltze | OK | OK | WARNINGS | ||||||||||||
| 110/230 | GOSemSim 2.37.0 (landing page) | Guangchuang Yu | OK | OK | OK | ||||||||||||
| 111/230 | GOstats 2.77.0 (landing page) | Bioconductor Package Maintainer | OK | OK | OK | ||||||||||||
| 112/230 | gpls 1.83.0 (landing page) | Bioconductor Package Maintainer | OK | OK | WARNINGS | ||||||||||||
| 113/230 | graph 1.89.0 (landing page) | Bioconductor Package Maintainer | OK | OK | OK | ||||||||||||
| 114/230 | GSEABase 1.73.0 (landing page) | Bioconductor Package Maintainer | OK | OK | OK | ||||||||||||
| 115/230 | GSVA 2.5.3 (landing page) | Robert Castelo | OK | OK | ERROR | ||||||||||||
| 116/230 | Gviz 1.55.0 (landing page) | Robert Ivanek | OK | OK | OK | ||||||||||||
| 117/230 | gwascat 2.43.0 (landing page) | VJ Carey | OK | OK | OK | ||||||||||||
| 118/230 | gypsum 1.7.0 (landing page) | Aaron Lun | OK | OK | OK | ||||||||||||
| 119/230 | h5mread 1.3.0 (landing page) | Hervé Pagès | OK | OK | WARNINGS | ||||||||||||
| 120/230 | HDF5Array 1.39.0 (landing page) | Hervé Pagès | OK | OK | OK | ||||||||||||
| 121/230 | hpar 1.53.0 (landing page) | Laurent Gatto | OK | OK | OK | ||||||||||||
| 122/230 | HubPub 1.19.0 (landing page) | Kayla Interdonato | OK | OK | OK | ||||||||||||
| 123/230 | IHW 1.39.0 (landing page) | Nikos Ignatiadis | OK | OK | OK | ||||||||||||
| 124/230 | illuminaio 0.53.0 (landing page) | Kasper Daniel Hansen | OK | OK | OK | ||||||||||||
| 125/230 | impute 1.85.0 (landing page) | Balasubramanian Narasimhan | OK | OK | WARNINGS | ||||||||||||
| 126/230 | Bioconductor Package Maintainer | OK | OK | OK | |||||||||||||
| 127/230 | Bioconductor Package Maintainer | OK | OK | OK | |||||||||||||
| 128/230 | IRanges 2.45.0 (landing page) | Hervé Pagès | OK | OK | WARNINGS | ||||||||||||
| 129/230 | karyoploteR 1.37.0 (landing page) | Bernat Gel | OK | OK | OK | ||||||||||||
| 130/230 | KEGGgraph 1.71.0 (landing page) | Jitao David Zhang | OK | OK | OK | ||||||||||||
| 131/230 | keggorthology 2.63.0 (landing page) | VJ Carey | OK | OK | OK | ||||||||||||
| 132/230 | KEGGREST 1.51.0 (landing page) | Bioconductor Package Maintainer | OK | OK | OK | ||||||||||||
| 133/230 | limma 3.67.0 (landing page) | Gordon Smyth | OK | OK | OK | ||||||||||||
| 134/230 | LoomExperiment 1.29.0 (landing page) | Bioconductor Package Maintainer | OK | OK | OK | ||||||||||||
| 135/230 | lpsymphony 1.39.0 (landing page) | Vladislav Kim | OK | OK | WARNINGS | ||||||||||||
| 136/230 | maftools 2.27.0 (landing page) | Anand Mayakonda | OK | OK | WARNINGS | ||||||||||||
| 137/230 | MassSpecWavelet 1.77.0 (landing page) | Sergio Oller Moreno | OK | OK | OK | ||||||||||||
| 138/230 | MatrixGenerics 1.23.0 (landing page) | Peter Hickey | OK | OK | OK | ||||||||||||
| 139/230 | mbkmeans 1.27.0 (landing page) | Davide Risso | OK | OK | OK | ||||||||||||
| 140/230 | MetaboCoreUtils 1.19.0 (landing page) | Johannes Rainer | OK | OK | OK | ||||||||||||
| 141/230 | metagenomeSeq 1.53.0 (landing page) | Joseph N. Paulson | OK | OK | OK | ||||||||||||
| 142/230 | metapod 1.19.0 (landing page) | Aaron Lun | OK | OK | OK | ||||||||||||
| 143/230 | microRNA 1.69.0 (landing page) | "Michael Lawrence" | OK | OK | OK | ||||||||||||
| 144/230 | minet 3.69.0 (landing page) | Patrick E. Meyer | OK | OK | OK | ||||||||||||
| 145/230 | minfi 1.57.0 (landing page) | Kasper Daniel Hansen | OK | OK | OK | ||||||||||||
| 146/230 | MLInterfaces 1.91.0 (landing page) | Vincent Carey | OK | OK | WARNINGS | ||||||||||||
| 147/230 | MsBackendMgf 1.19.0 (landing page) | RforMassSpectrometry Package Maintainer | OK | OK | OK | ||||||||||||
| 148/230 | MsBackendSql 1.11.1 (landing page) | Johannes Rainer | OK | OK | OK | ||||||||||||
| 149/230 | MsCoreUtils 1.23.0 (landing page) | RforMassSpectrometry Package Maintainer | OK | OK | ERROR | ||||||||||||
| 150/230 | MsDataHub 1.11.0 (landing page) | Laurent Gatto | OK | OK | OK | ||||||||||||
| 151/230 | MsExperiment 1.13.0 (landing page) | Laurent Gatto | OK | OK | OK | ||||||||||||
| 152/230 | MsFeatures 1.19.0 (landing page) | Johannes Rainer | OK | OK | OK | ||||||||||||
| 153/230 | MSnbase 2.37.0 (landing page) | Laurent Gatto | OK | OK | OK | ||||||||||||
| 154/230 | MultiAssayExperiment 1.37.1 (landing page) | Marcel Ramos | OK | OK | OK | ||||||||||||
| 155/230 | multtest 2.67.0 (landing page) | Katherine S. Pollard | OK | OK | WARNINGS | ||||||||||||
| 156/230 | mzID 1.49.0 (landing page) | Laurent Gatto | OK | OK | OK | ||||||||||||
| 157/230 | mzR 2.45.0 (landing page) | Steffen Neumann | OK | OK | WARNINGS | ||||||||||||
| 158/230 | ncdfFlow 2.57.0 (landing page) | Mike Jiang | OK | OK | WARNINGS | ||||||||||||
| 159/230 | openCyto 2.23.0 (landing page) | Mike Jiang | OK | OK | WARNINGS | ||||||||||||
| 160/230 | OrganismDbi 1.53.2 (landing page) | Bioconductor Package Maintainer | OK | OK | OK | ||||||||||||
| 161/230 | pathview 1.51.0 (landing page) | Weijun Luo | OK | OK | WARNINGS | ||||||||||||
| 162/230 | pcaMethods 2.3.0 (landing page) | Henning Redestig | OK | OK | OK | ||||||||||||
| 163/230 | phyloseq 1.55.0 (landing page) | Paul J. McMurdie | OK | OK | WARNINGS | ||||||||||||
| 164/230 | preprocessCore 1.73.0 (landing page) | Ben Bolstad | OK | OK | WARNINGS | ||||||||||||
| 165/230 | pRoloc 1.51.0 (landing page) | Lisa Breckels | OK | OK | WARNINGS | ||||||||||||
| 166/230 | ProtGenerics 1.43.0 (landing page) | Laurent Gatto | OK | OK | OK | ||||||||||||
| 167/230 | PSMatch 1.15.0 (landing page) | Laurent Gatto | OK | OK | OK | ||||||||||||
| 168/230 | pwalign 1.7.0 (landing page) | Hervé Pagès | OK | OK | OK | ||||||||||||
| 169/230 | QFeatures 1.21.0 (landing page) | Laurent Gatto | OK | OK | OK | ||||||||||||
| 170/230 | qvalue 2.43.0 (landing page) | John D. Storey | OK | OK | WARNINGS | ||||||||||||
| 171/230 | RaggedExperiment 1.35.0 (landing page) | Marcel Ramos | OK | OK | OK | ||||||||||||
| 172/230 | RBGL 1.87.0 (landing page) | Bioconductor Package Maintainer | OK | OK | WARNINGS | ||||||||||||
| 173/230 | rBiopaxParser 2.51.0 (landing page) | Frank Kramer | OK | OK | OK | ||||||||||||
| 174/230 | Rdisop 1.71.0 (landing page) | Steffen Neumann | OK | OK | OK | ||||||||||||
| 175/230 | regioneR 1.43.0 (landing page) | Bernat Gel | OK | OK | OK | ||||||||||||
| 176/230 | ReportingTools 2.51.0 (landing page) | Jason A. Hackney | OK | OK | WARNINGS | ||||||||||||
| 177/230 | ResidualMatrix 1.21.0 (landing page) | Aaron Lun | OK | OK | OK | ||||||||||||
| 178/230 | Rgraphviz 2.55.0 (landing page) | Kasper Daniel Hansen | OK | OK | WARNINGS | ||||||||||||
| 179/230 | rhdf5 2.55.6 (landing page) | Hugo Gruson | OK | OK | WARNINGS | ||||||||||||
| 180/230 | rhdf5filters 1.23.0 (landing page) | Hugo Gruson | OK | OK | OK | ||||||||||||
| 181/230 | Rhdf5lib 1.33.0 (landing page) | Hugo Gruson | OK | OK | WARNINGS | ||||||||||||
| 182/230 | Rhtslib 3.7.0 (landing page) | Hervé Pagès | OK | OK | OK | ||||||||||||
| 183/230 | Rigraphlib 1.3.1 (landing page) | Aaron Lun | OK | OK | WARNINGS | ||||||||||||
| 184/230 | ROC 1.87.0 (landing page) | Vince Carey | OK | OK | OK | ||||||||||||
| 185/230 | rols 3.7.0 (landing page) | Laurent Gatto | OK | ERROR | skipped | ||||||||||||
| 186/230 | RProtoBufLib 2.23.0 (landing page) | Mike Jiang | OK | OK | WARNINGS | ||||||||||||
| 187/230 | rpx 2.19.0 (landing page) | Laurent Gatto | OK | OK | OK | ||||||||||||
| 188/230 | Rsamtools 2.27.0 (landing page) | Bioconductor Package Maintainer | OK | OK | WARNINGS | ||||||||||||
| 189/230 | Rsubread 2.25.0 (landing page) | Wei Shi | OK | OK | WARNINGS | ||||||||||||
| 190/230 | rtracklayer 1.71.0 (landing page) | Michael Lawrence | OK | OK | WARNINGS | ||||||||||||
| 191/230 | S4Arrays 1.11.0 (landing page) | Hervé Pagès | OK | OK | OK | ||||||||||||
| 192/230 | S4Vectors 0.49.0 (landing page) | Hervé Pagès | OK | OK | WARNINGS | ||||||||||||
| 193/230 | ScaledMatrix 1.19.0 (landing page) | Aaron Lun | OK | OK | OK | ||||||||||||
| 194/230 | scater 1.39.0 (landing page) | Alan O'Callaghan | OK | OK | OK | ||||||||||||
| 195/230 | scran 1.39.0 (landing page) | Aaron Lun | OK | OK | WARNINGS | ||||||||||||
| 196/230 | scrapper 1.5.1 (landing page) | Aaron Lun | OK | OK | WARNINGS | ||||||||||||
| 197/230 | scuttle 1.21.0 (landing page) | Aaron Lun | OK | OK | OK | ||||||||||||
| 198/230 | Seqinfo 1.1.0 (landing page) | Hervé Pagès | OK | OK | OK | ||||||||||||
| 199/230 | seqLogo 1.77.0 (landing page) | Robert Ivanek | OK | OK | OK | ||||||||||||
| 200/230 | sesame 1.29.0 (landing page) | Wanding Zhou | OK | ERROR | skipped | ||||||||||||
| 201/230 | ShortRead 1.69.2 (landing page) | Bioconductor Package Maintainer | OK | OK | WARNINGS | ||||||||||||
| 202/230 | siggenes 1.85.0 (landing page) | Holger Schwender | OK | OK | OK | ||||||||||||
| 203/230 | SingleCellExperiment 1.33.0 (landing page) | Davide Risso | OK | OK | OK | ||||||||||||
| 204/230 | SingleR 2.13.0 (landing page) | Aaron Lun | OK | OK | OK | ||||||||||||
| 205/230 | snifter 1.21.0 (landing page) | Alan O'Callaghan | OK | OK | OK | ||||||||||||
| 206/230 | snpStats 1.61.0 (landing page) | David Clayton | OK | OK | WARNINGS | ||||||||||||
| 207/230 | SparseArray 1.11.1 (landing page) | Hervé Pagès | OK | OK | OK | ||||||||||||
| 208/230 | sparseMatrixStats 1.23.0 (landing page) | Constantin Ahlmann-Eltze | OK | OK | OK | ||||||||||||
| 209/230 | SpatialExperiment 1.21.0 (landing page) | Dario Righelli | OK | OK | OK | ||||||||||||
| 210/230 | Spectra 1.21.0 (landing page) | RforMassSpectrometry Package Maintainer | OK | OK | OK | ||||||||||||
| 211/230 | SPIA 2.63.0 (landing page) | Adi Laurentiu Tarca | OK | OK | OK | ||||||||||||
| 212/230 | SummarizedExperiment 1.41.0 (landing page) | Hervé Pagès | OK | OK | OK | ||||||||||||
| 213/230 | sva 3.59.0 (landing page) | Jeffrey T. Leek | OK | OK | WARNINGS | ||||||||||||
| 214/230 | TCGAbiolinks 2.39.0 (landing page) | Tiago Chedraoui Silva | OK | OK | ERROR | ||||||||||||
| 215/230 | TENxIO 1.13.0 (landing page) | Marcel Ramos | OK | OK | OK | ||||||||||||
| 216/230 | TFBSTools 1.49.0 (landing page) | Ge Tan | OK | OK | OK | ||||||||||||
| 217/230 | tkWidgets 1.89.0 (landing page) | J. Zhang | OK | OK | OK | ||||||||||||
| 218/230 | treeio 1.35.0 (landing page) | Guangchuang Yu | OK | OK | OK | ||||||||||||
| 219/230 | txdbmaker 1.7.1 (landing page) | H. Pagès | OK | OK | OK | ||||||||||||
| 220/230 | tximeta 1.29.0 (landing page) | Michael Love | OK | OK | OK | ||||||||||||
| 221/230 | tximport 1.39.1 (landing page) | Michael Love | OK | OK | OK | ||||||||||||
| 222/230 | UCSC.utils 1.7.0 (landing page) | Hervé Pagès | OK | OK | OK | ||||||||||||
| 223/230 | VariantAnnotation 1.57.0 (landing page) | Bioconductor Package Maintainer | OK | OK | WARNINGS | ||||||||||||
| 224/230 | VisiumIO 1.7.0 (landing page) | Marcel Ramos | OK | OK | OK | ||||||||||||
| 225/230 | vsn 3.79.0 (landing page) | Wolfgang Huber | OK | OK | OK | ||||||||||||
| 226/230 | widgetTools 1.89.0 (landing page) | Jianhua Zhang | OK | OK | OK | ||||||||||||
| 227/230 | Wrench 1.29.0 (landing page) | Hector Corrada Bravo | OK | OK | OK | ||||||||||||
| 228/230 | xcms 4.9.0 (landing page) | Steffen Neumann | OK | OK | OK | ||||||||||||
| 229/230 | XVector 0.51.0 (landing page) | Hervé Pagès | OK | OK | WARNINGS | ||||||||||||
| 230/230 | zellkonverter 1.21.0 (landing page) | Luke Zappia | OK | OK | OK | ||||||||||||