Back to Rapid builds (Linux only) of a subset of BioC 3.23
Report updated every 6 hours

This page was generated on 2025-11-08 10:13 -0500 (Sat, 08 Nov 2025).

HostnameOSArch (*)R versionInstalled pkgs
teran2Linux (Ubuntu 24.04.3 LTS)x86_64R Under development (unstable) (2025-10-28 r88973) -- "Unsuffered Consequences" 917
Click on any hostname to see more info about the system (e.g. compilers)      (*) as reported by 'uname -p', except on Windows and Mac OS X

Package 162/230HostnameOS / ArchINSTALLBUILDCHECK
pcaMethods 2.3.0  (landing page)
Henning Redestig
Snapshot Date: 2025-11-08 06:00 -0500 (Sat, 08 Nov 2025)
git_url: https://git.bioconductor.org/packages/pcaMethods
git_branch: devel
git_last_commit: 8787174
git_last_commit_date: 2025-10-29 09:58:32 -0500 (Wed, 29 Oct 2025)
teran2Linux (Ubuntu 24.04.3 LTS) / x86_64  OK    OK    OK  


CHECK results for pcaMethods on teran2

To the developers/maintainers of the pcaMethods package:
- Use the following Renviron settings to reproduce errors and warnings.
- If 'R CMD check' started to fail recently on the Linux builder(s) over a missing dependency, add the missing dependency to 'Suggests:' in your DESCRIPTION file. See Renviron.bioc for more information.

raw results


Summary

Package: pcaMethods
Version: 2.3.0
Command: /home/rapidbuild/bbs-3.23-bioc-rapid/R/bin/R CMD check --install=check:pcaMethods.install-out.txt --library=/home/rapidbuild/bbs-3.23-bioc-rapid/R/site-library --timings pcaMethods_2.3.0.tar.gz
StartedAt: 2025-11-08 09:09:11 -0500 (Sat, 08 Nov 2025)
EndedAt: 2025-11-08 09:11:21 -0500 (Sat, 08 Nov 2025)
EllapsedTime: 130.0 seconds
RetCode: 0
Status:   OK  
CheckDir: pcaMethods.Rcheck
Warnings: 0

Command output

##############################################################################
##############################################################################
###
### Running command:
###
###   /home/rapidbuild/bbs-3.23-bioc-rapid/R/bin/R CMD check --install=check:pcaMethods.install-out.txt --library=/home/rapidbuild/bbs-3.23-bioc-rapid/R/site-library --timings pcaMethods_2.3.0.tar.gz
###
##############################################################################
##############################################################################


* using log directory ‘/media/volume/teran2_disk/rapidbuild/bbs-3.23-bioc-rapid/meat/pcaMethods.Rcheck’
* using R Under development (unstable) (2025-10-28 r88973)
* using platform: x86_64-pc-linux-gnu
* R was compiled by
    gcc (Ubuntu 13.3.0-6ubuntu2~24.04) 13.3.0
    GNU Fortran (Ubuntu 13.3.0-6ubuntu2~24.04) 13.3.0
* running under: Ubuntu 24.04.3 LTS
* using session charset: UTF-8
* checking for file ‘pcaMethods/DESCRIPTION’ ... OK
* this is package ‘pcaMethods’ version ‘2.3.0’
* package encoding: UTF-8
* checking CRAN incoming feasibility ... NOTE
Maintainer: ‘Henning Redestig <henning.red@gmail.com>’

Unknown, possibly misspelled, fields in DESCRIPTION:
  ‘git_url’ ‘git_branch’ ‘git_last_commit’ ‘git_last_commit_date’

Package CITATION file contains call(s) to old-style citEntry().  Please
use bibentry() instead.

The Title field should be in title case. Current version is:
  ‘A collection of PCA methods’
In title case that is:
  ‘A Collection of PCA Methods’
* checking package namespace information ... OK
* checking package dependencies ... OK
* checking if this is a source package ... OK
* checking if there is a namespace ... OK
* checking for hidden files and directories ... OK
* checking for portable file names ... OK
* checking for sufficient/correct file permissions ... OK
* checking whether package ‘pcaMethods’ can be installed ... OK
* used C++ compiler: ‘g++ (Ubuntu 13.3.0-6ubuntu2~24.04) 13.3.0’
* checking installed package size ... OK
* checking package directory ... OK
* checking ‘build’ directory ... OK
* checking DESCRIPTION meta-information ... NOTE
Author field differs from that derived from Authors@R
  Author:    ‘Wolfram Stacklies, Henning Redestig, Kevin Wright’
  Authors@R: ‘Wolfram Stacklies [aut], Henning Redestig [aut, cre] (ORCID: <https://orcid.org/0000-0003-2130-9288>), Kevin Wright [aut] (ORCID: <https://orcid.org/0000-0002-0617-8673>)’

* checking top-level files ... OK
* checking for left-over files ... OK
* checking index information ... OK
* checking package subdirectories ... OK
* checking code files for non-ASCII characters ... OK
* checking R files for syntax errors ... OK
* checking whether the package can be loaded ... OK
* checking whether the package can be loaded with stated dependencies ... OK
* checking whether the package can be unloaded cleanly ... OK
* checking whether the namespace can be loaded with stated dependencies ... OK
* checking whether the namespace can be unloaded cleanly ... OK
* checking loading without being on the library search path ... OK
* checking use of S3 registration ... OK
* checking dependencies in R code ... OK
* checking S3 generic/method consistency ... OK
* checking replacement functions ... OK
* checking foreign function calls ... OK
* checking R code for possible problems ... NOTE
BPCA_initmodel: no visible global function definition for ‘cov’
Q2: no visible global function definition for ‘txtProgressBar’
Q2: no visible global function definition for ‘setTxtProgressBar’
Q2: no visible global function definition for ‘cor’
RnipalsPca: no visible global function definition for ‘na.omit’
cvseg : <anonymous>: no visible global function definition for
  ‘na.omit’
llsImpute: no visible global function definition for ‘cor’
nlpca: no visible global function definition for ‘runif’
nlpca: no visible global function definition for ‘rnorm’
plot.pcaRes: no visible global function definition for ‘gray’
plot.pcaRes: no visible global function definition for ‘barplot’
plot.pcaRes: no visible global function definition for ‘legend’
plotPcs : panel: no visible global function definition for ‘abline’
plotPcs : panel: no visible global function definition for ‘lines’
plotPcs : panel: no visible global function definition for ‘points’
plotPcs : panel: no visible global function definition for ‘text’
plotPcs: no visible global function definition for ‘pairs’
ppca: no visible global function definition for ‘rnorm’
ppca: no visible global function definition for ‘cov’
robustSvd: no visible binding for global variable ‘median’
simpleEllipse: no visible global function definition for ‘qf’
svdImpute: no visible global function definition for ‘prcomp’
svdPca: no visible global function definition for ‘prcomp’
plot,pcaRes: no visible global function definition for ‘gray’
plot,pcaRes: no visible global function definition for ‘barplot’
plot,pcaRes: no visible global function definition for ‘legend’
slplot,pcaRes: no visible global function definition for ‘par’
slplot,pcaRes: no visible global function definition for ‘layout’
slplot,pcaRes: no visible global function definition for ‘abline’
slplot,pcaRes: no visible global function definition for ‘lines’
Undefined global functions or variables:
  abline barplot cor cov gray layout legend lines median na.omit pairs
  par points prcomp qf rnorm runif setTxtProgressBar text
  txtProgressBar
Consider adding
  importFrom("grDevices", "gray")
  importFrom("graphics", "abline", "barplot", "layout", "legend",
             "lines", "pairs", "par", "points", "text")
  importFrom("stats", "cor", "cov", "median", "na.omit", "prcomp", "qf",
             "rnorm", "runif")
  importFrom("utils", "setTxtProgressBar", "txtProgressBar")
to your NAMESPACE file.
* checking Rd files ... OK
* checking Rd metadata ... OK
* checking Rd cross-references ... OK
* checking for missing documentation entries ... OK
* checking for code/documentation mismatches ... OK
* checking Rd \usage sections ... OK
* checking Rd contents ... OK
* checking for unstated dependencies in examples ... OK
* checking contents of ‘data’ directory ... OK
* checking data for non-ASCII characters ... OK
* checking data for ASCII and uncompressed saves ... OK
* checking line endings in C/C++/Fortran sources/headers ... OK
* checking compiled code ... INFO
Note: information on .o files is not available
* checking sizes of PDF files under ‘inst/doc’ ...* checking files in ‘vignettes’ ... OK
* checking examples ... NOTE
Examples with CPU (user + system) or elapsed time > 5s
            user system elapsed
kEstimate 26.700  0.058  26.767
robustSvd  6.279  0.002   6.283
* checking for unstated dependencies in vignettes ... OK
* checking package vignettes ... OK
* checking re-building of vignette outputs ... OK
* checking PDF version of manual ... OK
* DONE

Status: 4 NOTEs
See
  ‘/media/volume/teran2_disk/rapidbuild/bbs-3.23-bioc-rapid/meat/pcaMethods.Rcheck/00check.log’
for details.


Installation output

pcaMethods.Rcheck/00install.out

##############################################################################
##############################################################################
###
### Running command:
###
###   /home/rapidbuild/bbs-3.23-bioc-rapid/R/bin/R CMD INSTALL pcaMethods
###
##############################################################################
##############################################################################


* installing to library ‘/media/volume/teran2_disk/rapidbuild/bbs-3.23-bioc-rapid/R/site-library’
* installing *source* package ‘pcaMethods’ ...
** this is package ‘pcaMethods’ version ‘2.3.0’
** using staged installation
** libs
using C++ compiler: ‘g++ (Ubuntu 13.3.0-6ubuntu2~24.04) 13.3.0’
g++ -std=gnu++17 -I"/home/rapidbuild/bbs-3.23-bioc-rapid/R/include" -DNDEBUG  -I'/media/volume/teran2_disk/rapidbuild/bbs-3.23-bioc-rapid/R/site-library/Rcpp/include' -I/usr/local/include    -fpic  -g -O2  -Wall -Werror=format-security  -c RcppExports.cpp -o RcppExports.o
g++ -std=gnu++17 -I"/home/rapidbuild/bbs-3.23-bioc-rapid/R/include" -DNDEBUG  -I'/media/volume/teran2_disk/rapidbuild/bbs-3.23-bioc-rapid/R/site-library/Rcpp/include' -I/usr/local/include    -fpic  -g -O2  -Wall -Werror=format-security  -c nipals.cpp -o nipals.o
g++ -std=gnu++17 -shared -L/usr/local/lib -o pcaMethods.so RcppExports.o nipals.o
installing to /media/volume/teran2_disk/rapidbuild/bbs-3.23-bioc-rapid/R/site-library/00LOCK-pcaMethods/00new/pcaMethods/libs
** R
** data
** inst
** byte-compile and prepare package for lazy loading
Creating a new generic function for ‘loadings’ in package ‘pcaMethods’
** help
*** installing help indices
** building package indices
** installing vignettes
** testing if installed package can be loaded from temporary location
** checking absolute paths in shared objects and dynamic libraries
** testing if installed package can be loaded from final location
** testing if installed package keeps a record of temporary installation path
* DONE (pcaMethods)

Tests output


Example timings

pcaMethods.Rcheck/pcaMethods-Ex.timings

nameusersystemelapsed
DModX-pcaRes-method0.0150.0170.031
Q20.0850.0010.087
R2VX-pcaRes-method0.0090.0000.009
RnipalsPca0.1800.0020.183
biplot-methods0.0050.0010.006
bpca0.4060.0160.422
cvseg0.0050.0010.006
fitted-methods0.0040.0000.004
kEstimate26.700 0.05826.767
kEstimateFast0.1910.0000.191
leverage-pcaRes-method0.0070.0000.006
llsImpute0.0980.0010.099
nipalsPca0.0070.0010.008
nlpca0.9380.0010.939
nni0.0720.0010.073
pca1.0530.0331.087
plot.pcaRes0.1720.0190.192
plotPcs0.0130.0000.013
ppca0.0880.0080.095
predict-methods0.0070.0000.006
prep0.0010.0000.000
rediduals-methods0.0060.0000.005
robustPca2.8900.0032.893
robustSvd6.2790.0026.283
slplot-pcaRes-method0.0120.0000.012
svdImpute0.0570.0010.058
svdPca0.0070.0000.008
wasna-pcaRes-method0.0160.0000.017