Back to Rapid builds (Linux only) of a subset of BioC 3.23
Report updated every 6 hours

This page was generated on 2025-11-08 10:13 -0500 (Sat, 08 Nov 2025).

HostnameOSArch (*)R versionInstalled pkgs
teran2Linux (Ubuntu 24.04.3 LTS)x86_64R Under development (unstable) (2025-10-28 r88973) -- "Unsuffered Consequences" 917
Click on any hostname to see more info about the system (e.g. compilers)      (*) as reported by 'uname -p', except on Windows and Mac OS X

Package 165/230HostnameOS / ArchINSTALLBUILDCHECK
pRoloc 1.51.0  (landing page)
Lisa Breckels
Snapshot Date: 2025-11-08 06:00 -0500 (Sat, 08 Nov 2025)
git_url: https://git.bioconductor.org/packages/pRoloc
git_branch: devel
git_last_commit: 26ca27b
git_last_commit_date: 2025-10-29 10:12:55 -0500 (Wed, 29 Oct 2025)
teran2Linux (Ubuntu 24.04.3 LTS) / x86_64  OK    OK    WARNINGS  


BUILD results for pRoloc on teran2

To the developers/maintainers of the pRoloc package:
- Use the following Renviron settings to reproduce errors and warnings.
- If 'R CMD check' started to fail recently on the Linux builder(s) over a missing dependency, add the missing dependency to 'Suggests:' in your DESCRIPTION file. See Renviron.bioc for more information.

raw results


Summary

Package: pRoloc
Version: 1.51.0
Command: /home/rapidbuild/bbs-3.23-bioc-rapid/R/bin/R CMD build --keep-empty-dirs --no-resave-data pRoloc
StartedAt: 2025-11-08 07:17:39 -0500 (Sat, 08 Nov 2025)
EndedAt: 2025-11-08 07:20:55 -0500 (Sat, 08 Nov 2025)
EllapsedTime: 196.1 seconds
RetCode: 0
Status:   OK  
PackageFile: pRoloc_1.51.0.tar.gz
PackageFileSize: 10.8 MiB

Command output

##############################################################################
##############################################################################
###
### Running command:
###
###   /home/rapidbuild/bbs-3.23-bioc-rapid/R/bin/R CMD build --keep-empty-dirs --no-resave-data pRoloc
###
##############################################################################
##############################################################################


* checking for file ‘pRoloc/DESCRIPTION’ ... OK
* preparing ‘pRoloc’:
* checking DESCRIPTION meta-information ... OK
* cleaning src
* installing the package (it is needed to build vignettes)
* creating vignettes ... OK
* cleaning src
* checking for LF line-endings in source and make files and shell scripts
* checking for empty or unneeded directories
WARNING: directory ‘pRoloc/pkgdown’ is empty
* looking to see if a ‘data/datalist’ file should be added
* building ‘pRoloc_1.51.0.tar.gz’