| Back to Rapid builds (Linux only) of a subset of BioC 3.23 Report updated every 6 hours |
This page was generated on 2025-11-08 16:15 -0500 (Sat, 08 Nov 2025).
| Hostname | OS | Arch (*) | R version | Installed pkgs |
|---|---|---|---|---|
| teran2 | Linux (Ubuntu 24.04.3 LTS) | x86_64 | R Under development (unstable) (2025-10-28 r88973) -- "Unsuffered Consequences" | 917 |
| Click on any hostname to see more info about the system (e.g. compilers) (*) as reported by 'uname -p', except on Windows and Mac OS X | ||||
| Package 11/230 | Hostname | OS / Arch | INSTALL | BUILD | CHECK | |||||||
| annotate 1.89.0 (landing page) Bioconductor Package Maintainer
| teran2 | Linux (Ubuntu 24.04.3 LTS) / x86_64 | OK | OK | OK | |||||||
|
To the developers/maintainers of the annotate package: - Use the following Renviron settings to reproduce errors and warnings. - If 'R CMD check' started to fail recently on the Linux builder(s) over a missing dependency, add the missing dependency to 'Suggests:' in your DESCRIPTION file. See Renviron.bioc for more information. |
| Package: annotate |
| Version: 1.89.0 |
| Command: /home/rapidbuild/bbs-3.23-bioc-rapid/R/bin/R CMD check --install=check:annotate.install-out.txt --library=/home/rapidbuild/bbs-3.23-bioc-rapid/R/site-library --timings annotate_1.89.0.tar.gz |
| StartedAt: 2025-11-08 13:47:17 -0500 (Sat, 08 Nov 2025) |
| EndedAt: 2025-11-08 13:50:43 -0500 (Sat, 08 Nov 2025) |
| EllapsedTime: 205.9 seconds |
| RetCode: 0 |
| Status: OK |
| CheckDir: annotate.Rcheck |
| Warnings: 0 |
##############################################################################
##############################################################################
###
### Running command:
###
### /home/rapidbuild/bbs-3.23-bioc-rapid/R/bin/R CMD check --install=check:annotate.install-out.txt --library=/home/rapidbuild/bbs-3.23-bioc-rapid/R/site-library --timings annotate_1.89.0.tar.gz
###
##############################################################################
##############################################################################
* using log directory ‘/media/volume/teran2_disk/rapidbuild/bbs-3.23-bioc-rapid/meat/annotate.Rcheck’
* using R Under development (unstable) (2025-10-28 r88973)
* using platform: x86_64-pc-linux-gnu
* R was compiled by
gcc (Ubuntu 13.3.0-6ubuntu2~24.04) 13.3.0
GNU Fortran (Ubuntu 13.3.0-6ubuntu2~24.04) 13.3.0
* running under: Ubuntu 24.04.3 LTS
* using session charset: UTF-8
* checking for file ‘annotate/DESCRIPTION’ ... OK
* this is package ‘annotate’ version ‘1.89.0’
* checking CRAN incoming feasibility ... NOTE
Maintainer: ‘Bioconductor Package Maintainer <maintainer@bioconductor.org>’
Unknown, possibly misspelled, fields in DESCRIPTION:
‘git_url’ ‘git_branch’ ‘git_last_commit’ ‘git_last_commit_date’
The Title field should be in title case. Current version is:
‘Annotation for microarrays’
In title case that is:
‘Annotation for Microarrays’
* checking package namespace information ... OK
* checking package dependencies ... OK
* checking if this is a source package ... OK
* checking if there is a namespace ... OK
* checking for hidden files and directories ... OK
* checking for portable file names ... OK
* checking for sufficient/correct file permissions ... OK
* checking whether package ‘annotate’ can be installed ... OK
* checking installed package size ... OK
* checking package directory ... OK
* checking ‘build’ directory ... OK
* checking DESCRIPTION meta-information ... NOTE
Author field differs from that derived from Authors@R
Author: ‘R. Gentleman’
Authors@R: ‘Jeff Gentry [aut], Kritika Verma [ctb] (Converted chromLOC vignette from Sweave to RMarkdown / HTML.), Manvi Yaduvanshi [ctb] (Converted useDataPkgs vignette from Sweave to RMarkdown / HTML.), Bioconductor Package Maintainer [cre]’
* checking top-level files ... OK
* checking for left-over files ... OK
* checking index information ... OK
* checking package subdirectories ... OK
* checking code files for non-ASCII characters ... OK
* checking R files for syntax errors ... OK
* checking whether the package can be loaded ... OK
* checking whether the package can be loaded with stated dependencies ... OK
* checking whether the package can be unloaded cleanly ... OK
* checking whether the namespace can be loaded with stated dependencies ... OK
* checking whether the namespace can be unloaded cleanly ... OK
* checking loading without being on the library search path ... OK
* checking whether startup messages can be suppressed ... OK
* checking use of S3 registration ... OK
* checking dependencies in R code ... NOTE
Unexported object imported by a ':::' call: ‘BiocGenerics:::testPackage’
See the note in ?`:::` about the use of this operator.
* checking S3 generic/method consistency ... OK
* checking replacement functions ... OK
* checking foreign function calls ... OK
* checking R code for possible problems ... OK
* checking Rd files ... OK
* checking Rd metadata ... OK
* checking Rd cross-references ... OK
* checking for missing documentation entries ... OK
* checking for code/documentation mismatches ... OK
* checking Rd \usage sections ... OK
* checking Rd contents ... OK
* checking for unstated dependencies in examples ... OK
* checking contents of ‘data’ directory ... OK
* checking data for non-ASCII characters ... OK
* checking data for ASCII and uncompressed saves ... OK
* checking sizes of PDF files under ‘inst/doc’ ...* checking files in ‘vignettes’ ... OK
* checking examples ... NOTE
Examples with CPU (user + system) or elapsed time > 5s
user system elapsed
chrCats 6.529 0.058 6.604
blastSequences 0.151 0.007 31.792
* checking for unstated dependencies in ‘tests’ ... OK
* checking tests ...
Running ‘annotate_unit_tests.R’
OK
* checking for unstated dependencies in vignettes ... OK
* checking package vignettes ... OK
* checking re-building of vignette outputs ... OK
* checking PDF version of manual ... OK
* DONE
Status: 4 NOTEs
See
‘/media/volume/teran2_disk/rapidbuild/bbs-3.23-bioc-rapid/meat/annotate.Rcheck/00check.log’
for details.
annotate.Rcheck/00install.out
############################################################################## ############################################################################## ### ### Running command: ### ### /home/rapidbuild/bbs-3.23-bioc-rapid/R/bin/R CMD INSTALL annotate ### ############################################################################## ############################################################################## * installing to library ‘/media/volume/teran2_disk/rapidbuild/bbs-3.23-bioc-rapid/R/site-library’ * installing *source* package ‘annotate’ ... ** this is package ‘annotate’ version ‘1.89.0’ ** using staged installation ** R ** data ** inst ** byte-compile and prepare package for lazy loading ** help *** installing help indices ** building package indices ** installing vignettes ** testing if installed package can be loaded from temporary location ** testing if installed package can be loaded from final location ** testing if installed package keeps a record of temporary installation path * DONE (annotate)
annotate.Rcheck/tests/annotate_unit_tests.Rout
R Under development (unstable) (2025-10-28 r88973) -- "Unsuffered Consequences"
Copyright (C) 2025 The R Foundation for Statistical Computing
Platform: x86_64-pc-linux-gnu
R is free software and comes with ABSOLUTELY NO WARRANTY.
You are welcome to redistribute it under certain conditions.
Type 'license()' or 'licence()' for distribution details.
R is a collaborative project with many contributors.
Type 'contributors()' for more information and
'citation()' on how to cite R or R packages in publications.
Type 'demo()' for some demos, 'help()' for on-line help, or
'help.start()' for an HTML browser interface to help.
Type 'q()' to quit R.
> BiocGenerics:::testPackage("annotate")
Attaching package: 'generics'
The following objects are masked from 'package:base':
as.difftime, as.factor, as.ordered, intersect, is.element, setdiff,
setequal, union
Attaching package: 'BiocGenerics'
The following objects are masked from 'package:stats':
IQR, mad, sd, var, xtabs
The following objects are masked from 'package:base':
Filter, Find, Map, Position, Reduce, anyDuplicated, aperm, append,
as.data.frame, basename, cbind, colnames, dirname, do.call,
duplicated, eval, evalq, get, grep, grepl, is.unsorted, lapply,
mapply, match, mget, order, paste, pmax, pmax.int, pmin, pmin.int,
rank, rbind, rownames, sapply, saveRDS, table, tapply, unique,
unsplit, which.max, which.min
Welcome to Bioconductor
Vignettes contain introductory material; view with
'browseVignettes()'. To cite Bioconductor, see
'citation("Biobase")', and for packages 'citation("pkgname")'.
Attaching package: 'S4Vectors'
The following object is masked from 'package:utils':
findMatches
The following objects are masked from 'package:base':
I, expand.grid, unname
Loading required package: org.Hs.eg.db
'select()' returned 1:many mapping between keys and columns
RUNIT TEST PROTOCOL -- Sat Nov 8 13:49:39 2025
***********************************************
Number of test functions: 1
Number of errors: 0
Number of failures: 0
1 Test Suite :
annotate RUnit Tests - 1 test function, 0 errors, 0 failures
Number of test functions: 1
Number of errors: 0
Number of failures: 0
>
> proc.time()
user system elapsed
6.225 0.582 6.795
annotate.Rcheck/annotate-Ex.timings
| name | user | system | elapsed | |
| ACCNUMStats | 0.912 | 0.039 | 0.956 | |
| GO2heatmap | 0.073 | 0.004 | 0.077 | |
| GOmnplot | 0.029 | 0.001 | 0.031 | |
| HTMLPage-class | 0 | 0 | 0 | |
| LL2homology | 0 | 0 | 0 | |
| PMIDAmat | 0.049 | 0.002 | 0.091 | |
| PWAmat | 0.899 | 0.017 | 0.915 | |
| UniGeneQuery | 0.001 | 0.000 | 0.002 | |
| accessionToUID | 0.275 | 0.014 | 2.665 | |
| annPkgName | 0 | 0 | 0 | |
| aqListGOIDs | 0.069 | 0.010 | 0.083 | |
| blastSequences | 0.151 | 0.007 | 31.792 | |
| buildChromLocation | 0.433 | 0.010 | 0.455 | |
| buildPubMedAbst | 0.049 | 0.000 | 0.446 | |
| chrCats | 6.529 | 0.058 | 6.604 | |
| chromLocation-class | 0.393 | 0.026 | 0.420 | |
| compatibleVersions | 0.017 | 0.000 | 0.017 | |
| dropECode | 0.022 | 0.000 | 0.021 | |
| entrezGeneByID | 0.001 | 0.000 | 0.000 | |
| entrezGeneQuery | 0.000 | 0.001 | 0.000 | |
| filterGOByOntology | 0.026 | 0.002 | 0.029 | |
| findNeighbors | 0.011 | 0.001 | 0.028 | |
| genbank | 0.138 | 0.003 | 0.959 | |
| getAnnMap | 0.013 | 0.002 | 0.015 | |
| getEvidence | 0.027 | 0.000 | 0.027 | |
| getGOTerm | 0.112 | 0.003 | 0.131 | |
| getOntology | 0.021 | 0.001 | 0.021 | |
| getPMInfo | 0.206 | 0.006 | 1.236 | |
| getSYMBOL | 0.067 | 0.007 | 0.102 | |
| getSeq4Acc | 0.029 | 0.002 | 0.305 | |
| hasGOannote | 0.013 | 0.001 | 0.014 | |
| hgByChroms | 0.012 | 0.001 | 0.012 | |
| hgCLengths | 0.000 | 0.001 | 0.001 | |
| hgu95Achroloc | 0.040 | 0.002 | 0.041 | |
| hgu95Achrom | 0.029 | 0.002 | 0.031 | |
| hgu95All | 0.032 | 0.003 | 0.034 | |
| hgu95Asym | 0.035 | 0.002 | 0.037 | |
| homoData-class | 0.001 | 0.000 | 0.002 | |
| htmlpage | 0.012 | 0.000 | 0.012 | |
| isValidkey | 0 | 0 | 0 | |
| makeAnchor | 0.000 | 0.000 | 0.001 | |
| organism | 0.410 | 0.004 | 0.415 | |
| pm.abstGrep | 0.598 | 0.008 | 1.648 | |
| pm.getabst | 0.663 | 0.009 | 1.775 | |
| pm.titles | 0.664 | 0.017 | 1.705 | |
| pmAbst2HTML | 0.047 | 0.005 | 0.383 | |
| pmid2MIAME | 0 | 0 | 0 | |
| pmidQuery | 0 | 0 | 0 | |
| pubMedAbst-class | 0.040 | 0.003 | 0.346 | |
| pubmed | 0.035 | 0.002 | 0.377 | |
| readGEOAnn | 0 | 0 | 0 | |
| serializeEnv | 0.001 | 0.000 | 0.001 | |
| setRepository | 0.000 | 0.000 | 0.001 | |
| updateSymbolsToValidKeys | 0.001 | 0.000 | 0.000 | |
| usedChromGenes | 0.052 | 0.004 | 0.056 | |