Back to Rapid builds (Linux only) of a subset of BioC 3.23
Report updated every 6 hours

This page was generated on 2025-11-09 10:14 -0500 (Sun, 09 Nov 2025).

HostnameOSArch (*)R versionInstalled pkgs
teran2Linux (Ubuntu 24.04.3 LTS)x86_64R Under development (unstable) (2025-10-28 r88973) -- "Unsuffered Consequences" 917
Click on any hostname to see more info about the system (e.g. compilers)      (*) as reported by 'uname -p', except on Windows and Mac OS X

Package 183/230HostnameOS / ArchINSTALLBUILDCHECK
Rigraphlib 1.3.1  (landing page)
Aaron Lun
Snapshot Date: 2025-11-09 06:00 -0500 (Sun, 09 Nov 2025)
git_url: https://git.bioconductor.org/packages/Rigraphlib
git_branch: devel
git_last_commit: 445817d
git_last_commit_date: 2025-10-30 23:59:58 -0500 (Thu, 30 Oct 2025)
teran2Linux (Ubuntu 24.04.3 LTS) / x86_64  OK    OK    WARNINGS  


BUILD results for Rigraphlib on teran2

To the developers/maintainers of the Rigraphlib package:
- Use the following Renviron settings to reproduce errors and warnings.
- If 'R CMD check' started to fail recently on the Linux builder(s) over a missing dependency, add the missing dependency to 'Suggests:' in your DESCRIPTION file. See Renviron.bioc for more information.

raw results


Summary

Package: Rigraphlib
Version: 1.3.1
Command: /home/rapidbuild/bbs-3.23-bioc-rapid/R/bin/R CMD build --keep-empty-dirs --no-resave-data Rigraphlib
StartedAt: 2025-11-09 07:23:30 -0500 (Sun, 09 Nov 2025)
EndedAt: 2025-11-09 07:23:47 -0500 (Sun, 09 Nov 2025)
EllapsedTime: 17.0 seconds
RetCode: 0
Status:   OK  
PackageFile: Rigraphlib_1.3.1.tar.gz
PackageFileSize: 4.573 MiB

Command output

##############################################################################
##############################################################################
###
### Running command:
###
###   /home/rapidbuild/bbs-3.23-bioc-rapid/R/bin/R CMD build --keep-empty-dirs --no-resave-data Rigraphlib
###
##############################################################################
##############################################################################


* checking for file ‘Rigraphlib/DESCRIPTION’ ... OK
* preparing ‘Rigraphlib’:
* checking DESCRIPTION meta-information ... OK
* running ‘cleanup’
* installing the package (it is needed to build vignettes)
* creating vignettes ... OK
* running ‘cleanup’
* checking for LF line-endings in source and make files and shell scripts
* checking for empty or unneeded directories
* building ‘Rigraphlib_1.3.1.tar.gz’