Back to Rapid builds (Linux only) of a subset of BioC 3.23
Report updated every 6 hours

This page was generated on 2025-11-08 10:13 -0500 (Sat, 08 Nov 2025).

HostnameOSArch (*)R versionInstalled pkgs
teran2Linux (Ubuntu 24.04.3 LTS)x86_64R Under development (unstable) (2025-10-28 r88973) -- "Unsuffered Consequences" 917
Click on any hostname to see more info about the system (e.g. compilers)      (*) as reported by 'uname -p', except on Windows and Mac OS X

Package 140/230HostnameOS / ArchINSTALLBUILDCHECK
MetaboCoreUtils 1.19.0  (landing page)
Johannes Rainer
Snapshot Date: 2025-11-08 06:00 -0500 (Sat, 08 Nov 2025)
git_url: https://git.bioconductor.org/packages/MetaboCoreUtils
git_branch: devel
git_last_commit: 540e625
git_last_commit_date: 2025-10-29 11:06:05 -0500 (Wed, 29 Oct 2025)
teran2Linux (Ubuntu 24.04.3 LTS) / x86_64  OK    OK    OK  


CHECK results for MetaboCoreUtils on teran2

To the developers/maintainers of the MetaboCoreUtils package:
- Use the following Renviron settings to reproduce errors and warnings.
- If 'R CMD check' started to fail recently on the Linux builder(s) over a missing dependency, add the missing dependency to 'Suggests:' in your DESCRIPTION file. See Renviron.bioc for more information.

raw results


Summary

Package: MetaboCoreUtils
Version: 1.19.0
Command: /home/rapidbuild/bbs-3.23-bioc-rapid/R/bin/R CMD check --install=check:MetaboCoreUtils.install-out.txt --library=/home/rapidbuild/bbs-3.23-bioc-rapid/R/site-library --timings MetaboCoreUtils_1.19.0.tar.gz
StartedAt: 2025-11-08 08:58:35 -0500 (Sat, 08 Nov 2025)
EndedAt: 2025-11-08 08:59:20 -0500 (Sat, 08 Nov 2025)
EllapsedTime: 45.0 seconds
RetCode: 0
Status:   OK  
CheckDir: MetaboCoreUtils.Rcheck
Warnings: 0

Command output

##############################################################################
##############################################################################
###
### Running command:
###
###   /home/rapidbuild/bbs-3.23-bioc-rapid/R/bin/R CMD check --install=check:MetaboCoreUtils.install-out.txt --library=/home/rapidbuild/bbs-3.23-bioc-rapid/R/site-library --timings MetaboCoreUtils_1.19.0.tar.gz
###
##############################################################################
##############################################################################


* using log directory ‘/media/volume/teran2_disk/rapidbuild/bbs-3.23-bioc-rapid/meat/MetaboCoreUtils.Rcheck’
* using R Under development (unstable) (2025-10-28 r88973)
* using platform: x86_64-pc-linux-gnu
* R was compiled by
    gcc (Ubuntu 13.3.0-6ubuntu2~24.04) 13.3.0
    GNU Fortran (Ubuntu 13.3.0-6ubuntu2~24.04) 13.3.0
* running under: Ubuntu 24.04.3 LTS
* using session charset: UTF-8
* checking for file ‘MetaboCoreUtils/DESCRIPTION’ ... OK
* this is package ‘MetaboCoreUtils’ version ‘1.19.0’
* checking CRAN incoming feasibility ... NOTE
Maintainer: ‘Johannes Rainer <Johannes.Rainer@eurac.edu>’

Unknown, possibly misspelled, fields in DESCRIPTION:
  ‘git_url’ ‘git_branch’ ‘git_last_commit’ ‘git_last_commit_date’

Package CITATION file contains call(s) to old-style personList() or
as.personList().  Please use c() on person objects instead.
Package CITATION file contains call(s) to old-style citEntry().  Please
use bibentry() instead.

Found the following (possibly) invalid URLs:
  URL: (https://github.com/rformassspectrometry/MetaboCoreUtils/issues/77)
    From: NEWS.md
    Message: Invalid URI scheme

The Description field should not start with the package name,
  'This package' or similar.
* checking package namespace information ... OK
* checking package dependencies ... OK
* checking if this is a source package ... OK
* checking if there is a namespace ... OK
* checking for hidden files and directories ... OK
* checking for portable file names ... OK
* checking for sufficient/correct file permissions ... OK
* checking whether package ‘MetaboCoreUtils’ can be installed ... OK
* checking installed package size ... OK
* checking package directory ... OK
* checking ‘build’ directory ... OK
* checking DESCRIPTION meta-information ... OK
* checking top-level files ... OK
* checking for left-over files ... OK
* checking index information ... OK
* checking package subdirectories ... OK
* checking code files for non-ASCII characters ... OK
* checking R files for syntax errors ... OK
* checking whether the package can be loaded ... OK
* checking whether the package can be loaded with stated dependencies ... OK
* checking whether the package can be unloaded cleanly ... OK
* checking whether the namespace can be loaded with stated dependencies ... OK
* checking whether the namespace can be unloaded cleanly ... OK
* checking loading without being on the library search path ... OK
* checking whether startup messages can be suppressed ... OK
* checking use of S3 registration ... OK
* checking dependencies in R code ... OK
* checking S3 generic/method consistency ... OK
* checking replacement functions ... OK
* checking foreign function calls ... OK
* checking R code for possible problems ... OK
* checking Rd files ... OK
* checking Rd metadata ... OK
* checking Rd cross-references ... NOTE
Non-topic package-anchored link(s) in Rd file 'isotopologues.Rd':
  ‘[MsCoreUtils:matching]{MsCoreUtils::closest()}’

See section 'Cross-references' in the 'Writing R Extensions' manual.

Found the following Rd file(s) with Rd \link{} targets missing package
anchors:
  fit_lm.Rd: bpparam
Please provide package anchors for all Rd \link{} targets not in the
package itself and the base packages.
* checking for missing documentation entries ... OK
* checking for code/documentation mismatches ... OK
* checking Rd \usage sections ... OK
* checking Rd contents ... OK
* checking for unstated dependencies in examples ... OK
* checking files in ‘vignettes’ ... OK
* checking examples ... OK
* checking for unstated dependencies in ‘tests’ ... OK
* checking tests ...
  Running ‘testthat.R’
 OK
* checking for unstated dependencies in vignettes ... OK
* checking package vignettes ... OK
* checking re-building of vignette outputs ... OK
* checking PDF version of manual ... OK
* DONE

Status: 2 NOTEs
See
  ‘/media/volume/teran2_disk/rapidbuild/bbs-3.23-bioc-rapid/meat/MetaboCoreUtils.Rcheck/00check.log’
for details.


Installation output

MetaboCoreUtils.Rcheck/00install.out

##############################################################################
##############################################################################
###
### Running command:
###
###   /home/rapidbuild/bbs-3.23-bioc-rapid/R/bin/R CMD INSTALL MetaboCoreUtils
###
##############################################################################
##############################################################################


* installing to library ‘/media/volume/teran2_disk/rapidbuild/bbs-3.23-bioc-rapid/R/site-library’
* installing *source* package ‘MetaboCoreUtils’ ...
** this is package ‘MetaboCoreUtils’ version ‘1.19.0’
** using staged installation
** R
** inst
** byte-compile and prepare package for lazy loading
** help
*** installing help indices
*** copying figures
** building package indices
** installing vignettes
** testing if installed package can be loaded from temporary location
** testing if installed package can be loaded from final location
** testing if installed package keeps a record of temporary installation path
* DONE (MetaboCoreUtils)

Tests output

MetaboCoreUtils.Rcheck/tests/testthat.Rout


R Under development (unstable) (2025-10-28 r88973) -- "Unsuffered Consequences"
Copyright (C) 2025 The R Foundation for Statistical Computing
Platform: x86_64-pc-linux-gnu

R is free software and comes with ABSOLUTELY NO WARRANTY.
You are welcome to redistribute it under certain conditions.
Type 'license()' or 'licence()' for distribution details.

R is a collaborative project with many contributors.
Type 'contributors()' for more information and
'citation()' on how to cite R or R packages in publications.

Type 'demo()' for some demos, 'help()' for on-line help, or
'help.start()' for an HTML browser interface to help.
Type 'q()' to quit R.

> library("testthat")
> 
> test_check("MetaboCoreUtils")
Loading required package: MetaboCoreUtils
[ FAIL 0 | WARN 2 | SKIP 0 | PASS 265 ]

[ FAIL 0 | WARN 2 | SKIP 0 | PASS 265 ]
> 
> proc.time()
   user  system elapsed 
  7.844   0.341   8.208 

Example timings

MetaboCoreUtils.Rcheck/MetaboCoreUtils-Ex.timings

nameusersystemelapsed
addElements0.0010.0000.001
adductFormula0.0030.0010.004
adductNames0.0010.0000.001
calculateKendrickMass000
calculateMass0.0000.0010.001
containsElements0.0000.0000.001
convertMtime0.0000.0000.001
correctRindex000
countElements000
fit_lm0.3030.0300.335
formula2mz0.0040.0000.005
indexRtime0.0000.0000.001
internalStandardMixNames0.0010.0000.000
internalStandards0.0070.0050.014
isotopicSubstitutionMatrix000
isotopologues0.0120.0020.015
mass2mz0.0010.0000.001
mclosest0.0020.0000.002
multiplyElements000
mz2mass0.0010.0000.001
pasteElements0.0000.0000.001
quality_assessment0.0010.0000.001
standardizeFormula0.0010.0000.000
subtractElements0.0010.0000.001