| Back to Rapid builds (Linux only) of a subset of BioC 3.23 Report updated every 6 hours |
This page was generated on 2025-11-08 10:13 -0500 (Sat, 08 Nov 2025).
| Hostname | OS | Arch (*) | R version | Installed pkgs |
|---|---|---|---|---|
| teran2 | Linux (Ubuntu 24.04.3 LTS) | x86_64 | R Under development (unstable) (2025-10-28 r88973) -- "Unsuffered Consequences" | 917 |
| Click on any hostname to see more info about the system (e.g. compilers) (*) as reported by 'uname -p', except on Windows and Mac OS X | ||||
| Package 148/230 | Hostname | OS / Arch | INSTALL | BUILD | CHECK | |||||||
| MsBackendSql 1.11.1 (landing page) Johannes Rainer
| teran2 | Linux (Ubuntu 24.04.3 LTS) / x86_64 | OK | OK | OK | |||||||
|
To the developers/maintainers of the MsBackendSql package: - Use the following Renviron settings to reproduce errors and warnings. - If 'R CMD check' started to fail recently on the Linux builder(s) over a missing dependency, add the missing dependency to 'Suggests:' in your DESCRIPTION file. See Renviron.bioc for more information. |
| Package: MsBackendSql |
| Version: 1.11.1 |
| Command: /home/rapidbuild/bbs-3.23-bioc-rapid/R/bin/R CMD check --install=check:MsBackendSql.install-out.txt --library=/home/rapidbuild/bbs-3.23-bioc-rapid/R/site-library --timings MsBackendSql_1.11.1.tar.gz |
| StartedAt: 2025-11-08 09:02:42 -0500 (Sat, 08 Nov 2025) |
| EndedAt: 2025-11-08 09:07:04 -0500 (Sat, 08 Nov 2025) |
| EllapsedTime: 261.9 seconds |
| RetCode: 0 |
| Status: OK |
| CheckDir: MsBackendSql.Rcheck |
| Warnings: 0 |
##############################################################################
##############################################################################
###
### Running command:
###
### /home/rapidbuild/bbs-3.23-bioc-rapid/R/bin/R CMD check --install=check:MsBackendSql.install-out.txt --library=/home/rapidbuild/bbs-3.23-bioc-rapid/R/site-library --timings MsBackendSql_1.11.1.tar.gz
###
##############################################################################
##############################################################################
* using log directory ‘/media/volume/teran2_disk/rapidbuild/bbs-3.23-bioc-rapid/meat/MsBackendSql.Rcheck’
* using R Under development (unstable) (2025-10-28 r88973)
* using platform: x86_64-pc-linux-gnu
* R was compiled by
gcc (Ubuntu 13.3.0-6ubuntu2~24.04) 13.3.0
GNU Fortran (Ubuntu 13.3.0-6ubuntu2~24.04) 13.3.0
* running under: Ubuntu 24.04.3 LTS
* using session charset: UTF-8
* checking for file ‘MsBackendSql/DESCRIPTION’ ... OK
* this is package ‘MsBackendSql’ version ‘1.11.1’
* package encoding: UTF-8
* checking CRAN incoming feasibility ... NOTE
Maintainer: ‘Johannes Rainer <Johannes.Rainer@eurac.edu>’
Unknown, possibly misspelled, fields in DESCRIPTION:
‘git_url’ ‘git_branch’ ‘git_last_commit’ ‘git_last_commit_date’
Uses the non-portable package: ‘mzR’
The Title field should be in title case. Current version is:
‘SQL-based Mass Spectrometry Data Backend’
In title case that is:
‘SQL-Based Mass Spectrometry Data Backend’
* checking package namespace information ... OK
* checking package dependencies ... OK
* checking if this is a source package ... OK
* checking if there is a namespace ... OK
* checking for hidden files and directories ... OK
* checking for portable file names ... OK
* checking for sufficient/correct file permissions ... OK
* checking whether package ‘MsBackendSql’ can be installed ... OK
* checking installed package size ... OK
* checking package directory ... OK
* checking ‘build’ directory ... OK
* checking DESCRIPTION meta-information ... OK
* checking top-level files ... OK
* checking for left-over files ... OK
* checking index information ... OK
* checking package subdirectories ... OK
* checking code files for non-ASCII characters ... OK
* checking R files for syntax errors ... OK
* checking whether the package can be loaded ... OK
* checking whether the package can be loaded with stated dependencies ... OK
* checking whether the package can be unloaded cleanly ... OK
* checking whether the namespace can be loaded with stated dependencies ... OK
* checking whether the namespace can be unloaded cleanly ... OK
* checking loading without being on the library search path ... OK
* checking use of S3 registration ... OK
* checking dependencies in R code ... OK
* checking S3 generic/method consistency ... OK
* checking replacement functions ... OK
* checking foreign function calls ... OK
* checking R code for possible problems ... OK
* checking Rd files ... OK
* checking Rd metadata ... OK
* checking Rd cross-references ... OK
* checking for missing documentation entries ... OK
* checking for code/documentation mismatches ... OK
* checking Rd \usage sections ... OK
* checking Rd contents ... OK
* checking for unstated dependencies in examples ... OK
* checking files in ‘vignettes’ ... OK
* checking examples ... OK
* checking for unstated dependencies in ‘tests’ ... OK
* checking tests ...
Running ‘testthat.R’
OK
* checking for unstated dependencies in vignettes ... OK
* checking package vignettes ... OK
* checking re-building of vignette outputs ... OK
* checking PDF version of manual ... OK
* DONE
Status: 1 NOTE
See
‘/media/volume/teran2_disk/rapidbuild/bbs-3.23-bioc-rapid/meat/MsBackendSql.Rcheck/00check.log’
for details.
MsBackendSql.Rcheck/00install.out
############################################################################## ############################################################################## ### ### Running command: ### ### /home/rapidbuild/bbs-3.23-bioc-rapid/R/bin/R CMD INSTALL MsBackendSql ### ############################################################################## ############################################################################## * installing to library ‘/media/volume/teran2_disk/rapidbuild/bbs-3.23-bioc-rapid/R/site-library’ * installing *source* package ‘MsBackendSql’ ... ** this is package ‘MsBackendSql’ version ‘1.11.1’ ** using staged installation ** R ** byte-compile and prepare package for lazy loading ** help *** installing help indices *** copying figures ** building package indices ** installing vignettes ** testing if installed package can be loaded from temporary location ** testing if installed package can be loaded from final location ** testing if installed package keeps a record of temporary installation path * DONE (MsBackendSql)
MsBackendSql.Rcheck/tests/testthat.Rout
R Under development (unstable) (2025-10-28 r88973) -- "Unsuffered Consequences"
Copyright (C) 2025 The R Foundation for Statistical Computing
Platform: x86_64-pc-linux-gnu
R is free software and comes with ABSOLUTELY NO WARRANTY.
You are welcome to redistribute it under certain conditions.
Type 'license()' or 'licence()' for distribution details.
R is a collaborative project with many contributors.
Type 'contributors()' for more information and
'citation()' on how to cite R or R packages in publications.
Type 'demo()' for some demos, 'help()' for on-line help, or
'help.start()' for an HTML browser interface to help.
Type 'q()' to quit R.
> library(testthat)
> library(MsBackendSql)
Loading required package: Spectra
Loading required package: S4Vectors
Loading required package: stats4
Loading required package: BiocGenerics
Loading required package: generics
Attaching package: 'generics'
The following objects are masked from 'package:base':
as.difftime, as.factor, as.ordered, intersect, is.element, setdiff,
setequal, union
Attaching package: 'BiocGenerics'
The following objects are masked from 'package:stats':
IQR, mad, sd, var, xtabs
The following objects are masked from 'package:base':
Filter, Find, Map, Position, Reduce, anyDuplicated, aperm, append,
as.data.frame, basename, cbind, colnames, dirname, do.call,
duplicated, eval, evalq, get, grep, grepl, is.unsorted, lapply,
mapply, match, mget, order, paste, pmax, pmax.int, pmin, pmin.int,
rank, rbind, rownames, sapply, saveRDS, table, tapply, unique,
unsplit, which.max, which.min
Attaching package: 'S4Vectors'
The following object is masked from 'package:utils':
findMatches
The following objects are masked from 'package:base':
I, expand.grid, unname
Loading required package: BiocParallel
> library(Spectra)
> library(RSQLite)
> library(msdata)
>
> setClass("DummySQL",
+ contains = "SQLiteConnection")
>
> setMethod("dbExecute", c("DummySQL", "character"),
+ function(conn, statement, ...) {
+ TRUE
+ })
>
> mm8_file <- system.file("microtofq", "MM8.mzML", package = "msdata")
> mm8_sps <- Spectra(mm8_file)
> mm8_db_long <- dbConnect(SQLite(), tempfile())
> createMsBackendSqlDatabase(mm8_db_long, mm8_file, blob = FALSE,
+ peaksStorageMode = "long")
Importing data ...
[==========================================================] 1/1 (100%) in 1s
Creating indices .... Done
[1] TRUE
> mm8_be_long <- backendInitialize(MsBackendSql(), mm8_db_long)
>
> mm8_db_blob <- dbConnect(SQLite(), tempfile())
> createMsBackendSqlDatabase(mm8_db_blob, mm8_file, blob = TRUE,
+ peaksStorageMode = "blob")
Importing data ...
[==========================================================] 1/1 (100%) in 1s
Creating indices .... Done
[1] TRUE
> mm8_be_blob <- backendInitialize(MsBackendSql(), mm8_db_blob)
>
> mm8_db_blob2 <- dbConnect(SQLite(), tempfile())
> createMsBackendSqlDatabase(mm8_db_blob2, mm8_file, blob = TRUE,
+ peaksStorageMode = "blob2")
Importing data ...
[==========================================================] 1/1 (100%) in 1s
Creating indices .... Done
[1] TRUE
> mm8_be_blob2 <- backendInitialize(MsBackendSql(), mm8_db_blob2)
>
> ################################################################################
> ##
> ## OPTIONAL TESTS WITH duckdb
> ## library(duckdb)
> ## mm8_db_long <- dbConnect(duckdb(), tempfile())
> ## createMsBackendSqlDatabase(mm8_db_long, mm8_file, blob = FALSE,
> ## peaksStorageMode = "long")
> ## mm8_be_long <- backendInitialize(MsBackendSql(), mm8_db_long)
>
> ## mm8_db_blob <- dbConnect(duckdb(), tempfile())
> ## createMsBackendSqlDatabase(mm8_db_blob, mm8_file, blob = TRUE,
> ## peaksStorageMode = "blob")
> ## mm8_be_blob <- backendInitialize(MsBackendSql(), mm8_db_blob)
>
> ## mm8_db_blob2 <- dbConnect(duckdb(), tempfile())
> ## createMsBackendSqlDatabase(mm8_db_blob2, mm8_file, blob = TRUE,
> ## peaksStorageMode = "blob2")
> ## mm8_be_blob2 <- backendInitialize(MsBackendSql(), mm8_db_blob2)
> ##
> ################################################################################
>
> mm14_file <- system.file("microtofq", "MM14.mzML", package = "msdata")
> mm_db <- dbConnect(SQLite(), tempfile())
> createMsBackendSqlDatabase(mm_db, c(mm8_file, mm14_file), blob = FALSE)
Importing data ...
[==========================================================] 1/1 (100%) in 1s
Creating indices .... Done
[1] TRUE
> mm_be <- backendInitialize(MsBackendSql(), mm_db)
>
> tmt_file <- proteomics(full.names = TRUE)[4L]
> tmt_mzr <- backendInitialize(MsBackendMzR(), tmt_file)
> tmt_db <- dbConnect(SQLite(), tempfile())
> createMsBackendSqlDatabase(tmt_db, tmt_file, blob = FALSE)
Importing data ...
[==========================================================] 1/1 (100%) in 39s
Creating indices .... Done
[1] TRUE
> tmt_be <- backendInitialize(MsBackendSql(), tmt_db)
>
> test_check("MsBackendSql")
[ FAIL 0 | WARN 3 | SKIP 1 | PASS 628 ]
══ Skipped tests (1) ═══════════════════════════════════════════════════════════
• empty test (1): 'test_MsBackendSql-functions.R:764:1'
[ FAIL 0 | WARN 3 | SKIP 1 | PASS 628 ]
Warning message:
call dbDisconnect() when finished working with a connection
>
> test_suite <- system.file("test_backends", "test_MsBackend",
+ package = "Spectra")
>
> be <- mm8_be_blob
> test_dir(test_suite, stop_on_failure = TRUE)
✔ | F W S OK | Context
⠏ | 0 | peaks_variables
✔ | 4 | peaks_variables
⠏ | 0 | spectra_subsetting
⠴ | 36 | spectra_subsetting
⠴ | 86 | spectra_subsetting
⠴ | 126 | spectra_subsetting
⠴ | 176 | spectra_subsetting
⠴ | 226 | spectra_subsetting
⠴ | 276 | spectra_subsetting
⠙ | 322 | spectra_subsetting
⠙ | 372 | spectra_subsetting
⠙ | 422 | spectra_subsetting
⠧ | 468 | spectra_subsetting
⠧ | 518 | spectra_subsetting
⠧ | 568 | spectra_subsetting
⠇ | 599 | spectra_subsetting
⠙ | 602 | spectra_subsetting
⠼ | 605 | spectra_subsetting
⠧ | 608 | spectra_subsetting
⠋ | 611 | spectra_subsetting
⠸ | 614 | spectra_subsetting
⠦ | 617 | spectra_subsetting
⠏ | 620 | spectra_subsetting
⠙ | 622 | spectra_subsetting
⠼ | 625 | spectra_subsetting
⠦ | 627 | spectra_subsetting
⠏ | 630 | spectra_subsetting
⠙ | 632 | spectra_subsetting
⠼ | 635 | spectra_subsetting
⠧ | 638 | spectra_subsetting
⠋ | 641 | spectra_subsetting
⠹ | 643 | spectra_subsetting
⠼ | 645 | spectra_subsetting
⠧ | 648 | spectra_subsetting
⠏ | 650 | spectra_subsetting
⠹ | 653 | spectra_subsetting
⠸ | 654 | spectra_subsetting
⠦ | 657 | spectra_subsetting
⠏ | 660 | spectra_subsetting
⠹ | 663 | spectra_subsetting
⠴ | 666 | spectra_subsetting
⠇ | 669 | spectra_subsetting
⠙ | 672 | spectra_subsetting
⠼ | 675 | spectra_subsetting
⠧ | 678 | spectra_subsetting
⠋ | 681 | spectra_subsetting
⠸ | 684 | spectra_subsetting
⠦ | 687 | spectra_subsetting
⠏ | 690 | spectra_subsetting
⠹ | 693 | spectra_subsetting
⠴ | 696 | spectra_subsetting
⠇ | 699 | spectra_subsetting
⠙ | 702 | spectra_subsetting
⠼ | 705 | spectra_subsetting
⠧ | 708 | spectra_subsetting
⠋ | 711 | spectra_subsetting
⠸ | 714 | spectra_subsetting
⠦ | 717 | spectra_subsetting
⠏ | 720 | spectra_subsetting
⠹ | 723 | spectra_subsetting
⠴ | 726 | spectra_subsetting
⠇ | 729 | spectra_subsetting
⠙ | 732 | spectra_subsetting
⠼ | 735 | spectra_subsetting
⠧ | 738 | spectra_subsetting
⠋ | 741 | spectra_subsetting
⠸ | 744 | spectra_subsetting
⠦ | 747 | spectra_subsetting
⠏ | 750 | spectra_subsetting
⠹ | 753 | spectra_subsetting
⠴ | 756 | spectra_subsetting
⠇ | 759 | spectra_subsetting
⠙ | 762 | spectra_subsetting
⠼ | 765 | spectra_subsetting
⠦ | 767 | spectra_subsetting
⠇ | 769 | spectra_subsetting
⠙ | 772 | spectra_subsetting
⠸ | 774 | spectra_subsetting
⠦ | 777 | spectra_subsetting
⠇ | 779 | spectra_subsetting
⠙ | 782 | spectra_subsetting
⠼ | 785 | spectra_subsetting
⠧ | 788 | spectra_subsetting
⠏ | 790 | spectra_subsetting
⠹ | 793 | spectra_subsetting
⠴ | 796 | spectra_subsetting
⠙ | 802 | spectra_subsetting
⠼ | 815 | spectra_subsetting
⠏ | 830 | spectra_subsetting
✔ | 838 | spectra_subsetting [11.4s]
⠏ | 0 | spectra_variables
⠸ | 14 | spectra_variables
⠦ | 37 | spectra_variables
⠼ | 55 | spectra_variables
✔ | 64 | spectra_variables
══ Results ═════════════════════════════════════════════════════════════════════
Duration: 11.9 s
[ FAIL 0 | WARN 0 | SKIP 0 | PASS 906 ]
🌈 Your tests are over the rainbow 🌈
>
> be <- tmt_be[sample(seq_along(tmt_be), 300)]
> test_dir(test_suite, stop_on_failure = TRUE)
✔ | F W S OK | Context
⠏ | 0 | peaks_variables
⠙ | 2 | peaks_variables
⠸ | 4 | peaks_variables
✔ | 4 | peaks_variables [2.6s]
⠏ | 0 | spectra_subsetting
⠧ | 28 | spectra_subsetting
⠧ | 78 | spectra_subsetting
⠙ | 122 | spectra_subsetting
⠹ | 173 | spectra_subsetting
⠸ | 224 | spectra_subsetting
⠸ | 274 | spectra_subsetting
⠇ | 319 | spectra_subsetting
⠏ | 370 | spectra_subsetting
⠋ | 421 | spectra_subsetting
⠦ | 437 | spectra_subsetting
⠦ | 487 | spectra_subsetting
⠦ | 537 | spectra_subsetting
⠴ | 586 | spectra_subsetting
⠋ | 631 | spectra_subsetting
⠸ | 674 | spectra_subsetting
⠸ | 724 | spectra_subsetting
⠇ | 769 | spectra_subsetting
⠧ | 818 | spectra_subsetting
⠧ | 868 | spectra_subsetting
⠼ | 905 | spectra_subsetting
⠦ | 907 | spectra_subsetting
⠇ | 909 | spectra_subsetting
⠙ | 912 | spectra_subsetting
⠼ | 915 | spectra_subsetting
⠦ | 917 | spectra_subsetting
⠏ | 920 | spectra_subsetting
⠙ | 922 | spectra_subsetting
⠼ | 925 | spectra_subsetting
⠧ | 928 | spectra_subsetting
⠋ | 931 | spectra_subsetting
⠸ | 934 | spectra_subsetting
⠦ | 937 | spectra_subsetting
⠇ | 939 | spectra_subsetting
⠋ | 941 | spectra_subsetting
⠹ | 943 | spectra_subsetting
⠼ | 945 | spectra_subsetting
⠧ | 948 | spectra_subsetting
⠋ | 951 | spectra_subsetting
⠸ | 954 | spectra_subsetting
⠦ | 957 | spectra_subsetting
⠏ | 960 | spectra_subsetting
⠹ | 963 | spectra_subsetting
⠼ | 965 | spectra_subsetting
⠦ | 967 | spectra_subsetting
⠏ | 970 | spectra_subsetting
⠙ | 972 | spectra_subsetting
⠸ | 974 | spectra_subsetting
⠦ | 977 | spectra_subsetting
⠏ | 980 | spectra_subsetting
⠋ | 981 | spectra_subsetting
⠹ | 983 | spectra_subsetting
⠼ | 985 | spectra_subsetting
⠦ | 987 | spectra_subsetting
⠇ | 989 | spectra_subsetting
⠙ | 992 | spectra_subsetting
⠹ | 993 | spectra_subsetting
⠴ | 996 | spectra_subsetting
⠧ | 998 | spectra_subsetting
⠋ | 1001 | spectra_subsetting
⠸ | 1004 | spectra_subsetting
⠴ | 1006 | spectra_subsetting
⠇ | 1009 | spectra_subsetting
⠙ | 1012 | spectra_subsetting
⠼ | 1015 | spectra_subsetting
⠧ | 1018 | spectra_subsetting
⠋ | 1021 | spectra_subsetting
⠸ | 1024 | spectra_subsetting
⠼ | 1025 | spectra_subsetting
⠧ | 1028 | spectra_subsetting
⠋ | 1031 | spectra_subsetting
⠹ | 1033 | spectra_subsetting
⠼ | 1035 | spectra_subsetting
⠧ | 1038 | spectra_subsetting
⠋ | 1041 | spectra_subsetting
⠹ | 1043 | spectra_subsetting
⠼ | 1045 | spectra_subsetting
⠧ | 1048 | spectra_subsetting
⠇ | 1049 | spectra_subsetting
⠋ | 1051 | spectra_subsetting
⠹ | 1053 | spectra_subsetting
⠼ | 1055 | spectra_subsetting
⠦ | 1057 | spectra_subsetting
⠏ | 1060 | spectra_subsetting
⠹ | 1063 | spectra_subsetting
⠴ | 1066 | spectra_subsetting
⠧ | 1068 | spectra_subsetting
⠋ | 1071 | spectra_subsetting
⠸ | 1074 | spectra_subsetting
⠴ | 1076 | spectra_subsetting
⠇ | 1079 | spectra_subsetting
⠋ | 1081 | spectra_subsetting
⠸ | 1084 | spectra_subsetting
⠴ | 1086 | spectra_subsetting
⠦ | 1087 | spectra_subsetting
⠏ | 1090 | spectra_subsetting
⠹ | 1093 | spectra_subsetting
⠴ | 1096 | spectra_subsetting
⠇ | 1099 | spectra_subsetting
⠋ | 1101 | spectra_subsetting
⠹ | 1103 | spectra_subsetting
⠸ | 1104 | spectra_subsetting
⠦ | 1107 | spectra_subsetting
⠇ | 1109 | spectra_subsetting
⠋ | 1111 | spectra_subsetting
⠸ | 1114 | spectra_subsetting
⠦ | 1117 | spectra_subsetting
⠏ | 1120 | spectra_subsetting
⠹ | 1123 | spectra_subsetting
⠴ | 1126 | spectra_subsetting
⠇ | 1129 | spectra_subsetting
⠙ | 1132 | spectra_subsetting
⠸ | 1134 | spectra_subsetting
⠦ | 1137 | spectra_subsetting
⠏ | 1140 | spectra_subsetting
⠙ | 1142 | spectra_subsetting
⠼ | 1145 | spectra_subsetting
⠧ | 1148 | spectra_subsetting
⠏ | 1150 | spectra_subsetting
⠙ | 1152 | spectra_subsetting
⠼ | 1155 | spectra_subsetting
⠧ | 1158 | spectra_subsetting
⠋ | 1161 | spectra_subsetting
⠸ | 1164 | spectra_subsetting
⠴ | 1166 | spectra_subsetting
⠇ | 1169 | spectra_subsetting
⠋ | 1171 | spectra_subsetting
⠸ | 1174 | spectra_subsetting
⠴ | 1176 | spectra_subsetting
⠇ | 1179 | spectra_subsetting
⠙ | 1182 | spectra_subsetting
⠹ | 1183 | spectra_subsetting
⠴ | 1186 | spectra_subsetting
⠇ | 1189 | spectra_subsetting
⠙ | 1192 | spectra_subsetting
⠸ | 1194 | spectra_subsetting
⠦ | 1197 | spectra_subsetting
⠏ | 1200 | spectra_subsetting
⠹ | 1203 | spectra_subsetting
⠦ | 1207 | spectra_subsetting
⠦ | 1217 | spectra_subsetting
⠹ | 1223 | spectra_subsetting
⠧ | 1238 | spectra_subsetting
⠼ | 1245 | spectra_subsetting
✔ | 1246 | spectra_subsetting [26.6s]
⠏ | 0 | spectra_variables
⠙ | 12 | spectra_variables
⠸ | 14 | spectra_variables
⠴ | 16 | spectra_variables
⠦ | 27 | spectra_variables
⠇ | 29 | spectra_variables
⠋ | 31 | spectra_variables
⠹ | 43 | spectra_variables
⠸ | 54 | spectra_variables
✔ | 64 | spectra_variables [8.7s]
══ Results ═════════════════════════════════════════════════════════════════════
Duration: 37.9 s
[ FAIL 0 | WARN 0 | SKIP 0 | PASS 1314 ]
>
> dbDisconnect(mm8_db_long)
> dbDisconnect(mm8_db_blob)
> dbDisconnect(mm8_db_blob2)
> dbDisconnect(mm_db)
> dbDisconnect(tmt_db)
>
> proc.time()
user system elapsed
148.103 17.709 161.175
MsBackendSql.Rcheck/MsBackendSql-Ex.timings
| name | user | system | elapsed | |
| MsBackendSql | 2.606 | 0.495 | 3.167 | |