| Back to Rapid builds (Linux only) of a subset of BioC 3.23 Report updated every 6 hours |
This page was generated on 2025-11-09 10:14 -0500 (Sun, 09 Nov 2025).
| Hostname | OS | Arch (*) | R version | Installed pkgs |
|---|---|---|---|---|
| teran2 | Linux (Ubuntu 24.04.3 LTS) | x86_64 | R Under development (unstable) (2025-10-28 r88973) -- "Unsuffered Consequences" | 917 |
| Click on any hostname to see more info about the system (e.g. compilers) (*) as reported by 'uname -p', except on Windows and Mac OS X | ||||
| Package 148/230 | Hostname | OS / Arch | INSTALL | BUILD | CHECK | |||||||
| MsBackendSql 1.11.1 (landing page) Johannes Rainer
| teran2 | Linux (Ubuntu 24.04.3 LTS) / x86_64 | OK | OK | OK | |||||||
|
To the developers/maintainers of the MsBackendSql package: - Use the following Renviron settings to reproduce errors and warnings. - If 'R CMD check' started to fail recently on the Linux builder(s) over a missing dependency, add the missing dependency to 'Suggests:' in your DESCRIPTION file. See Renviron.bioc for more information. |
| Package: MsBackendSql |
| Version: 1.11.1 |
| Command: /home/rapidbuild/bbs-3.23-bioc-rapid/R/bin/R CMD build --keep-empty-dirs --no-resave-data MsBackendSql |
| StartedAt: 2025-11-09 07:12:26 -0500 (Sun, 09 Nov 2025) |
| EndedAt: 2025-11-09 07:13:21 -0500 (Sun, 09 Nov 2025) |
| EllapsedTime: 54.6 seconds |
| RetCode: 0 |
| Status: OK |
| PackageFile: MsBackendSql_1.11.1.tar.gz |
| PackageFileSize: 348.4 KiB |
############################################################################## ############################################################################## ### ### Running command: ### ### /home/rapidbuild/bbs-3.23-bioc-rapid/R/bin/R CMD build --keep-empty-dirs --no-resave-data MsBackendSql ### ############################################################################## ############################################################################## * checking for file ‘MsBackendSql/DESCRIPTION’ ... OK * preparing ‘MsBackendSql’: * checking DESCRIPTION meta-information ... OK * installing the package (it is needed to build vignettes) * creating vignettes ... OK * checking for LF line-endings in source and make files and shell scripts * checking for empty or unneeded directories WARNING: directory ‘MsBackendSql/man/figures’ is empty * building ‘MsBackendSql_1.11.1.tar.gz’