Back to Rapid builds (Linux only) of a subset of BioC 3.23
Report updated every 6 hours

This page was generated on 2025-11-08 10:13 -0500 (Sat, 08 Nov 2025).

HostnameOSArch (*)R versionInstalled pkgs
teran2Linux (Ubuntu 24.04.3 LTS)x86_64R Under development (unstable) (2025-10-28 r88973) -- "Unsuffered Consequences" 917
Click on any hostname to see more info about the system (e.g. compilers)      (*) as reported by 'uname -p', except on Windows and Mac OS X

Package 61/230HostnameOS / ArchINSTALLBUILDCHECK
csaw 1.45.0  (landing page)
Aaron Lun
Snapshot Date: 2025-11-08 06:00 -0500 (Sat, 08 Nov 2025)
git_url: https://git.bioconductor.org/packages/csaw
git_branch: devel
git_last_commit: 39b0f81
git_last_commit_date: 2025-10-29 10:22:22 -0500 (Wed, 29 Oct 2025)
teran2Linux (Ubuntu 24.04.3 LTS) / x86_64  OK    OK    OK  


BUILD results for csaw on teran2

To the developers/maintainers of the csaw package:
- Use the following Renviron settings to reproduce errors and warnings.
- If 'R CMD check' started to fail recently on the Linux builder(s) over a missing dependency, add the missing dependency to 'Suggests:' in your DESCRIPTION file. See Renviron.bioc for more information.

raw results


Summary

Package: csaw
Version: 1.45.0
Command: /home/rapidbuild/bbs-3.23-bioc-rapid/R/bin/R CMD build --keep-empty-dirs --no-resave-data csaw
StartedAt: 2025-11-08 06:39:21 -0500 (Sat, 08 Nov 2025)
EndedAt: 2025-11-08 06:40:33 -0500 (Sat, 08 Nov 2025)
EllapsedTime: 71.9 seconds
RetCode: 0
Status:   OK  
PackageFile: csaw_1.45.0.tar.gz
PackageFileSize: 389.2 KiB

Command output

##############################################################################
##############################################################################
###
### Running command:
###
###   /home/rapidbuild/bbs-3.23-bioc-rapid/R/bin/R CMD build --keep-empty-dirs --no-resave-data csaw
###
##############################################################################
##############################################################################


* checking for file ‘csaw/DESCRIPTION’ ... OK
* preparing ‘csaw’:
* checking DESCRIPTION meta-information ... OK
* cleaning src
* installing the package (it is needed to build vignettes)
* creating vignettes ... OK
* cleaning src
* checking for LF line-endings in source and make files and shell scripts
* checking for empty or unneeded directories
  NB: this package now depends on R (>= 3.5.0)
  WARNING: Added dependency on R >= 3.5.0 because serialized objects in
  serialize/load version 3 cannot be read in older versions of R.
  File(s) containing such objects:
    ‘csaw/inst/exdata/exrange.rds’
* building ‘csaw_1.45.0.tar.gz’