| Back to Mac ARM64 build report for BioC 3.16 |
|
This page was generated on 2023-04-19 11:01:47 -0400 (Wed, 19 Apr 2023).
| Hostname | OS | Arch (*) | R version | Installed pkgs |
|---|---|---|---|---|
| kjohnson | macOS 13.0 Ventura | arm64 | 4.2.2 (2022-10-31) -- "Innocent and Trusting" | 4256 |
| Click on any hostname to see more info about the system (e.g. compilers) (*) as reported by 'uname -p', except on Windows and Mac OS X | ||||
|
To the developers/maintainers of the BiocParallel package: Make sure to use the following settings in order to reproduce any error or warning you see on this page. |
| Package 169/2183 | Hostname | OS / Arch | INSTALL | BUILD | BUILD BIN | ||||||||
| BiocParallel 1.32.6 (landing page) Martin Morgan
| kjohnson | macOS 13.0 Ventura / arm64 | OK | OK | OK | ||||||||
| QUICK STATS | OS / Arch | INSTALL | BUILD | BUILD BIN | |||||||||||||
| kjohnson | macOS 13.0 Ventura / arm64 |
|
|
| |||||||||||||
| Package 1/309 | Hostname | OS / Arch | INSTALL | BUILD | BUILD BIN | ||||||||||||
| abseqR 1.16.0 (landing page) JiaHong Fong
| kjohnson | macOS 13.0 Ventura / arm64 | OK | OK | OK | ||||||||||||
| Package 2/309 | Hostname | OS / Arch | INSTALL | BUILD | BUILD BIN | ||||||||||||
| ADImpute 1.8.0 (landing page) Ana Carolina Leote
| kjohnson | macOS 13.0 Ventura / arm64 | OK | OK | OK | ||||||||||||
| Package 3/309 | Hostname | OS / Arch | INSTALL | BUILD | BUILD BIN | ||||||||||||
| AffiXcan 1.16.0 (landing page) Alessandro Lussana
| kjohnson | macOS 13.0 Ventura / arm64 | OK | OK | OK | ||||||||||||
| Package 4/309 | Hostname | OS / Arch | INSTALL | BUILD | BUILD BIN | ||||||||||||
| ALDEx2 1.30.0 (landing page) Greg Gloor
| kjohnson | macOS 13.0 Ventura / arm64 | OK | OK | OK | ||||||||||||
| Package 5/309 | Hostname | OS / Arch | INSTALL | BUILD | BUILD BIN | ||||||||||||
| AlphaBeta 1.12.0 (landing page) Yadollah Shahryary Dizaji
| kjohnson | macOS 13.0 Ventura / arm64 | OK | OK | OK | ||||||||||||
| Package 6/309 | Hostname | OS / Arch | INSTALL | BUILD | BUILD BIN | ||||||||||||
| AlpsNMR 4.0.4 (landing page) Sergio Oller Moreno
| kjohnson | macOS 13.0 Ventura / arm64 | ERROR | ERROR | skipped | ||||||||||||
| Package 7/309 | Hostname | OS / Arch | INSTALL | BUILD | BUILD BIN | ||||||||||||
| amplican 1.20.0 (landing page) Eivind Valen
| kjohnson | macOS 13.0 Ventura / arm64 | OK | OK | OK | ||||||||||||
| Package 8/309 | Hostname | OS / Arch | INSTALL | BUILD | BUILD BIN | ||||||||||||
| ASICS 2.14.0 (landing page) Gaëlle Lefort
| kjohnson | macOS 13.0 Ventura / arm64 | OK | OK | OK | ||||||||||||
| Package 9/309 | Hostname | OS / Arch | INSTALL | BUILD | BUILD BIN | ||||||||||||
| ASpediaFI 1.12.0 (landing page) Doyeong Yu
| kjohnson | macOS 13.0 Ventura / arm64 | ERROR | ERROR | skipped | ||||||||||||
| Package 10/309 | Hostname | OS / Arch | INSTALL | BUILD | BUILD BIN | ||||||||||||
| atena 1.4.1 (landing page) Beatriz Calvo-Serra
| kjohnson | macOS 13.0 Ventura / arm64 | OK | OK | OK | ||||||||||||
| Package 11/309 | Hostname | OS / Arch | INSTALL | BUILD | BUILD BIN | ||||||||||||
| atSNP 1.14.0 (landing page) Sunyoung Shin
| kjohnson | macOS 13.0 Ventura / arm64 | OK | OK | OK | ||||||||||||
| Package 12/309 | Hostname | OS / Arch | INSTALL | BUILD | BUILD BIN | ||||||||||||
| bacon 1.26.0 (landing page) Maarten van Iterson
| kjohnson | macOS 13.0 Ventura / arm64 | OK | OK | OK | ||||||||||||
| Package 13/309 | Hostname | OS / Arch | INSTALL | BUILD | BUILD BIN | ||||||||||||
| bambu 3.0.8 (landing page) Ying Chen
| kjohnson | macOS 13.0 Ventura / arm64 | OK | OK | OK | ||||||||||||
| Package 14/309 | Hostname | OS / Arch | INSTALL | BUILD | BUILD BIN | ||||||||||||
| BANDITS 1.14.2 (landing page) Simone Tiberi
| kjohnson | macOS 13.0 Ventura / arm64 | OK | OK | OK | ||||||||||||
| Package 15/309 | Hostname | OS / Arch | INSTALL | BUILD | BUILD BIN | ||||||||||||
| bandle 1.2.2 (landing page) Oliver M. Crook
| kjohnson | macOS 13.0 Ventura / arm64 | OK | OK | OK | ||||||||||||
| Package 16/309 | Hostname | OS / Arch | INSTALL | BUILD | BUILD BIN | ||||||||||||
| BASiCS 2.10.5 (landing page) Catalina Vallejos
| kjohnson | macOS 13.0 Ventura / arm64 | OK | OK | OK | ||||||||||||
| Package 17/309 | Hostname | OS / Arch | INSTALL | BUILD | BUILD BIN | ||||||||||||
| batchelor 1.14.1 (landing page) Aaron Lun
| kjohnson | macOS 13.0 Ventura / arm64 | OK | OK | OK | ||||||||||||
| Package 18/309 | Hostname | OS / Arch | INSTALL | BUILD | BUILD BIN | ||||||||||||
| bayNorm 1.16.2 (landing page) Wenhao Tang
| kjohnson | macOS 13.0 Ventura / arm64 | OK | OK | OK | ||||||||||||
| Package 19/309 | Hostname | OS / Arch | INSTALL | BUILD | BUILD BIN | ||||||||||||
| BEclear 2.14.0 (landing page) David Rasp
| kjohnson | macOS 13.0 Ventura / arm64 | OK | ERROR | skipped | ||||||||||||
| Package 20/309 | Hostname | OS / Arch | INSTALL | BUILD | BUILD BIN | ||||||||||||
| beer 1.2.0 (landing page) Athena Chen
| kjohnson | macOS 13.0 Ventura / arm64 | OK | OK | OK | ||||||||||||
| Package 21/309 | Hostname | OS / Arch | INSTALL | BUILD | BUILD BIN | ||||||||||||
| benchdamic 1.4.0 (landing page) Matteo Calgaro
| kjohnson | macOS 13.0 Ventura / arm64 | OK | OK | OK | ||||||||||||
| Package 22/309 | Hostname | OS / Arch | INSTALL | BUILD | BUILD BIN | ||||||||||||
| BiocNeighbors 1.16.0 (landing page) Aaron Lun
| kjohnson | macOS 13.0 Ventura / arm64 | OK | OK | OK | ||||||||||||
| Package 23/309 | Hostname | OS / Arch | INSTALL | BUILD | BUILD BIN | ||||||||||||
| BioCor 1.22.0 (landing page) Lluís Revilla Sancho
| kjohnson | macOS 13.0 Ventura / arm64 | OK | OK | OK | ||||||||||||
| Package 24/309 | Hostname | OS / Arch | INSTALL | BUILD | BUILD BIN | ||||||||||||
| BiocSingular 1.14.0 (landing page) Aaron Lun
| kjohnson | macOS 13.0 Ventura / arm64 | OK | OK | OK | ||||||||||||
| Package 25/309 | Hostname | OS / Arch | INSTALL | BUILD | BUILD BIN | ||||||||||||
| BioMM 1.14.0 (landing page) Junfang Chen
| kjohnson | macOS 13.0 Ventura / arm64 | OK | OK | OK | ||||||||||||
| Package 26/309 | Hostname | OS / Arch | INSTALL | BUILD | BUILD BIN | ||||||||||||
| BioNERO 1.6.1 (landing page) Fabricio Almeida-Silva
| kjohnson | macOS 13.0 Ventura / arm64 | OK | OK | OK | ||||||||||||
| Package 27/309 | Hostname | OS / Arch | INSTALL | BUILD | BUILD BIN | ||||||||||||
| BioNetStat 1.18.0 (landing page) Vinicius Jardim
| kjohnson | macOS 13.0 Ventura / arm64 | OK | OK | OK | ||||||||||||
| Package 28/309 | Hostname | OS / Arch | INSTALL | BUILD | BUILD BIN | ||||||||||||
| biotmle 1.22.0 (landing page) Nima Hejazi
| kjohnson | macOS 13.0 Ventura / arm64 | OK | OK | OK | ||||||||||||
| Package 29/309 | Hostname | OS / Arch | INSTALL | BUILD | BUILD BIN | ||||||||||||
| biscuiteer 1.12.0 (landing page) Jacob Morrison
| kjohnson | macOS 13.0 Ventura / arm64 | OK | OK | OK | ||||||||||||
| Package 30/309 | Hostname | OS / Arch | INSTALL | BUILD | BUILD BIN | ||||||||||||
| bluster 1.8.0 (landing page) Aaron Lun
| kjohnson | macOS 13.0 Ventura / arm64 | OK | OK | OK | ||||||||||||
| Package 31/309 | Hostname | OS / Arch | INSTALL | BUILD | BUILD BIN | ||||||||||||
| brendaDb 1.12.0 (landing page) Yi Zhou
| kjohnson | macOS 13.0 Ventura / arm64 | OK | OK | OK | ||||||||||||
| Package 32/309 | Hostname | OS / Arch | INSTALL | BUILD | BUILD BIN | ||||||||||||
| bsseq 1.34.0 (landing page) Kasper Daniel Hansen
| kjohnson | macOS 13.0 Ventura / arm64 | OK | OK | OK | ||||||||||||
| Package 33/309 | Hostname | OS / Arch | INSTALL | BUILD | BUILD BIN | ||||||||||||
| CAGEfightR 1.18.0 (landing page) Malte Thodberg
| kjohnson | macOS 13.0 Ventura / arm64 | OK | OK | OK | ||||||||||||
| Package 34/309 | Hostname | OS / Arch | INSTALL | BUILD | BUILD BIN | ||||||||||||
| CAGEr 2.4.0 (landing page) Charles Plessy
| kjohnson | macOS 13.0 Ventura / arm64 | OK | OK | OK | ||||||||||||
| Package 35/309 | Hostname | OS / Arch | INSTALL | BUILD | BUILD BIN | ||||||||||||
| Cardinal 3.0.1 (landing page) Kylie A. Bemis
| kjohnson | macOS 13.0 Ventura / arm64 | OK | OK | OK | ||||||||||||
| Package 36/309 | Hostname | OS / Arch | INSTALL | BUILD | BUILD BIN | ||||||||||||
| CBEA 1.2.0 (landing page) Quang Nguyen
| kjohnson | macOS 13.0 Ventura / arm64 | OK | OK | OK | ||||||||||||
| Package 37/309 | Hostname | OS / Arch | INSTALL | BUILD | BUILD BIN | ||||||||||||
| ccImpute 1.0.2 (landing page) Marcin Malec
| kjohnson | macOS 13.0 Ventura / arm64 | OK | OK | OK | ||||||||||||
| Package 38/309 | Hostname | OS / Arch | INSTALL | BUILD | BUILD BIN | ||||||||||||
| cellbaseR 1.22.0 (landing page) Mohammed OE Abdallah
| kjohnson | macOS 13.0 Ventura / arm64 | OK | OK | OK | ||||||||||||
| Package 39/309 | Hostname | OS / Arch | INSTALL | BUILD | BUILD BIN | ||||||||||||
| CellBench 1.14.0 (landing page) Shian Su
| kjohnson | macOS 13.0 Ventura / arm64 | OK | OK | OK | ||||||||||||
| Package 40/309 | Hostname | OS / Arch | INSTALL | BUILD | BUILD BIN | ||||||||||||
| CelliD 1.6.2 (landing page) Akira Cortal
| kjohnson | macOS 13.0 Ventura / arm64 | OK | OK | OK | ||||||||||||
| Package 41/309 | Hostname | OS / Arch | INSTALL | BUILD | BUILD BIN | ||||||||||||
| CellMixS 1.14.0 (landing page) Almut Lütge
| kjohnson | macOS 13.0 Ventura / arm64 | OK | OK | OK | ||||||||||||
| Package 42/309 | Hostname | OS / Arch | INSTALL | BUILD | BUILD BIN | ||||||||||||
| censcyt 1.6.1 (landing page) Reto Gerber
| kjohnson | macOS 13.0 Ventura / arm64 | OK | OK | OK | ||||||||||||
| Package 43/309 | Hostname | OS / Arch | INSTALL | BUILD | BUILD BIN | ||||||||||||
| Cepo 1.4.0 (landing page) Hani Jieun Kim
| kjohnson | macOS 13.0 Ventura / arm64 | OK | OK | OK | ||||||||||||
| Package 44/309 | Hostname | OS / Arch | INSTALL | BUILD | BUILD BIN | ||||||||||||
| ChIPexoQual 1.22.0 (landing page) Rene Welch
| kjohnson | macOS 13.0 Ventura / arm64 | OK | OK | OK | ||||||||||||
| Package 45/309 | Hostname | OS / Arch | INSTALL | BUILD | BUILD BIN | ||||||||||||
| ChIPQC 1.34.1 (landing page) Tom Carroll
| kjohnson | macOS 13.0 Ventura / arm64 | OK | OK | OK | ||||||||||||
| Package 46/309 | Hostname | OS / Arch | INSTALL | BUILD | BUILD BIN | ||||||||||||
| ChromSCape 1.8.0 (landing page) Pacome Prompsy
| kjohnson | macOS 13.0 Ventura / arm64 | OK | OK | OK | ||||||||||||
| Package 47/309 | Hostname | OS / Arch | INSTALL | BUILD | BUILD BIN | ||||||||||||
| chromswitch 1.20.0 (landing page) Selin Jessa
| kjohnson | macOS 13.0 Ventura / arm64 | OK | OK | OK | ||||||||||||
| Package 48/309 | Hostname | OS / Arch | INSTALL | BUILD | BUILD BIN | ||||||||||||
| chromVAR 1.20.2 (landing page) Alicia Schep
| kjohnson | macOS 13.0 Ventura / arm64 | OK | OK | OK | ||||||||||||
| Package 49/309 | Hostname | OS / Arch | INSTALL | BUILD | BUILD BIN | ||||||||||||
| ClassifyR 3.2.7 (landing page) Dario Strbenac
| kjohnson | macOS 13.0 Ventura / arm64 | OK | OK | OK | ||||||||||||
| Package 50/309 | Hostname | OS / Arch | INSTALL | BUILD | BUILD BIN | ||||||||||||
| clusterSeq 1.22.0 (landing page) Thomas J. Hardcastle
| kjohnson | macOS 13.0 Ventura / arm64 | OK | OK | OK | ||||||||||||
| Package 51/309 | Hostname | OS / Arch | INSTALL | BUILD | BUILD BIN | ||||||||||||
| CNVMetrics 1.2.0 (landing page) Astrid Deschênes
| kjohnson | macOS 13.0 Ventura / arm64 | OK | OK | OK | ||||||||||||
| Package 52/309 | Hostname | OS / Arch | INSTALL | BUILD | BUILD BIN | ||||||||||||
| CNVRanger 1.14.0 (landing page) Ludwig Geistlinger
| kjohnson | macOS 13.0 Ventura / arm64 | OK | OK | OK | ||||||||||||
| Package 53/309 | Hostname | OS / Arch | INSTALL | BUILD | BUILD BIN | ||||||||||||
| CoGAPS 3.18.0 (landing page) Elana J. Fertig
| kjohnson | macOS 13.0 Ventura / arm64 | ERROR | ERROR | skipped | ||||||||||||
| Package 54/309 | Hostname | OS / Arch | INSTALL | BUILD | BUILD BIN | ||||||||||||
| comapr 1.2.0 (landing page) Ruqian Lyu
| kjohnson | macOS 13.0 Ventura / arm64 | OK | OK | OK | ||||||||||||
| Package 55/309 | Hostname | OS / Arch | INSTALL | BUILD | BUILD BIN | ||||||||||||
| coMethDMR 1.2.0 (landing page) Fernanda Veitzman
| kjohnson | macOS 13.0 Ventura / arm64 | OK | OK | OK | ||||||||||||
| Package 56/309 | Hostname | OS / Arch | INSTALL | BUILD | BUILD BIN | ||||||||||||
| condiments 1.6.0 (landing page) Hector Roux de Bezieux
| kjohnson | macOS 13.0 Ventura / arm64 | OK | OK | OK | ||||||||||||
| Package 57/309 | Hostname | OS / Arch | INSTALL | BUILD | BUILD BIN | ||||||||||||
| consensusDE 1.16.0 (landing page) Ashley J. Waardenberg
| kjohnson | macOS 13.0 Ventura / arm64 | OK | OK | OK | ||||||||||||
| Package 58/309 | Hostname | OS / Arch | INSTALL | BUILD | BUILD BIN | ||||||||||||
| consensusSeekeR 1.26.0 (landing page) Astrid Deschenes
| kjohnson | macOS 13.0 Ventura / arm64 | OK | OK | OK | ||||||||||||
| Package 59/309 | Hostname | OS / Arch | INSTALL | BUILD | BUILD BIN | ||||||||||||
| consICA 1.0.0 (landing page) Petr V. Nazarov
| kjohnson | macOS 13.0 Ventura / arm64 | OK | OK | OK | ||||||||||||
| Package 60/309 | Hostname | OS / Arch | INSTALL | BUILD | BUILD BIN | ||||||||||||
| contiBAIT 1.26.0 (landing page) Kieran O'Neill
| kjohnson | macOS 13.0 Ventura / arm64 | OK | OK | OK | ||||||||||||
| Package 61/309 | Hostname | OS / Arch | INSTALL | BUILD | BUILD BIN | ||||||||||||
| CopywriteR 2.30.0 (landing page) Oscar Krijgsman
| kjohnson | macOS 13.0 Ventura / arm64 | OK | OK | OK | ||||||||||||
| Package 62/309 | Hostname | OS / Arch | INSTALL | BUILD | BUILD BIN | ||||||||||||
| CoreGx 2.2.0 (landing page) Benjamin Haibe-Kains
| kjohnson | macOS 13.0 Ventura / arm64 | OK | OK | OK | ||||||||||||
| Package 63/309 | Hostname | OS / Arch | INSTALL | BUILD | BUILD BIN | ||||||||||||
| coseq 1.22.0 (landing page) Andrea Rau
| kjohnson | macOS 13.0 Ventura / arm64 | OK | OK | OK | ||||||||||||
| Package 64/309 | Hostname | OS / Arch | INSTALL | BUILD | BUILD BIN | ||||||||||||
| cpvSNP 1.30.0 (landing page) Caitlin McHugh
| kjohnson | macOS 13.0 Ventura / arm64 | OK | OK | OK | ||||||||||||
| Package 65/309 | Hostname | OS / Arch | INSTALL | BUILD | BUILD BIN | ||||||||||||
| CrispRVariants 1.26.0 (landing page) Helen Lindsay
| kjohnson | macOS 13.0 Ventura / arm64 | OK | OK | OK | ||||||||||||
| Package 66/309 | Hostname | OS / Arch | INSTALL | BUILD | BUILD BIN | ||||||||||||
| csaw 1.32.0 (landing page) Aaron Lun
| kjohnson | macOS 13.0 Ventura / arm64 | OK | OK | OK | ||||||||||||
| Package 67/309 | Hostname | OS / Arch | INSTALL | BUILD | BUILD BIN | ||||||||||||
| CTSV 1.0.0 (landing page) Jinge Yu Developer
| kjohnson | macOS 13.0 Ventura / arm64 | OK | OK | OK | ||||||||||||
| Package 68/309 | Hostname | OS / Arch | INSTALL | BUILD | BUILD BIN | ||||||||||||
| cydar 1.22.0 (landing page) Aaron Lun
| kjohnson | macOS 13.0 Ventura / arm64 | OK | OK | OK | ||||||||||||
| Package 69/309 | Hostname | OS / Arch | INSTALL | BUILD | BUILD BIN | ||||||||||||
| CytoGLMM 1.6.0 (landing page) Christof Seiler
| kjohnson | macOS 13.0 Ventura / arm64 | OK | OK | OK | ||||||||||||
| Package 70/309 | Hostname | OS / Arch | INSTALL | BUILD | BUILD BIN | ||||||||||||
| cytoKernel 1.4.0 (landing page) Tusharkanti Ghosh
| kjohnson | macOS 13.0 Ventura / arm64 | OK | OK | OK | ||||||||||||
| Package 71/309 | Hostname | OS / Arch | INSTALL | BUILD | BUILD BIN | ||||||||||||
| cytomapper 1.10.1 (landing page) Nils Eling
| kjohnson | macOS 13.0 Ventura / arm64 | OK | OK | OK | ||||||||||||
| Package 72/309 | Hostname | OS / Arch | INSTALL | BUILD | BUILD BIN | ||||||||||||
| dasper 1.8.0 (landing page) David Zhang
| kjohnson | macOS 13.0 Ventura / arm64 | OK | ERROR | skipped | ||||||||||||
| Package 73/309 | Hostname | OS / Arch | INSTALL | BUILD | BUILD BIN | ||||||||||||
| dcGSA 1.26.0 (landing page) Jiehuan sun
| kjohnson | macOS 13.0 Ventura / arm64 | OK | OK | OK | ||||||||||||
| Package 74/309 | Hostname | OS / Arch | INSTALL | BUILD | BUILD BIN | ||||||||||||
| debCAM 1.16.0 (landing page) Lulu Chen
| kjohnson | macOS 13.0 Ventura / arm64 | OK | OK | OK | ||||||||||||
| Package 75/309 | Hostname | OS / Arch | INSTALL | BUILD | BUILD BIN | ||||||||||||
| deco 1.14.0 (landing page) Francisco Jose Campos Laborie
| kjohnson | macOS 13.0 Ventura / arm64 | OK | OK | OK | ||||||||||||
| Package 76/309 | Hostname | OS / Arch | INSTALL | BUILD | BUILD BIN | ||||||||||||
Guofeng Meng
| kjohnson | macOS 13.0 Ventura / arm64 | OK | ERROR | skipped | ||||||||||||
| Package 77/309 | Hostname | OS / Arch | INSTALL | BUILD | BUILD BIN | ||||||||||||
| DepInfeR 1.2.0 (landing page) Junyan Lu
| kjohnson | macOS 13.0 Ventura / arm64 | OK | OK | OK | ||||||||||||
| Package 78/309 | Hostname | OS / Arch | INSTALL | BUILD | BUILD BIN | ||||||||||||
| derfinder 1.32.0 (landing page) Leonardo Collado-Torres
| kjohnson | macOS 13.0 Ventura / arm64 | OK | OK | OK | ||||||||||||
| Package 79/309 | Hostname | OS / Arch | INSTALL | BUILD | BUILD BIN | ||||||||||||
| DEScan2 1.18.2 (landing page) Dario Righelli
| kjohnson | macOS 13.0 Ventura / arm64 | OK | OK | OK | ||||||||||||
| Package 80/309 | Hostname | OS / Arch | INSTALL | BUILD | BUILD BIN | ||||||||||||
| DESeq2 1.38.3 (landing page) Michael Love
| kjohnson | macOS 13.0 Ventura / arm64 | OK | OK | OK | ||||||||||||
| Package 81/309 | Hostname | OS / Arch | INSTALL | BUILD | BUILD BIN | ||||||||||||
| DEsingle 1.18.1 (landing page) Zhun Miao
| kjohnson | macOS 13.0 Ventura / arm64 | OK | OK | OK | ||||||||||||
| Package 82/309 | Hostname | OS / Arch | INSTALL | BUILD | BUILD BIN | ||||||||||||
| DEWSeq 1.12.0 (landing page) bioinformatics team Hentze
| kjohnson | macOS 13.0 Ventura / arm64 | OK | OK | OK | ||||||||||||
| Package 83/309 | Hostname | OS / Arch | INSTALL | BUILD | BUILD BIN | ||||||||||||
| DEXSeq 1.44.0 (landing page) Alejandro Reyes
| kjohnson | macOS 13.0 Ventura / arm64 | OK | OK | OK | ||||||||||||
| Package 84/309 | Hostname | OS / Arch | INSTALL | BUILD | BUILD BIN | ||||||||||||
| DiffBind 3.8.4 (landing page) Rory Stark
| kjohnson | macOS 13.0 Ventura / arm64 | OK | OK | OK | ||||||||||||
| Package 85/309 | Hostname | OS / Arch | INSTALL | BUILD | BUILD BIN | ||||||||||||
| Dino 1.4.0 (landing page) Jared Brown
| kjohnson | macOS 13.0 Ventura / arm64 | OK | OK | OK | ||||||||||||
| Package 86/309 | Hostname | OS / Arch | INSTALL | BUILD | BUILD BIN | ||||||||||||
| DMCFB 1.12.0 (landing page) Farhad Shokoohi
| kjohnson | macOS 13.0 Ventura / arm64 | OK | OK | OK | ||||||||||||
| Package 87/309 | Hostname | OS / Arch | INSTALL | BUILD | BUILD BIN | ||||||||||||
| DMCHMM 1.20.0 (landing page) Farhad Shokoohi
| kjohnson | macOS 13.0 Ventura / arm64 | OK | OK | OK | ||||||||||||
| Package 88/309 | Hostname | OS / Arch | INSTALL | BUILD | BUILD BIN | ||||||||||||
| dmrseq 1.18.1 (landing page) Keegan Korthauer
| kjohnson | macOS 13.0 Ventura / arm64 | OK | OK | OK | ||||||||||||
| Package 89/309 | Hostname | OS / Arch | INSTALL | BUILD | BUILD BIN | ||||||||||||
| doppelgangR 1.26.0 (landing page) Levi Waldron
| kjohnson | macOS 13.0 Ventura / arm64 | OK | OK | OK | ||||||||||||
| Package 90/309 | Hostname | OS / Arch | INSTALL | BUILD | BUILD BIN | ||||||||||||
| DOSE 3.24.2 (landing page) Guangchuang Yu
| kjohnson | macOS 13.0 Ventura / arm64 | OK | OK | OK | ||||||||||||
| Package 91/309 | Hostname | OS / Arch | INSTALL | BUILD | BUILD BIN | ||||||||||||
| DRIMSeq 1.26.0 (landing page) Malgorzata Nowicka
| kjohnson | macOS 13.0 Ventura / arm64 | OK | OK | OK | ||||||||||||
| Package 92/309 | Hostname | OS / Arch | INSTALL | BUILD | BUILD BIN | ||||||||||||
| DropletUtils 1.18.1 (landing page) Jonathan Griffiths
| kjohnson | macOS 13.0 Ventura / arm64 | OK | OK | OK | ||||||||||||
| Package 93/309 | Hostname | OS / Arch | INSTALL | BUILD | BUILD BIN | ||||||||||||
| DSS 2.46.0 (landing page) Hao Wu
| kjohnson | macOS 13.0 Ventura / arm64 | OK | OK | OK | ||||||||||||
| Package 94/309 | Hostname | OS / Arch | INSTALL | BUILD | BUILD BIN | ||||||||||||
| Dune 1.10.0 (landing page) Hector Roux de Bezieux
| kjohnson | macOS 13.0 Ventura / arm64 | OK | OK | OK | ||||||||||||
| Package 95/309 | Hostname | OS / Arch | INSTALL | BUILD | BUILD BIN | ||||||||||||
| easier 1.4.0 (landing page) Oscar Lapuente-Santana
| kjohnson | macOS 13.0 Ventura / arm64 | OK | OK | OK | ||||||||||||
| Package 96/309 | Hostname | OS / Arch | INSTALL | BUILD | BUILD BIN | ||||||||||||
| easyRNASeq 2.34.0 (landing page) Nicolas Delhomme
| kjohnson | macOS 13.0 Ventura / arm64 | OK | OK | OK | ||||||||||||
| Package 97/309 | Hostname | OS / Arch | INSTALL | BUILD | BUILD BIN | ||||||||||||
| EMDomics 2.28.0 (landing page) Sadhika Malladi
| kjohnson | macOS 13.0 Ventura / arm64 | OK | OK | OK | ||||||||||||
| Package 98/309 | Hostname | OS / Arch | INSTALL | BUILD | BUILD BIN | ||||||||||||
| enhancerHomologSearch 1.4.2 (landing page) Jianhong Ou
| kjohnson | macOS 13.0 Ventura / arm64 | OK | OK | OK | ||||||||||||
| Package 99/309 | Hostname | OS / Arch | INSTALL | BUILD | BUILD BIN | ||||||||||||
| epimutacions 1.2.0 (landing page) Dolors Pelegri-Siso
| kjohnson | macOS 13.0 Ventura / arm64 | OK | OK | OK | ||||||||||||
| Package 100/309 | Hostname | OS / Arch | INSTALL | BUILD | BUILD BIN | ||||||||||||
| epistasisGA 1.0.2 (landing page) Michael Nodzenski
| kjohnson | macOS 13.0 Ventura / arm64 | OK | OK | OK | ||||||||||||
| Package 101/309 | Hostname | OS / Arch | INSTALL | BUILD | BUILD BIN | ||||||||||||
| erma 1.14.0 (landing page) VJ Carey
| kjohnson | macOS 13.0 Ventura / arm64 | OK | OK | OK | ||||||||||||
| Package 102/309 | Hostname | OS / Arch | INSTALL | BUILD | BUILD BIN | ||||||||||||
| ERSSA 1.16.0 (landing page) Zixuan Shao
| kjohnson | macOS 13.0 Ventura / arm64 | OK | OK | OK | ||||||||||||
| Package 103/309 | Hostname | OS / Arch | INSTALL | BUILD | BUILD BIN | ||||||||||||
| escape 1.8.0 (landing page) Nick Borcherding
| kjohnson | macOS 13.0 Ventura / arm64 | OK | OK | OK | ||||||||||||
| Package 104/309 | Hostname | OS / Arch | INSTALL | BUILD | BUILD BIN | ||||||||||||
| EWCE 1.6.0 (landing page) Alan Murphy
| kjohnson | macOS 13.0 Ventura / arm64 | OK | OK | OK | ||||||||||||
| Package 105/309 | Hostname | OS / Arch | INSTALL | BUILD | BUILD BIN | ||||||||||||
| exomePeak2 1.10.0 (landing page) Zhen Wei
| kjohnson | macOS 13.0 Ventura / arm64 | OK | OK | OK | ||||||||||||
| Package 106/309 | Hostname | OS / Arch | INSTALL | BUILD | BUILD BIN | ||||||||||||
| extraChIPs 1.2.4 (landing page) Stephen Pederson
| kjohnson | macOS 13.0 Ventura / arm64 | OK | OK | OK | ||||||||||||
| Package 107/309 | Hostname | OS / Arch | INSTALL | BUILD | BUILD BIN | ||||||||||||
| factR 1.0.0 (landing page) Fursham Hamid
| kjohnson | macOS 13.0 Ventura / arm64 | OK | OK | OK | ||||||||||||
| Package 108/309 | Hostname | OS / Arch | INSTALL | BUILD | BUILD BIN | ||||||||||||
| FEAST 1.6.0 (landing page) Kenong Su
| kjohnson | macOS 13.0 Ventura / arm64 | OK | OK | OK | ||||||||||||
| Package 109/309 | Hostname | OS / Arch | INSTALL | BUILD | BUILD BIN | ||||||||||||
| fgsea 1.24.0 (landing page) Alexey Sergushichev
| kjohnson | macOS 13.0 Ventura / arm64 | OK | OK | OK | ||||||||||||
| Package 110/309 | Hostname | OS / Arch | INSTALL | BUILD | BUILD BIN | ||||||||||||
| FindIT2 1.4.0 (landing page) Guandong Shang
| kjohnson | macOS 13.0 Ventura / arm64 | OK | OK | OK | ||||||||||||
| Package 111/309 | Hostname | OS / Arch | INSTALL | BUILD | BUILD BIN | ||||||||||||
| flowcatchR 1.32.0 (landing page) Federico Marini
| kjohnson | macOS 13.0 Ventura / arm64 | OK | OK | OK | ||||||||||||
| Package 112/309 | Hostname | OS / Arch | INSTALL | BUILD | BUILD BIN | ||||||||||||
| flowSpecs 1.12.0 (landing page) Jakob Theorell
| kjohnson | macOS 13.0 Ventura / arm64 | OK | OK | OK | ||||||||||||
| Package 113/309 | Hostname | OS / Arch | INSTALL | BUILD | BUILD BIN | ||||||||||||
| FRASER 1.10.2 (landing page) Christian Mertes
| kjohnson | macOS 13.0 Ventura / arm64 | OK | OK | OK | ||||||||||||
| Package 114/309 | Hostname | OS / Arch | INSTALL | BUILD | BUILD BIN | ||||||||||||
| GDCRNATools 1.18.0 (landing page) Ruidong Li
| kjohnson | macOS 13.0 Ventura / arm64 | OK | OK | OK | ||||||||||||
| Package 115/309 | Hostname | OS / Arch | INSTALL | BUILD | BUILD BIN | ||||||||||||
| GENESIS 2.28.0 (landing page) Stephanie M. Gogarten
| kjohnson | macOS 13.0 Ventura / arm64 | OK | OK | OK | ||||||||||||
| Package 116/309 | Hostname | OS / Arch | INSTALL | BUILD | BUILD BIN | ||||||||||||
| GenomAutomorphism 1.0.3 (landing page) Robersy Sanchez
| kjohnson | macOS 13.0 Ventura / arm64 | OK | OK | OK | ||||||||||||
| Package 117/309 | Hostname | OS / Arch | INSTALL | BUILD | BUILD BIN | ||||||||||||
| GenomicAlignments 1.34.1 (landing page) Hervé Pagès
| kjohnson | macOS 13.0 Ventura / arm64 | OK | OK | OK | ||||||||||||
| Package 118/309 | Hostname | OS / Arch | INSTALL | BUILD | BUILD BIN | ||||||||||||
| GenomicFiles 1.34.0 (landing page) Bioconductor Package Maintainer
| kjohnson | macOS 13.0 Ventura / arm64 | OK | OK | OK | ||||||||||||
| Package 119/309 | Hostname | OS / Arch | INSTALL | BUILD | BUILD BIN | ||||||||||||
| genotypeeval 1.30.0 (landing page) Jennifer Tom
| kjohnson | macOS 13.0 Ventura / arm64 | OK | OK | OK | ||||||||||||
| Package 120/309 | Hostname | OS / Arch | INSTALL | BUILD | BUILD BIN | ||||||||||||
| gmapR 1.40.0 (landing page) Michael Lawrence
| kjohnson | macOS 13.0 Ventura / arm64 | ERROR | ERROR | skipped | ||||||||||||
| Package 121/309 | Hostname | OS / Arch | INSTALL | BUILD | BUILD BIN | ||||||||||||
| gscreend 1.12.0 (landing page) Katharina Imkeller
| kjohnson | macOS 13.0 Ventura / arm64 | OK | OK | OK | ||||||||||||
| Package 122/309 | Hostname | OS / Arch | INSTALL | BUILD | BUILD BIN | ||||||||||||
| GSEABenchmarkeR 1.18.0 (landing page) Ludwig Geistlinger
| kjohnson | macOS 13.0 Ventura / arm64 | OK | OK | OK | ||||||||||||
| Package 123/309 | Hostname | OS / Arch | INSTALL | BUILD | BUILD BIN | ||||||||||||
| GSVA 1.46.0 (landing page) Robert Castelo
| kjohnson | macOS 13.0 Ventura / arm64 | OK | OK | OK | ||||||||||||
| Package 124/309 | Hostname | OS / Arch | INSTALL | BUILD | BUILD BIN | ||||||||||||
| h5vc 2.32.0 (landing page) Paul Theodor Pyl
| kjohnson | macOS 13.0 Ventura / arm64 | OK | OK | OK | ||||||||||||
| Package 125/309 | Hostname | OS / Arch | INSTALL | BUILD | BUILD BIN | ||||||||||||
| HiCBricks 1.16.0 (landing page) Koustav Pal
| kjohnson | macOS 13.0 Ventura / arm64 | OK | OK | OK | ||||||||||||
| Package 126/309 | Hostname | OS / Arch | INSTALL | BUILD | BUILD BIN | ||||||||||||
| HiCcompare 1.20.0 (landing page) John Stansfield
| kjohnson | macOS 13.0 Ventura / arm64 | OK | OK | OK | ||||||||||||
| Package 127/309 | Hostname | OS / Arch | INSTALL | BUILD | BUILD BIN | ||||||||||||
| HiCDOC 1.0.0 (landing page) Maigné Élise
| kjohnson | macOS 13.0 Ventura / arm64 | OK | OK | OK | ||||||||||||
| Package 128/309 | Hostname | OS / Arch | INSTALL | BUILD | BUILD BIN | ||||||||||||
| hiReadsProcessor 1.34.0 (landing page) Nirav V Malani
| kjohnson | macOS 13.0 Ventura / arm64 | OK | OK | OK | ||||||||||||
| Package 129/309 | Hostname | OS / Arch | INSTALL | BUILD | BUILD BIN | ||||||||||||
| HTSFilter 1.38.0 (landing page) Andrea Rau
| kjohnson | macOS 13.0 Ventura / arm64 | OK | OK | OK | ||||||||||||
| Package 130/309 | Hostname | OS / Arch | INSTALL | BUILD | BUILD BIN | ||||||||||||
| iasva 1.16.0 (landing page) Donghyung Lee
| kjohnson | macOS 13.0 Ventura / arm64 | OK | OK | OK | ||||||||||||
| Package 131/309 | Hostname | OS / Arch | INSTALL | BUILD | BUILD BIN | ||||||||||||
| icetea 1.16.0 (landing page) Vivek Bhardwaj
| kjohnson | macOS 13.0 Ventura / arm64 | OK | OK | OK | ||||||||||||
| Package 132/309 | Hostname | OS / Arch | INSTALL | BUILD | BUILD BIN | ||||||||||||
| ideal 1.22.0 (landing page) Federico Marini
| kjohnson | macOS 13.0 Ventura / arm64 | OK | OK | OK | ||||||||||||
| Package 133/309 | Hostname | OS / Arch | INSTALL | BUILD | BUILD BIN | ||||||||||||
| IMAS 1.22.0 (landing page) Seonggyun Han
| kjohnson | macOS 13.0 Ventura / arm64 | OK | OK | OK | ||||||||||||
| Package 134/309 | Hostname | OS / Arch | INSTALL | BUILD | BUILD BIN | ||||||||||||
| imcRtools 1.4.2 (landing page) Nils Eling
| kjohnson | macOS 13.0 Ventura / arm64 | OK | OK | OK | ||||||||||||
| Package 135/309 | Hostname | OS / Arch | INSTALL | BUILD | BUILD BIN | ||||||||||||
| INSPEcT 1.28.0 (landing page) Stefano de Pretis
| kjohnson | macOS 13.0 Ventura / arm64 | OK | OK | OK | ||||||||||||
| Package 136/309 | Hostname | OS / Arch | INSTALL | BUILD | BUILD BIN | ||||||||||||
| IntEREst 1.22.2 (landing page) Ali Oghabian
| kjohnson | macOS 13.0 Ventura / arm64 | OK | OK | OK | ||||||||||||
| Package 137/309 | Hostname | OS / Arch | INSTALL | BUILD | BUILD BIN | ||||||||||||
| IONiseR 2.22.0 (landing page) Mike Smith
| kjohnson | macOS 13.0 Ventura / arm64 | OK | OK | OK | ||||||||||||
| Package 138/309 | Hostname | OS / Arch | INSTALL | BUILD | BUILD BIN | ||||||||||||
| iPath 1.4.2 (landing page) Kenong Su
| kjohnson | macOS 13.0 Ventura / arm64 | OK | ERROR | skipped | ||||||||||||
| Package 139/309 | Hostname | OS / Arch | INSTALL | BUILD | BUILD BIN | ||||||||||||
| IPO 1.24.0 (landing page) Thomas Lieb
| kjohnson | macOS 13.0 Ventura / arm64 | OK | OK | OK | ||||||||||||
| Package 140/309 | Hostname | OS / Arch | INSTALL | BUILD | BUILD BIN | ||||||||||||
| ISLET 1.0.0 (landing page) Hao Feng
| kjohnson | macOS 13.0 Ventura / arm64 | OK | OK | OK | ||||||||||||
| Package 141/309 | Hostname | OS / Arch | INSTALL | BUILD | BUILD BIN | ||||||||||||
| IVAS 2.18.0 (landing page) Seonggyun Han
| kjohnson | macOS 13.0 Ventura / arm64 | OK | OK | OK | ||||||||||||
| Package 142/309 | Hostname | OS / Arch | INSTALL | BUILD | BUILD BIN | ||||||||||||
| katdetectr 1.0.0 (landing page) Daan Hazelaar
| kjohnson | macOS 13.0 Ventura / arm64 | OK | OK | OK | ||||||||||||
| Package 143/309 | Hostname | OS / Arch | INSTALL | BUILD | BUILD BIN | ||||||||||||
| KinSwingR 1.16.0 (landing page) Ashley J. Waardenberg
| kjohnson | macOS 13.0 Ventura / arm64 | OK | OK | OK | ||||||||||||
| Package 144/309 | Hostname | OS / Arch | INSTALL | BUILD | BUILD BIN | ||||||||||||
| LineagePulse 1.18.0 (landing page) David S Fischer
| kjohnson | macOS 13.0 Ventura / arm64 | OK | OK | OK | ||||||||||||
| Package 145/309 | Hostname | OS / Arch | INSTALL | BUILD | BUILD BIN | ||||||||||||
| lisaClust 1.6.3 (landing page) Ellis Patrick
| kjohnson | macOS 13.0 Ventura / arm64 | OK | OK | OK | ||||||||||||
| Package 146/309 | Hostname | OS / Arch | INSTALL | BUILD | BUILD BIN | ||||||||||||
| loci2path 1.18.0 (landing page) Tianlei Xu
| kjohnson | macOS 13.0 Ventura / arm64 | OK | OK | OK | ||||||||||||
| Package 147/309 | Hostname | OS / Arch | INSTALL | BUILD | BUILD BIN | ||||||||||||
| LowMACA 1.28.0 (landing page) Giorgio Melloni
| kjohnson | macOS 13.0 Ventura / arm64 | OK | ERROR | skipped | ||||||||||||
| Package 148/309 | Hostname | OS / Arch | INSTALL | BUILD | BUILD BIN | ||||||||||||
| LRcell 1.6.0 (landing page) Wenjing Ma
| kjohnson | macOS 13.0 Ventura / arm64 | OK | OK | OK | ||||||||||||
| Package 149/309 | Hostname | OS / Arch | INSTALL | BUILD | BUILD BIN | ||||||||||||
| Macarron 1.2.0 (landing page) Sagun Maharjan
| kjohnson | macOS 13.0 Ventura / arm64 | OK | OK | OK | ||||||||||||
| Package 150/309 | Hostname | OS / Arch | INSTALL | BUILD | BUILD BIN | ||||||||||||
Ioannis Vardaxis
| kjohnson | macOS 13.0 Ventura / arm64 | ERROR | ERROR | skipped | ||||||||||||
| Package 151/309 | Hostname | OS / Arch | INSTALL | BUILD | BUILD BIN | ||||||||||||
| magrene 1.0.0 (landing page) Fabrício Almeida-Silva
| kjohnson | macOS 13.0 Ventura / arm64 | OK | OK | OK | ||||||||||||
| Package 152/309 | Hostname | OS / Arch | INSTALL | BUILD | BUILD BIN | ||||||||||||
| matter 2.0.1 (landing page) Kylie A. Bemis
| kjohnson | macOS 13.0 Ventura / arm64 | OK | OK | OK | ||||||||||||
| Package 153/309 | Hostname | OS / Arch | INSTALL | BUILD | BUILD BIN | ||||||||||||
| MBASED 1.32.0 (landing page) Oleg Mayba
| kjohnson | macOS 13.0 Ventura / arm64 | OK | OK | OK | ||||||||||||
| Package 154/309 | Hostname | OS / Arch | INSTALL | BUILD | BUILD BIN | ||||||||||||
| mbkmeans 1.14.0 (landing page) Davide Risso
| kjohnson | macOS 13.0 Ventura / arm64 | OK | OK | OK | ||||||||||||
| Package 155/309 | Hostname | OS / Arch | INSTALL | BUILD | BUILD BIN | ||||||||||||
| MCbiclust 1.22.0 (landing page) Robert Bentham
| kjohnson | macOS 13.0 Ventura / arm64 | OK | OK | OK | ||||||||||||
| Package 156/309 | Hostname | OS / Arch | INSTALL | BUILD | BUILD BIN | ||||||||||||
| MetaboAnnotation 1.2.0 (landing page) Johannes Rainer
| kjohnson | macOS 13.0 Ventura / arm64 | OK | OK | OK | ||||||||||||
| Package 157/309 | Hostname | OS / Arch | INSTALL | BUILD | BUILD BIN | ||||||||||||
| metabomxtr 1.32.0 (landing page) Michael Nodzenski
| kjohnson | macOS 13.0 Ventura / arm64 | OK | OK | OK | ||||||||||||
| Package 158/309 | Hostname | OS / Arch | INSTALL | BUILD | BUILD BIN | ||||||||||||
| metagene 2.30.0 (landing page) Charles Joly Beauparlant
| kjohnson | macOS 13.0 Ventura / arm64 | OK | OK | OK | ||||||||||||
| Package 159/309 | Hostname | OS / Arch | INSTALL | BUILD | BUILD BIN | ||||||||||||
| metagene2 1.14.0 (landing page) Eric Fournier
| kjohnson | macOS 13.0 Ventura / arm64 | OK | OK | OK | ||||||||||||
| Package 160/309 | Hostname | OS / Arch | INSTALL | BUILD | BUILD BIN | ||||||||||||
| metapone 1.4.0 (landing page) Tianwei Yu
| kjohnson | macOS 13.0 Ventura / arm64 | OK | OK | OK | ||||||||||||
| Package 161/309 | Hostname | OS / Arch | INSTALL | BUILD | BUILD BIN | ||||||||||||
| metaseqR2 1.10.0 (landing page) Panagiotis Moulos
| kjohnson | macOS 13.0 Ventura / arm64 | OK | OK | OK | ||||||||||||
| Package 162/309 | Hostname | OS / Arch | INSTALL | BUILD | BUILD BIN | ||||||||||||
| MethCP 1.12.0 (landing page) Boying Gong
| kjohnson | macOS 13.0 Ventura / arm64 | OK | OK | OK | ||||||||||||
| Package 163/309 | Hostname | OS / Arch | INSTALL | BUILD | BUILD BIN | ||||||||||||
| MethylAid 1.32.0 (landing page) L.J.Sinke
| kjohnson | macOS 13.0 Ventura / arm64 | OK | OK | OK | ||||||||||||
| Package 164/309 | Hostname | OS / Arch | INSTALL | BUILD | BUILD BIN | ||||||||||||
| methylGSA 1.16.0 (landing page) Xu Ren
| kjohnson | macOS 13.0 Ventura / arm64 | OK | OK | OK | ||||||||||||
| Package 165/309 | Hostname | OS / Arch | INSTALL | BUILD | BUILD BIN | ||||||||||||
| methylInheritance 1.22.0 (landing page) Astrid Deschênes
| kjohnson | macOS 13.0 Ventura / arm64 | OK | OK | OK | ||||||||||||
| Package 166/309 | Hostname | OS / Arch | INSTALL | BUILD | BUILD BIN | ||||||||||||
| methylscaper 1.6.0 (landing page) Bacher Rhonda
| kjohnson | macOS 13.0 Ventura / arm64 | OK | OK | OK | ||||||||||||
| Package 167/309 | Hostname | OS / Arch | INSTALL | BUILD | BUILD BIN | ||||||||||||
| MetNet 1.16.0 (landing page) Thomas Naake
| kjohnson | macOS 13.0 Ventura / arm64 | OK | OK | OK | ||||||||||||
| Package 168/309 | Hostname | OS / Arch | INSTALL | BUILD | BUILD BIN | ||||||||||||
| mia 1.6.0 (landing page) Tuomas Borman
| kjohnson | macOS 13.0 Ventura / arm64 | OK | OK | OK | ||||||||||||
| Package 169/309 | Hostname | OS / Arch | INSTALL | BUILD | BUILD BIN | ||||||||||||
| miaViz 1.6.0 (landing page) Tuomas Borman
| kjohnson | macOS 13.0 Ventura / arm64 | OK | OK | OK | ||||||||||||
| Package 170/309 | Hostname | OS / Arch | INSTALL | BUILD | BUILD BIN | ||||||||||||
| microbiomeMarker 1.4.0 (landing page) Yang Cao
| kjohnson | macOS 13.0 Ventura / arm64 | OK | OK | OK | ||||||||||||
| Package 171/309 | Hostname | OS / Arch | INSTALL | BUILD | BUILD BIN | ||||||||||||
| MIGSA 1.22.0 (landing page) Juan C. Rodriguez
| kjohnson | macOS 13.0 Ventura / arm64 | OK | ERROR | skipped | ||||||||||||
| Package 172/309 | Hostname | OS / Arch | INSTALL | BUILD | BUILD BIN | ||||||||||||
| miloR 1.6.0 (landing page) Mike Morgan
| kjohnson | macOS 13.0 Ventura / arm64 | OK | OK | OK | ||||||||||||
| Package 173/309 | Hostname | OS / Arch | INSTALL | BUILD | BUILD BIN | ||||||||||||
| minfi 1.44.0 (landing page) Kasper Daniel Hansen
| kjohnson | macOS 13.0 Ventura / arm64 | OK | OK | OK | ||||||||||||
| Package 174/309 | Hostname | OS / Arch | INSTALL | BUILD | BUILD BIN | ||||||||||||
| mixOmics 6.22.0 (landing page) Al J Abadi
| kjohnson | macOS 13.0 Ventura / arm64 | OK | OK | OK | ||||||||||||
| Package 175/309 | Hostname | OS / Arch | INSTALL | BUILD | BUILD BIN | ||||||||||||
| MMAPPR2 1.12.0 (landing page) Jonathon Hill
| kjohnson | macOS 13.0 Ventura / arm64 | ERROR | ERROR | skipped | ||||||||||||
| Package 176/309 | Hostname | OS / Arch | INSTALL | BUILD | BUILD BIN | ||||||||||||
| MOGAMUN 1.8.0 (landing page) Elva-María Novoa-del-Toro
| kjohnson | macOS 13.0 Ventura / arm64 | OK | OK | OK | ||||||||||||
| Package 177/309 | Hostname | OS / Arch | INSTALL | BUILD | BUILD BIN | ||||||||||||
| monaLisa 1.4.0 (landing page) Michael Stadler
| kjohnson | macOS 13.0 Ventura / arm64 | OK | OK | OK | ||||||||||||
| Package 178/309 | Hostname | OS / Arch | INSTALL | BUILD | BUILD BIN | ||||||||||||
| motifbreakR 2.12.4 (landing page) Simon Gert Coetzee
| kjohnson | macOS 13.0 Ventura / arm64 | OK | TIMEOUT | skipped | ||||||||||||
| Package 179/309 | Hostname | OS / Arch | INSTALL | BUILD | BUILD BIN | ||||||||||||
| MPRAnalyze 1.16.0 (landing page) Tal Ashuach
| kjohnson | macOS 13.0 Ventura / arm64 | OK | OK | OK | ||||||||||||
| Package 180/309 | Hostname | OS / Arch | INSTALL | BUILD | BUILD BIN | ||||||||||||
| MsBackendMassbank 1.6.1 (landing page) RforMassSpectrometry Package Maintainer
| kjohnson | macOS 13.0 Ventura / arm64 | OK | OK | OK | ||||||||||||
| Package 181/309 | Hostname | OS / Arch | INSTALL | BUILD | BUILD BIN | ||||||||||||
| MsBackendMgf 1.6.0 (landing page) RforMassSpectrometry Package Maintainer
| kjohnson | macOS 13.0 Ventura / arm64 | OK | OK | OK | ||||||||||||
| Package 182/309 | Hostname | OS / Arch | INSTALL | BUILD | BUILD BIN | ||||||||||||
| MsBackendMsp 1.2.0 (landing page) Johannes Rainer
| kjohnson | macOS 13.0 Ventura / arm64 | OK | OK | OK | ||||||||||||
| Package 183/309 | Hostname | OS / Arch | INSTALL | BUILD | BUILD BIN | ||||||||||||
| MsBackendRawFileReader 1.4.0 (landing page) Christian Panse
| kjohnson | macOS 13.0 Ventura / arm64 | ERROR | ERROR | skipped | ||||||||||||
| Package 184/309 | Hostname | OS / Arch | INSTALL | BUILD | BUILD BIN | ||||||||||||
| MSnbase 2.24.2 (landing page) Laurent Gatto
| kjohnson | macOS 13.0 Ventura / arm64 | OK | OK | OK | ||||||||||||
| Package 185/309 | Hostname | OS / Arch | INSTALL | BUILD | BUILD BIN | ||||||||||||
| msqrob2 1.6.1 (landing page) Lieven Clement
| kjohnson | macOS 13.0 Ventura / arm64 | OK | OK | OK | ||||||||||||
| Package 186/309 | Hostname | OS / Arch | INSTALL | BUILD | BUILD BIN | ||||||||||||
| MSstatsSampleSize 1.12.0 (landing page) Ting Huang
| kjohnson | macOS 13.0 Ventura / arm64 | OK | OK | OK | ||||||||||||
| Package 187/309 | Hostname | OS / Arch | INSTALL | BUILD | BUILD BIN | ||||||||||||
| multiHiCcompare 1.16.0 (landing page) John Stansfield
| kjohnson | macOS 13.0 Ventura / arm64 | OK | OK | OK | ||||||||||||
| Package 188/309 | Hostname | OS / Arch | INSTALL | BUILD | BUILD BIN | ||||||||||||
| mumosa 1.6.0 (landing page) Aaron Lun
| kjohnson | macOS 13.0 Ventura / arm64 | OK | OK | OK | ||||||||||||
| Package 189/309 | Hostname | OS / Arch | INSTALL | BUILD | BUILD BIN | ||||||||||||
| muscat 1.12.1 (landing page) Helena L. Crowell
| kjohnson | macOS 13.0 Ventura / arm64 | OK | ERROR | skipped | ||||||||||||
| Package 190/309 | Hostname | OS / Arch | INSTALL | BUILD | BUILD BIN | ||||||||||||
| NBAMSeq 1.14.0 (landing page) Xu Ren
| kjohnson | macOS 13.0 Ventura / arm64 | OK | OK | OK | ||||||||||||
| Package 191/309 | Hostname | OS / Arch | INSTALL | BUILD | BUILD BIN | ||||||||||||
| NBSplice 1.16.0 (landing page) Gabriela Merino
| kjohnson | macOS 13.0 Ventura / arm64 | ERROR | ERROR | skipped | ||||||||||||
| Package 192/309 | Hostname | OS / Arch | INSTALL | BUILD | BUILD BIN | ||||||||||||
| ncGTW 1.12.0 (landing page) Chiung-Ting Wu
| kjohnson | macOS 13.0 Ventura / arm64 | OK | OK | OK | ||||||||||||
| Package 193/309 | Hostname | OS / Arch | INSTALL | BUILD | BUILD BIN | ||||||||||||
| nnSVG 1.2.0 (landing page) Lukas M. Weber
| kjohnson | macOS 13.0 Ventura / arm64 | OK | OK | OK | ||||||||||||
| Package 194/309 | Hostname | OS / Arch | INSTALL | BUILD | BUILD BIN | ||||||||||||
| NPARC 1.10.1 (landing page) Nils Kurzawa
| kjohnson | macOS 13.0 Ventura / arm64 | OK | OK | OK | ||||||||||||
| Package 195/309 | Hostname | OS / Arch | INSTALL | BUILD | BUILD BIN | ||||||||||||
| NxtIRFcore 1.4.0 (landing page) Alex Chit Hei Wong
| kjohnson | macOS 13.0 Ventura / arm64 | OK | OK | OK | ||||||||||||
| Package 196/309 | Hostname | OS / Arch | INSTALL | BUILD | BUILD BIN | ||||||||||||
| OmicsLonDA 1.14.0 (landing page) Ahmed A. Metwally
| kjohnson | macOS 13.0 Ventura / arm64 | OK | OK | OK | ||||||||||||
| Package 197/309 | Hostname | OS / Arch | INSTALL | BUILD | BUILD BIN | ||||||||||||
| ORFik 1.18.2 (landing page) Haakon Tjeldnes
| kjohnson | macOS 13.0 Ventura / arm64 | OK | OK | OK | ||||||||||||
| Package 198/309 | Hostname | OS / Arch | INSTALL | BUILD | BUILD BIN | ||||||||||||
| Oscope 1.28.0 (landing page) Ning Leng
| kjohnson | macOS 13.0 Ventura / arm64 | OK | OK | OK | ||||||||||||
| Package 199/309 | Hostname | OS / Arch | INSTALL | BUILD | BUILD BIN | ||||||||||||
| OUTRIDER 1.16.3 (landing page) Christian Mertes
| kjohnson | macOS 13.0 Ventura / arm64 | OK | TIMEOUT | skipped | ||||||||||||
| Package 200/309 | Hostname | OS / Arch | INSTALL | BUILD | BUILD BIN | ||||||||||||
| OVESEG 1.14.0 (landing page) Lulu Chen
| kjohnson | macOS 13.0 Ventura / arm64 | OK | OK | OK | ||||||||||||
| Package 201/309 | Hostname | OS / Arch | INSTALL | BUILD | BUILD BIN | ||||||||||||
| PAIRADISE 1.14.0 (landing page) Qiang Hu
| kjohnson | macOS 13.0 Ventura / arm64 | OK | OK | OK | ||||||||||||
| Package 202/309 | Hostname | OS / Arch | INSTALL | BUILD | BUILD BIN | ||||||||||||
| PCAN 1.26.0 (landing page) Matthew Page
| kjohnson | macOS 13.0 Ventura / arm64 | OK | OK | OK | ||||||||||||
| Package 203/309 | Hostname | OS / Arch | INSTALL | BUILD | BUILD BIN | ||||||||||||
| PCAtools 2.10.0 (landing page) Kevin Blighe
| kjohnson | macOS 13.0 Ventura / arm64 | OK | OK | OK | ||||||||||||
| Package 204/309 | Hostname | OS / Arch | INSTALL | BUILD | BUILD BIN | ||||||||||||
| PDATK 1.6.0 (landing page) Benjamin Haibe-Kains
| kjohnson | macOS 13.0 Ventura / arm64 | OK | OK | OK | ||||||||||||
| Package 205/309 | Hostname | OS / Arch | INSTALL | BUILD | BUILD BIN | ||||||||||||
| pengls 1.4.0 (landing page) Stijn Hawinkel
| kjohnson | macOS 13.0 Ventura / arm64 | OK | OK | OK | ||||||||||||
| Package 206/309 | Hostname | OS / Arch | INSTALL | BUILD | BUILD BIN | ||||||||||||
| periodicDNA 1.8.0 (landing page) Jacques Serizay
| kjohnson | macOS 13.0 Ventura / arm64 | OK | OK | OK | ||||||||||||
| Package 207/309 | Hostname | OS / Arch | INSTALL | BUILD | BUILD BIN | ||||||||||||
| PharmacoGx 3.2.0 (landing page) Benjamin Haibe-Kains
| kjohnson | macOS 13.0 Ventura / arm64 | OK | OK | OK | ||||||||||||
| Package 208/309 | Hostname | OS / Arch | INSTALL | BUILD | BUILD BIN | ||||||||||||
| pipeComp 1.8.0 (landing page) Pierre-Luc Germain
| kjohnson | macOS 13.0 Ventura / arm64 | OK | OK | OK | ||||||||||||
| Package 209/309 | Hostname | OS / Arch | INSTALL | BUILD | BUILD BIN | ||||||||||||
| pram 1.14.0 (landing page) Peng Liu
| kjohnson | macOS 13.0 Ventura / arm64 | OK | OK | OK | ||||||||||||
| Package 210/309 | Hostname | OS / Arch | INSTALL | BUILD | BUILD BIN | ||||||||||||
| PrecisionTrialDrawer 1.14.0 (landing page) Giorgio Melloni
| kjohnson | macOS 13.0 Ventura / arm64 | OK | ERROR | skipped | ||||||||||||
| Package 211/309 | Hostname | OS / Arch | INSTALL | BUILD | BUILD BIN | ||||||||||||
| proActiv 1.8.0 (landing page) Joseph Lee
| kjohnson | macOS 13.0 Ventura / arm64 | OK | OK | OK | ||||||||||||
| Package 212/309 | Hostname | OS / Arch | INSTALL | BUILD | BUILD BIN | ||||||||||||
| proFIA 1.24.0 (landing page) Alexis Delabriere
| kjohnson | macOS 13.0 Ventura / arm64 | OK | ERROR | skipped | ||||||||||||
| Package 213/309 | Hostname | OS / Arch | INSTALL | BUILD | BUILD BIN | ||||||||||||
| profileplyr 1.14.1 (landing page) Tom Carroll
| kjohnson | macOS 13.0 Ventura / arm64 | OK | OK | OK | ||||||||||||
| Package 214/309 | Hostname | OS / Arch | INSTALL | BUILD | BUILD BIN | ||||||||||||
| pRoloc 1.38.2 (landing page) Laurent Gatto
| kjohnson | macOS 13.0 Ventura / arm64 | OK | OK | OK | ||||||||||||
| Package 215/309 | Hostname | OS / Arch | INSTALL | BUILD | BUILD BIN | ||||||||||||
| ProteoDisco 1.4.0 (landing page) Job van Riet
| kjohnson | macOS 13.0 Ventura / arm64 | OK | OK | OK | ||||||||||||
| Package 216/309 | Hostname | OS / Arch | INSTALL | BUILD | BUILD BIN | ||||||||||||
| PSMatch 1.2.0 (landing page) Laurent Gatto
| kjohnson | macOS 13.0 Ventura / arm64 | OK | OK | OK | ||||||||||||
| Package 217/309 | Hostname | OS / Arch | INSTALL | BUILD | BUILD BIN | ||||||||||||
| qpgraph 2.32.2 (landing page) Robert Castelo
| kjohnson | macOS 13.0 Ventura / arm64 | OK | OK | OK | ||||||||||||
| Package 218/309 | Hostname | OS / Arch | INSTALL | BUILD | BUILD BIN | ||||||||||||
| qsea 1.24.0 (landing page) Matthias Lienhard
| kjohnson | macOS 13.0 Ventura / arm64 | OK | OK | OK | ||||||||||||
| Package 219/309 | Hostname | OS / Arch | INSTALL | BUILD | BUILD BIN | ||||||||||||
| QuasR 1.38.0 (landing page) Michael Stadler
| kjohnson | macOS 13.0 Ventura / arm64 | OK | OK | OK | ||||||||||||
| Package 220/309 | Hostname | OS / Arch | INSTALL | BUILD | BUILD BIN | ||||||||||||
| RadioGx 2.2.0 (landing page) Benjamin Haibe-Kains
| kjohnson | macOS 13.0 Ventura / arm64 | OK | OK | OK | ||||||||||||
| Package 221/309 | Hostname | OS / Arch | INSTALL | BUILD | BUILD BIN | ||||||||||||
| Rcwl 1.14.0 (landing page) Qiang Hu
| kjohnson | macOS 13.0 Ventura / arm64 | OK | OK | OK | ||||||||||||
| Package 222/309 | Hostname | OS / Arch | INSTALL | BUILD | BUILD BIN | ||||||||||||
| recount 1.24.1 (landing page) Leonardo Collado-Torres
| kjohnson | macOS 13.0 Ventura / arm64 | OK | ERROR | skipped | ||||||||||||
| Package 223/309 | Hostname | OS / Arch | INSTALL | BUILD | BUILD BIN | ||||||||||||
| RedisParam 1.0.0 (landing page) Martin Morgan
| kjohnson | macOS 13.0 Ventura / arm64 | OK | OK | OK | ||||||||||||
| Package 224/309 | Hostname | OS / Arch | INSTALL | BUILD | BUILD BIN | ||||||||||||
| RegEnrich 1.8.0 (landing page) Weiyang Tao
| kjohnson | macOS 13.0 Ventura / arm64 | OK | OK | OK | ||||||||||||
| Package 225/309 | Hostname | OS / Arch | INSTALL | BUILD | BUILD BIN | ||||||||||||
| REMP 1.22.0 (landing page) Yinan Zheng
| kjohnson | macOS 13.0 Ventura / arm64 | OK | OK | OK | ||||||||||||
| Package 226/309 | Hostname | OS / Arch | INSTALL | BUILD | BUILD BIN | ||||||||||||
| RiboCrypt 1.4.0 (landing page) Michal Swirski
| kjohnson | macOS 13.0 Ventura / arm64 | OK | OK | OK | ||||||||||||
| Package 227/309 | Hostname | OS / Arch | INSTALL | BUILD | BUILD BIN | ||||||||||||
| RJMCMCNucleosomes 1.22.0 (landing page) Astrid Deschênes
| kjohnson | macOS 13.0 Ventura / arm64 | OK | OK | OK | ||||||||||||
| Package 228/309 | Hostname | OS / Arch | INSTALL | BUILD | BUILD BIN | ||||||||||||
| RNAmodR 1.12.0 (landing page) Felix G.M. Ernst
| kjohnson | macOS 13.0 Ventura / arm64 | OK | OK | OK | ||||||||||||
| Package 229/309 | Hostname | OS / Arch | INSTALL | BUILD | BUILD BIN | ||||||||||||
| Rqc 1.32.0 (landing page) Welliton Souza
| kjohnson | macOS 13.0 Ventura / arm64 | OK | OK | OK | ||||||||||||
| Package 230/309 | Hostname | OS / Arch | INSTALL | BUILD | BUILD BIN | ||||||||||||
| Rsamtools 2.14.0 (landing page) Bioconductor Package Maintainer
| kjohnson | macOS 13.0 Ventura / arm64 | OK | OK | OK | ||||||||||||
| Package 231/309 | Hostname | OS / Arch | INSTALL | BUILD | BUILD BIN | ||||||||||||
| RUVcorr 1.30.0 (landing page) Saskia Freytag
| kjohnson | macOS 13.0 Ventura / arm64 | OK | OK | OK | ||||||||||||
| Package 232/309 | Hostname | OS / Arch | INSTALL | BUILD | BUILD BIN | ||||||||||||
| satuRn 1.6.0 (landing page) Jeroen Gilis
| kjohnson | macOS 13.0 Ventura / arm64 | OK | OK | OK | ||||||||||||
| Package 233/309 | Hostname | OS / Arch | INSTALL | BUILD | BUILD BIN | ||||||||||||
| scanMiR 1.4.0 (landing page) Fridolin Gross
| kjohnson | macOS 13.0 Ventura / arm64 | OK | OK | OK | ||||||||||||
| Package 234/309 | Hostname | OS / Arch | INSTALL | BUILD | BUILD BIN | ||||||||||||
| scanMiRApp 1.4.0 (landing page) Pierre-Luc Germain
| kjohnson | macOS 13.0 Ventura / arm64 | OK | OK | OK | ||||||||||||
| Package 235/309 | Hostname | OS / Arch | INSTALL | BUILD | BUILD BIN | ||||||||||||
| scater 1.26.1 (landing page) Alan O'Callaghan
| kjohnson | macOS 13.0 Ventura / arm64 | OK | OK | OK | ||||||||||||
| Package 236/309 | Hostname | OS / Arch | INSTALL | BUILD | BUILD BIN | ||||||||||||
| scClassify 1.10.0 (landing page) Yingxin Lin
| kjohnson | macOS 13.0 Ventura / arm64 | OK | OK | OK | ||||||||||||
| Package 237/309 | Hostname | OS / Arch | INSTALL | BUILD | BUILD BIN | ||||||||||||
| scDblFinder 1.12.0 (landing page) Pierre-Luc Germain
| kjohnson | macOS 13.0 Ventura / arm64 | OK | OK | OK | ||||||||||||
| Package 238/309 | Hostname | OS / Arch | INSTALL | BUILD | BUILD BIN | ||||||||||||
| scDD 1.22.0 (landing page) Keegan Korthauer
| kjohnson | macOS 13.0 Ventura / arm64 | OK | OK | OK | ||||||||||||
| Package 239/309 | Hostname | OS / Arch | INSTALL | BUILD | BUILD BIN | ||||||||||||
| scDDboost 1.0.0 (landing page) Xiuyu Ma
| kjohnson | macOS 13.0 Ventura / arm64 | OK | OK | OK | ||||||||||||
| Package 240/309 | Hostname | OS / Arch | INSTALL | BUILD | BUILD BIN | ||||||||||||
| scde 2.26.2 (landing page) Jean Fan
| kjohnson | macOS 13.0 Ventura / arm64 | OK | OK | OK | ||||||||||||
| Package 241/309 | Hostname | OS / Arch | INSTALL | BUILD | BUILD BIN | ||||||||||||
| SCFA 1.8.1 (landing page) Duc Tran
| kjohnson | macOS 13.0 Ventura / arm64 | OK | OK | OK | ||||||||||||
| Package 242/309 | Hostname | OS / Arch | INSTALL | BUILD | BUILD BIN | ||||||||||||
| scHOT 1.10.0 (landing page) Shila Ghazanfar
| kjohnson | macOS 13.0 Ventura / arm64 | OK | OK | OK | ||||||||||||
| Package 243/309 | Hostname | OS / Arch | INSTALL | BUILD | BUILD BIN | ||||||||||||
| scMerge 1.14.0 (landing page) Yingxin Lin
| kjohnson | macOS 13.0 Ventura / arm64 | OK | OK | OK | ||||||||||||
| Package 244/309 | Hostname | OS / Arch | INSTALL | BUILD | BUILD BIN | ||||||||||||
| SCnorm 1.20.0 (landing page) Rhonda Bacher
| kjohnson | macOS 13.0 Ventura / arm64 | OK | OK | OK | ||||||||||||
| Package 245/309 | Hostname | OS / Arch | INSTALL | BUILD | BUILD BIN | ||||||||||||
| scone 1.22.0 (landing page) Davide Risso
| kjohnson | macOS 13.0 Ventura / arm64 | OK | OK | OK | ||||||||||||
| Package 246/309 | Hostname | OS / Arch | INSTALL | BUILD | BUILD BIN | ||||||||||||
| scoreInvHap 1.20.0 (landing page) Dolors Pelegri-Siso
| kjohnson | macOS 13.0 Ventura / arm64 | OK | OK | OK | ||||||||||||
| Package 247/309 | Hostname | OS / Arch | INSTALL | BUILD | BUILD BIN | ||||||||||||
| scPCA 1.12.0 (landing page) Philippe Boileau
| kjohnson | macOS 13.0 Ventura / arm64 | OK | OK | OK | ||||||||||||
| Package 248/309 | Hostname | OS / Arch | INSTALL | BUILD | BUILD BIN | ||||||||||||
| scran 1.26.2 (landing page) Aaron Lun
| kjohnson | macOS 13.0 Ventura / arm64 | OK | OK | OK | ||||||||||||
| Package 249/309 | Hostname | OS / Arch | INSTALL | BUILD | BUILD BIN | ||||||||||||
| scRecover 1.14.1 (landing page) Zhun Miao
| kjohnson | macOS 13.0 Ventura / arm64 | OK | OK | OK | ||||||||||||
| Package 250/309 | Hostname | OS / Arch | INSTALL | BUILD | BUILD BIN | ||||||||||||
| scruff 1.16.0 (landing page) Zhe Wang
| kjohnson | macOS 13.0 Ventura / arm64 | OK | OK | OK | ||||||||||||
| Package 251/309 | Hostname | OS / Arch | INSTALL | BUILD | BUILD BIN | ||||||||||||
| scShapes 1.4.0 (landing page) Malindrie Dharmaratne
| kjohnson | macOS 13.0 Ventura / arm64 | OK | OK | OK | ||||||||||||
| Package 252/309 | Hostname | OS / Arch | INSTALL | BUILD | BUILD BIN | ||||||||||||
| scTHI 1.10.0 (landing page) Michele Ceccarelli
| kjohnson | macOS 13.0 Ventura / arm64 | OK | OK | OK | ||||||||||||
| Package 253/309 | Hostname | OS / Arch | INSTALL | BUILD | BUILD BIN | ||||||||||||
| scuttle 1.8.4 (landing page) Aaron Lun
| kjohnson | macOS 13.0 Ventura / arm64 | OK | OK | OK | ||||||||||||
| Package 254/309 | Hostname | OS / Arch | INSTALL | BUILD | BUILD BIN | ||||||||||||
| seqArchR 1.2.0 (landing page) Sarvesh Nikumbh
| kjohnson | macOS 13.0 Ventura / arm64 | OK | OK | OK | ||||||||||||
| Package 255/309 | Hostname | OS / Arch | INSTALL | BUILD | BUILD BIN | ||||||||||||
| sesame 1.16.1 (landing page) Wanding Zhou
| kjohnson | macOS 13.0 Ventura / arm64 | OK | OK | OK | ||||||||||||
| Package 256/309 | Hostname | OS / Arch | INSTALL | BUILD | BUILD BIN | ||||||||||||
| SEtools 1.12.0 (landing page) Pierre-Luc Germain
| kjohnson | macOS 13.0 Ventura / arm64 | OK | OK | OK | ||||||||||||
| Package 257/309 | Hostname | OS / Arch | INSTALL | BUILD | BUILD BIN | ||||||||||||
| ShortRead 1.56.1 (landing page) Bioconductor Package Maintainer
| kjohnson | macOS 13.0 Ventura / arm64 | OK | OK | OK | ||||||||||||
| Package 258/309 | Hostname | OS / Arch | INSTALL | BUILD | BUILD BIN | ||||||||||||
| SigCheck 2.30.0 (landing page) Rory Stark
| kjohnson | macOS 13.0 Ventura / arm64 | OK | OK | OK | ||||||||||||
| Package 259/309 | Hostname | OS / Arch | INSTALL | BUILD | BUILD BIN | ||||||||||||
| sigFeature 1.16.0 (landing page) Pijush Das Developer
| kjohnson | macOS 13.0 Ventura / arm64 | OK | OK | OK | ||||||||||||
| Package 260/309 | Hostname | OS / Arch | INSTALL | BUILD | BUILD BIN | ||||||||||||
| signatureSearch 1.12.0 (landing page) Brendan Gongol
| kjohnson | macOS 13.0 Ventura / arm64 | OK | OK | OK | ||||||||||||
| Package 261/309 | Hostname | OS / Arch | INSTALL | BUILD | BUILD BIN | ||||||||||||
| SimBu 1.0.2 (landing page) Alexander Dietrich
| kjohnson | macOS 13.0 Ventura / arm64 | OK | OK | OK | ||||||||||||
| Package 262/309 | Hostname | OS / Arch | INSTALL | BUILD | BUILD BIN | ||||||||||||
| simpleSeg 1.0.2 (landing page) Ellis Patrick
| kjohnson | macOS 13.0 Ventura / arm64 | OK | OK | OK | ||||||||||||
| Package 263/309 | Hostname | OS / Arch | INSTALL | BUILD | BUILD BIN | ||||||||||||
| singleCellTK 2.8.0 (landing page) Yichen Wang
| kjohnson | macOS 13.0 Ventura / arm64 | OK | OK | OK | ||||||||||||
| Package 264/309 | Hostname | OS / Arch | INSTALL | BUILD | BUILD BIN | ||||||||||||
| SingleR 2.0.0 (landing page) Aaron Lun
| kjohnson | macOS 13.0 Ventura / arm64 | OK | OK | OK | ||||||||||||
| Package 265/309 | Hostname | OS / Arch | INSTALL | BUILD | BUILD BIN | ||||||||||||
| singscore 1.18.0 (landing page) Dharmesh D. Bhuva
| kjohnson | macOS 13.0 Ventura / arm64 | OK | OK | OK | ||||||||||||
| Package 266/309 | Hostname | OS / Arch | INSTALL | BUILD | BUILD BIN | ||||||||||||
| SNPhood 1.28.0 (landing page) Christian Arnold
| kjohnson | macOS 13.0 Ventura / arm64 | OK | OK | OK | ||||||||||||
| Package 267/309 | Hostname | OS / Arch | INSTALL | BUILD | BUILD BIN | ||||||||||||
| soGGi 1.30.0 (landing page) Tom Carroll
| kjohnson | macOS 13.0 Ventura / arm64 | OK | OK | OK | ||||||||||||
| Package 268/309 | Hostname | OS / Arch | INSTALL | BUILD | BUILD BIN | ||||||||||||
| sparrow 1.4.0 (landing page) Steve Lianoglou
| kjohnson | macOS 13.0 Ventura / arm64 | OK | OK | OK | ||||||||||||
| Package 269/309 | Hostname | OS / Arch | INSTALL | BUILD | BUILD BIN | ||||||||||||
| SpatialFeatureExperiment 1.0.3 (landing page) Lambda Moses
| kjohnson | macOS 13.0 Ventura / arm64 | OK | OK | OK | ||||||||||||
| Package 270/309 | Hostname | OS / Arch | INSTALL | BUILD | BUILD BIN | ||||||||||||
| spatialHeatmap 2.4.0 (landing page) Jianhai Zhang
| kjohnson | macOS 13.0 Ventura / arm64 | OK | OK | OK | ||||||||||||
| Package 271/309 | Hostname | OS / Arch | INSTALL | BUILD | BUILD BIN | ||||||||||||
| Spectra 1.8.3 (landing page) RforMassSpectrometry Package Maintainer
| kjohnson | macOS 13.0 Ventura / arm64 | OK | OK | OK | ||||||||||||
| Package 272/309 | Hostname | OS / Arch | INSTALL | BUILD | BUILD BIN | ||||||||||||
| SpectralTAD 1.14.1 (landing page) Mikhail Dozmorov
| kjohnson | macOS 13.0 Ventura / arm64 | OK | OK | OK | ||||||||||||
| Package 273/309 | Hostname | OS / Arch | INSTALL | BUILD | BUILD BIN | ||||||||||||
| spicyR 1.10.7 (landing page) Ellis Patrick
| kjohnson | macOS 13.0 Ventura / arm64 | OK | OK | OK | ||||||||||||
| Package 274/309 | Hostname | OS / Arch | INSTALL | BUILD | BUILD BIN | ||||||||||||
| splatter 1.22.1 (landing page) Luke Zappia
| kjohnson | macOS 13.0 Ventura / arm64 | OK | OK | OK | ||||||||||||
| Package 275/309 | Hostname | OS / Arch | INSTALL | BUILD | BUILD BIN | ||||||||||||
| SpliceWiz 1.0.4 (landing page) Alex Chit Hei Wong
| kjohnson | macOS 13.0 Ventura / arm64 | OK | OK | OK | ||||||||||||
| Package 276/309 | Hostname | OS / Arch | INSTALL | BUILD | BUILD BIN | ||||||||||||
| SplicingGraphs 1.38.0 (landing page) H. Pagès
| kjohnson | macOS 13.0 Ventura / arm64 | OK | OK | OK | ||||||||||||
| Package 277/309 | Hostname | OS / Arch | INSTALL | BUILD | BUILD BIN | ||||||||||||
| srnadiff 1.18.2 (landing page) Zytnicki Matthias
| kjohnson | macOS 13.0 Ventura / arm64 | OK | OK | OK | ||||||||||||
| Package 278/309 | Hostname | OS / Arch | INSTALL | BUILD | BUILD BIN | ||||||||||||
| sSNAPPY 1.2.5 (landing page) Wenjun Liu
| kjohnson | macOS 13.0 Ventura / arm64 | OK | OK | OK | ||||||||||||
| Package 279/309 | Hostname | OS / Arch | INSTALL | BUILD | BUILD BIN | ||||||||||||
| Statial 1.0.1 (landing page) Farhan Ameen
| kjohnson | macOS 13.0 Ventura / arm64 | OK | OK | OK | ||||||||||||
| Package 280/309 | Hostname | OS / Arch | INSTALL | BUILD | BUILD BIN | ||||||||||||
| STdeconvolve 1.2.0 (landing page) Brendan Miller
| kjohnson | macOS 13.0 Ventura / arm64 | OK | OK | OK | ||||||||||||
| Package 281/309 | Hostname | OS / Arch | INSTALL | BUILD | BUILD BIN | ||||||||||||
| STROMA4 1.22.0 (landing page) Sadiq Saleh
| kjohnson | macOS 13.0 Ventura / arm64 | OK | OK | OK | ||||||||||||
| Package 282/309 | Hostname | OS / Arch | INSTALL | BUILD | BUILD BIN | ||||||||||||
| SUITOR 1.0.0 (landing page) Bill Wheeler
| kjohnson | macOS 13.0 Ventura / arm64 | OK | OK | OK | ||||||||||||
| Package 283/309 | Hostname | OS / Arch | INSTALL | BUILD | BUILD BIN | ||||||||||||
| SummarizedBenchmark 2.16.0 (landing page) Patrick Kimes
| kjohnson | macOS 13.0 Ventura / arm64 | OK | OK | OK | ||||||||||||
| Package 284/309 | Hostname | OS / Arch | INSTALL | BUILD | BUILD BIN | ||||||||||||
| sva 3.46.0 (landing page) Jeffrey T. Leek
| kjohnson | macOS 13.0 Ventura / arm64 | OK | OK | OK | ||||||||||||
| Package 285/309 | Hostname | OS / Arch | INSTALL | BUILD | BUILD BIN | ||||||||||||
| TAPseq 1.10.0 (landing page) Andreas R. Gschwind
| kjohnson | macOS 13.0 Ventura / arm64 | OK | OK | OK | ||||||||||||
| Package 286/309 | Hostname | OS / Arch | INSTALL | BUILD | BUILD BIN | ||||||||||||
| TarSeqQC 1.28.0 (landing page) Gabriela Merino
| kjohnson | macOS 13.0 Ventura / arm64 | OK | OK | OK | ||||||||||||
| Package 287/309 | Hostname | OS / Arch | INSTALL | BUILD | BUILD BIN | ||||||||||||
| TBSignatureProfiler 1.10.0 (landing page) Aubrey R. Odom-Mabey
| kjohnson | macOS 13.0 Ventura / arm64 | OK | OK | OK | ||||||||||||
| Package 288/309 | Hostname | OS / Arch | INSTALL | BUILD | BUILD BIN | ||||||||||||
| ternarynet 1.42.0 (landing page) McCall N. Matthew
| kjohnson | macOS 13.0 Ventura / arm64 | OK | OK | OK | ||||||||||||
| Package 289/309 | Hostname | OS / Arch | INSTALL | BUILD | BUILD BIN | ||||||||||||
| TFBSTools 1.36.0 (landing page) Ge Tan
| kjohnson | macOS 13.0 Ventura / arm64 | OK | OK | OK | ||||||||||||
| Package 290/309 | Hostname | OS / Arch | INSTALL | BUILD | BUILD BIN | ||||||||||||
| TMixClust 1.20.0 (landing page) Monica Golumbeanu
| kjohnson | macOS 13.0 Ventura / arm64 | OK | OK | OK | ||||||||||||
| Package 291/309 | Hostname | OS / Arch | INSTALL | BUILD | BUILD BIN | ||||||||||||
| ToxicoGx 2.2.0 (landing page) Benjamin Haibe-Kains
| kjohnson | macOS 13.0 Ventura / arm64 | OK | OK | OK | ||||||||||||
| Package 292/309 | Hostname | OS / Arch | INSTALL | BUILD | BUILD BIN | ||||||||||||
| TPP2D 1.14.0 (landing page) Nils Kurzawa
| kjohnson | macOS 13.0 Ventura / arm64 | OK | OK | OK | ||||||||||||
| Package 293/309 | Hostname | OS / Arch | INSTALL | BUILD | BUILD BIN | ||||||||||||
| tradeSeq 1.12.0 (landing page) Hector Roux de Bezieux
| kjohnson | macOS 13.0 Ventura / arm64 | OK | OK | OK | ||||||||||||
| Package 294/309 | Hostname | OS / Arch | INSTALL | BUILD | BUILD BIN | ||||||||||||
Jesus de la Fuente Cedeño
| kjohnson | macOS 13.0 Ventura / arm64 | OK | ERROR | skipped | ||||||||||||
| Package 295/309 | Hostname | OS / Arch | INSTALL | BUILD | BUILD BIN | ||||||||||||
| TreeSummarizedExperiment 2.6.0 (landing page) Ruizhu Huang
| kjohnson | macOS 13.0 Ventura / arm64 | OK | OK | OK | ||||||||||||
| Package 296/309 | Hostname | OS / Arch | INSTALL | BUILD | BUILD BIN | ||||||||||||
| Trendy 1.20.0 (landing page) Rhonda Bacher
| kjohnson | macOS 13.0 Ventura / arm64 | OK | OK | OK | ||||||||||||
| Package 297/309 | Hostname | OS / Arch | INSTALL | BUILD | BUILD BIN | ||||||||||||
| TVTB 1.24.0 (landing page) Kevin Rue-Albrecht
| kjohnson | macOS 13.0 Ventura / arm64 | OK | OK | OK | ||||||||||||
| Package 298/309 | Hostname | OS / Arch | INSTALL | BUILD | BUILD BIN | ||||||||||||
| txcutr 1.4.0 (landing page) Mervin Fansler
| kjohnson | macOS 13.0 Ventura / arm64 | OK | OK | OK | ||||||||||||
| Package 299/309 | Hostname | OS / Arch | INSTALL | BUILD | BUILD BIN | ||||||||||||
| UCell 2.2.0 (landing page) Massimo Andreatta
| kjohnson | macOS 13.0 Ventura / arm64 | OK | OK | OK | ||||||||||||
| Package 300/309 | Hostname | OS / Arch | INSTALL | BUILD | BUILD BIN | ||||||||||||
| variancePartition 1.28.9 (landing page) Gabriel E. Hoffman
| kjohnson | macOS 13.0 Ventura / arm64 | OK | OK | OK | ||||||||||||
| Package 301/309 | Hostname | OS / Arch | INSTALL | BUILD | BUILD BIN | ||||||||||||
| VariantFiltering 1.34.0 (landing page) Robert Castelo
| kjohnson | macOS 13.0 Ventura / arm64 | OK | ERROR | skipped | ||||||||||||
| Package 302/309 | Hostname | OS / Arch | INSTALL | BUILD | BUILD BIN | ||||||||||||
| VariantTools 1.40.0 (landing page) Michael Lawrence
| kjohnson | macOS 13.0 Ventura / arm64 | OK | OK | OK | ||||||||||||
| Package 303/309 | Hostname | OS / Arch | INSTALL | BUILD | BUILD BIN | ||||||||||||
| VDJdive 1.0.0 (landing page) Kelly Street
| kjohnson | macOS 13.0 Ventura / arm64 | OK | OK | OK | ||||||||||||
| Package 304/309 | Hostname | OS / Arch | INSTALL | BUILD | BUILD BIN | ||||||||||||
| velociraptor 1.8.0 (landing page) Kevin Rue-Albrecht
| kjohnson | macOS 13.0 Ventura / arm64 | OK | ERROR | skipped | ||||||||||||
| Package 305/309 | Hostname | OS / Arch | INSTALL | BUILD | BUILD BIN | ||||||||||||
| Voyager 1.0.10 (landing page) Lambda Moses
| kjohnson | macOS 13.0 Ventura / arm64 | OK | OK | OK | ||||||||||||
| Package 306/309 | Hostname | OS / Arch | INSTALL | BUILD | BUILD BIN | ||||||||||||
| waddR 1.12.0 (landing page) Julian Flesch
| kjohnson | macOS 13.0 Ventura / arm64 | OK | OK | OK | ||||||||||||
| Package 307/309 | Hostname | OS / Arch | INSTALL | BUILD | BUILD BIN | ||||||||||||
| weitrix 1.10.0 (landing page) Paul Harrison
| kjohnson | macOS 13.0 Ventura / arm64 | OK | OK | OK | ||||||||||||
| Package 308/309 | Hostname | OS / Arch | INSTALL | BUILD | BUILD BIN | ||||||||||||
| xcms 3.20.0 (landing page) Steffen Neumann
| kjohnson | macOS 13.0 Ventura / arm64 | OK | OK | OK | ||||||||||||
| Package 309/309 | Hostname | OS / Arch | INSTALL | BUILD | BUILD BIN | ||||||||||||
| zinbwave 1.20.0 (landing page) Davide Risso
| kjohnson | macOS 13.0 Ventura / arm64 | OK | OK | OK | ||||||||||||