| Back to Mac ARM64 build report for BioC 3.16 |
|
This page was generated on 2023-04-19 11:01:58 -0400 (Wed, 19 Apr 2023).
| Hostname | OS | Arch (*) | R version | Installed pkgs |
|---|---|---|---|---|
| kjohnson | macOS 13.0 Ventura | arm64 | 4.2.2 (2022-10-31) -- "Innocent and Trusting" | 4256 |
| Click on any hostname to see more info about the system (e.g. compilers) (*) as reported by 'uname -p', except on Windows and Mac OS X | ||||
|
To the developers/maintainers of the singscore package: Make sure to use the following settings in order to reproduce any error or warning you see on this page. |
| Package 1892/2183 | Hostname | OS / Arch | INSTALL | BUILD | BUILD BIN | ||||||||
| singscore 1.18.0 (landing page) Dharmesh D. Bhuva
| kjohnson | macOS 13.0 Ventura / arm64 | OK | OK | OK | ||||||||
| Package: singscore |
| Version: 1.18.0 |
| Command: /Library/Frameworks/R.framework/Resources/bin/R CMD build --keep-empty-dirs --no-resave-data singscore |
| StartedAt: 2023-04-18 08:03:37 -0400 (Tue, 18 Apr 2023) |
| EndedAt: 2023-04-18 08:05:10 -0400 (Tue, 18 Apr 2023) |
| EllapsedTime: 92.3 seconds |
| RetCode: 0 |
| Status: OK |
| PackageFile: singscore_1.18.0.tar.gz |
| PackageFileSize: 2.717 MiB |
############################################################################## ############################################################################## ### ### Running command: ### ### /Library/Frameworks/R.framework/Resources/bin/R CMD build --keep-empty-dirs --no-resave-data singscore ### ############################################################################## ############################################################################## * checking for file ‘singscore/DESCRIPTION’ ... OK * preparing ‘singscore’: * checking DESCRIPTION meta-information ...Warning in person1(given = given[[i]], family = family[[i]], middle = middle[[i]], : It is recommended to use ‘given’ instead of ‘middle’. OK * installing the package to build vignettes * creating vignettes ... OK Warning in person1(given = given[[i]], family = family[[i]], middle = middle[[i]], : It is recommended to use ‘given’ instead of ‘middle’. * checking for LF line-endings in source and make files and shell scripts * checking for empty or unneeded directories * building ‘singscore_1.18.0.tar.gz’