| Back to Mac ARM64 build report for BioC 3.16 | 
 | 
This page was generated on 2023-04-19 11:01:54 -0400 (Wed, 19 Apr 2023).
| Hostname | OS | Arch (*) | R version | Installed pkgs | 
|---|---|---|---|---|
| kjohnson | macOS 13.0 Ventura | arm64 | 4.2.2 (2022-10-31) -- "Innocent and Trusting" | 4256 | 
| Click on any hostname to see more info about the system (e.g. compilers) (*) as reported by 'uname -p', except on Windows and Mac OS X | ||||
| To the developers/maintainers of the factR package: Make sure to use the following settings in order to reproduce any error or warning you see on this page. | 
| Package 655/2183 | Hostname | OS / Arch | INSTALL | BUILD | BUILD BIN | ||||||||
| factR 1.0.0  (landing page) Fursham Hamid 
 | kjohnson | macOS 13.0 Ventura / arm64 | OK | OK | OK |  | |||||||
| Package: factR | 
| Version: 1.0.0 | 
| Command: /Library/Frameworks/R.framework/Resources/bin/R CMD build --keep-empty-dirs --no-resave-data factR | 
| StartedAt: 2023-04-17 06:07:36 -0400 (Mon, 17 Apr 2023) | 
| EndedAt: 2023-04-17 06:11:06 -0400 (Mon, 17 Apr 2023) | 
| EllapsedTime: 209.6 seconds | 
| RetCode: 0 | 
| Status: OK | 
| PackageFile: factR_1.0.0.tar.gz | 
| PackageFileSize: 1.652 MiB | 
############################################################################## ############################################################################## ### ### Running command: ### ### /Library/Frameworks/R.framework/Resources/bin/R CMD build --keep-empty-dirs --no-resave-data factR ### ############################################################################## ############################################################################## * checking for file ‘factR/DESCRIPTION’ ... OK * preparing ‘factR’: * checking DESCRIPTION meta-information ... OK * installing the package to build vignettes * creating vignettes ... OK * checking for LF line-endings in source and make files and shell scripts * checking for empty or unneeded directories * looking to see if a ‘data/datalist’ file should be added * building ‘factR_1.0.0.tar.gz’