| Back to Mac ARM64 build report for BioC 3.16 |
|
This page was generated on 2023-04-19 11:01:58 -0400 (Wed, 19 Apr 2023).
| Hostname | OS | Arch (*) | R version | Installed pkgs |
|---|---|---|---|---|
| kjohnson | macOS 13.0 Ventura | arm64 | 4.2.2 (2022-10-31) -- "Innocent and Trusting" | 4256 |
| Click on any hostname to see more info about the system (e.g. compilers) (*) as reported by 'uname -p', except on Windows and Mac OS X | ||||
|
To the developers/maintainers of the TBSignatureProfiler package: Make sure to use the following settings in order to reproduce any error or warning you see on this page. |
| Package 2025/2183 | Hostname | OS / Arch | INSTALL | BUILD | BUILD BIN | ||||||||
| TBSignatureProfiler 1.10.0 (landing page) Aubrey R. Odom-Mabey
| kjohnson | macOS 13.0 Ventura / arm64 | OK | OK | OK | ||||||||
| Package: TBSignatureProfiler |
| Version: 1.10.0 |
| Command: /Library/Frameworks/R.framework/Resources/bin/R CMD build --keep-empty-dirs --no-resave-data TBSignatureProfiler |
| StartedAt: 2023-04-18 10:18:38 -0400 (Tue, 18 Apr 2023) |
| EndedAt: 2023-04-18 10:19:55 -0400 (Tue, 18 Apr 2023) |
| EllapsedTime: 77.5 seconds |
| RetCode: 0 |
| Status: OK |
| PackageFile: TBSignatureProfiler_1.10.0.tar.gz |
| PackageFileSize: 3.938 MiB |
############################################################################## ############################################################################## ### ### Running command: ### ### /Library/Frameworks/R.framework/Resources/bin/R CMD build --keep-empty-dirs --no-resave-data TBSignatureProfiler ### ############################################################################## ############################################################################## * checking for file ‘TBSignatureProfiler/DESCRIPTION’ ... OK * preparing ‘TBSignatureProfiler’: * checking DESCRIPTION meta-information ... OK * installing the package to build vignettes * creating vignettes ... OK * checking for LF line-endings in source and make files and shell scripts * checking for empty or unneeded directories * building ‘TBSignatureProfiler_1.10.0.tar.gz’