| Back to Mac ARM64 build report for BioC 3.16 |
|
This page was generated on 2023-04-19 11:01:54 -0400 (Wed, 19 Apr 2023).
| Hostname | OS | Arch (*) | R version | Installed pkgs |
|---|---|---|---|---|
| kjohnson | macOS 13.0 Ventura | arm64 | 4.2.2 (2022-10-31) -- "Innocent and Trusting" | 4256 |
| Click on any hostname to see more info about the system (e.g. compilers) (*) as reported by 'uname -p', except on Windows and Mac OS X | ||||
|
To the developers/maintainers of the consensusSeekeR package: Make sure to use the following settings in order to reproduce any error or warning you see on this page. |
| Package 405/2183 | Hostname | OS / Arch | INSTALL | BUILD | BUILD BIN | ||||||||
| consensusSeekeR 1.26.0 (landing page) Astrid Deschenes
| kjohnson | macOS 13.0 Ventura / arm64 | OK | OK | OK | ||||||||
| Package: consensusSeekeR |
| Version: 1.26.0 |
| Command: /Library/Frameworks/R.framework/Resources/bin/R CMD build --keep-empty-dirs --no-resave-data consensusSeekeR |
| StartedAt: 2023-04-17 01:26:46 -0400 (Mon, 17 Apr 2023) |
| EndedAt: 2023-04-17 01:29:54 -0400 (Mon, 17 Apr 2023) |
| EllapsedTime: 187.7 seconds |
| RetCode: 0 |
| Status: OK |
| PackageFile: consensusSeekeR_1.26.0.tar.gz |
| PackageFileSize: 737.5 KiB |
##############################################################################
##############################################################################
###
### Running command:
###
### /Library/Frameworks/R.framework/Resources/bin/R CMD build --keep-empty-dirs --no-resave-data consensusSeekeR
###
##############################################################################
##############################################################################
* checking for file ‘consensusSeekeR/DESCRIPTION’ ... OK
* preparing ‘consensusSeekeR’:
* checking DESCRIPTION meta-information ... OK
* installing the package to build vignettes
* creating vignettes ... OK
* checking for LF line-endings in source and make files and shell scripts
* checking for empty or unneeded directories
* looking to see if a ‘data/datalist’ file should be added
NB: this package now depends on R (>= 3.5.0)
WARNING: Added dependency on R >= 3.5.0 because serialized objects in
serialize/load version 3 cannot be read in older versions of R.
File(s) containing such objects:
‘consensusSeekeR/data/A549_CTCF_MYJ_NarrowPeaks_partial.RData’
‘consensusSeekeR/data/A549_CTCF_MYJ_Peaks_partial.RData’
‘consensusSeekeR/data/A549_CTCF_MYN_NarrowPeaks_partial.RData’
‘consensusSeekeR/data/A549_CTCF_MYN_Peaks_partial.RData’
‘consensusSeekeR/data/A549_FOSL2_01_NarrowPeaks_partial.RData’
‘consensusSeekeR/data/A549_FOSL2_01_Peaks_partial.RData’
‘consensusSeekeR/data/A549_FOXA1_01_NarrowPeaks_partial.RData’
‘consensusSeekeR/data/A549_FOXA1_01_Peaks_partial.RData’
‘consensusSeekeR/data/A549_NR3C1_CFQ_NarrowPeaks_partial.RData’
‘consensusSeekeR/data/A549_NR3C1_CFQ_Peaks_partial.RData’
‘consensusSeekeR/data/A549_NR3C1_CFR_NarrowPeaks_partial.RData’
‘consensusSeekeR/data/A549_NR3C1_CFR_Peaks_partial.RData’
‘consensusSeekeR/data/A549_NR3C1_CFS_NarrowPeaks_partial.RData’
‘consensusSeekeR/data/A549_NR3C1_CFS_Peaks_partial.RData’
‘consensusSeekeR/data/NOrMAL_nucleosome_positions.RData’
‘consensusSeekeR/data/NOrMAL_nucleosome_ranges.RData’
‘consensusSeekeR/data/NucPosSimulator_nucleosome_positions.RData’
‘consensusSeekeR/data/NucPosSimulator_nucleosome_ranges.RData’
‘consensusSeekeR/data/PING_nucleosome_positions.RData’
‘consensusSeekeR/data/PING_nucleosome_ranges.RData’
* building ‘consensusSeekeR_1.26.0.tar.gz’