| Back to Mac ARM64 build report for BioC 3.16 |
|
This page was generated on 2023-04-19 11:01:54 -0400 (Wed, 19 Apr 2023).
| Hostname | OS | Arch (*) | R version | Installed pkgs |
|---|---|---|---|---|
| kjohnson | macOS 13.0 Ventura | arm64 | 4.2.2 (2022-10-31) -- "Innocent and Trusting" | 4256 |
| Click on any hostname to see more info about the system (e.g. compilers) (*) as reported by 'uname -p', except on Windows and Mac OS X | ||||
|
To the developers/maintainers of the GenomAutomorphism package: Make sure to use the following settings in order to reproduce any error or warning you see on this page. |
| Package 778/2183 | Hostname | OS / Arch | INSTALL | BUILD | BUILD BIN | ||||||||
| GenomAutomorphism 1.0.3 (landing page) Robersy Sanchez
| kjohnson | macOS 13.0 Ventura / arm64 | OK | OK | OK | ||||||||
| Package: GenomAutomorphism |
| Version: 1.0.3 |
| Command: rm -rf GenomAutomorphism.buildbin-libdir && mkdir GenomAutomorphism.buildbin-libdir && /Users/biocbuild/BBS/utils/build-universal.sh GenomAutomorphism_1.0.3.tar.gz /Library/Frameworks/R.framework/Resources/bin/R GenomAutomorphism.buildbin-libdir |
| StartedAt: 2023-04-18 16:02:34 -0400 (Tue, 18 Apr 2023) |
| EndedAt: 2023-04-18 16:03:35 -0400 (Tue, 18 Apr 2023) |
| EllapsedTime: 61.5 seconds |
| RetCode: 0 |
| Status: OK |
| PackageFile: GenomAutomorphism_1.0.3.tgz |
| PackageFileSize: 1.622 MiB |
############################################################################## ############################################################################## ### ### Running command: ### ### rm -rf GenomAutomorphism.buildbin-libdir && mkdir GenomAutomorphism.buildbin-libdir && /Users/biocbuild/BBS/utils/build-universal.sh GenomAutomorphism_1.0.3.tar.gz /Library/Frameworks/R.framework/Resources/bin/R GenomAutomorphism.buildbin-libdir ### ############################################################################## ############################################################################## >>>>>>> >>>>>>> INSTALLATION WITH 'R CMD INSTALL --preclean --no-multiarch --library=GenomAutomorphism.buildbin-libdir GenomAutomorphism_1.0.3.tar.gz' >>>>>>> * installing *source* package ‘GenomAutomorphism’ ... ** using staged installation ** R ** data ** inst ** byte-compile and prepare package for lazy loading Creating a new generic function for ‘mod’ in package ‘GenomAutomorphism’ ** help *** installing help indices *** copying figures ** building package indices ** installing vignettes ** testing if installed package can be loaded from temporary location ** testing if installed package can be loaded from final location ** testing if installed package keeps a record of temporary installation path * DONE (GenomAutomorphism)