| Back to Mac ARM64 build report for BioC 3.16 |
|
This page was generated on 2023-04-19 11:01:54 -0400 (Wed, 19 Apr 2023).
| Hostname | OS | Arch (*) | R version | Installed pkgs |
|---|---|---|---|---|
| kjohnson | macOS 13.0 Ventura | arm64 | 4.2.2 (2022-10-31) -- "Innocent and Trusting" | 4256 |
| Click on any hostname to see more info about the system (e.g. compilers) (*) as reported by 'uname -p', except on Windows and Mac OS X | ||||
|
To the developers/maintainers of the contiBAIT package: Make sure to use the following settings in order to reproduce any error or warning you see on this page. |
| Package 408/2183 | Hostname | OS / Arch | INSTALL | BUILD | BUILD BIN | ||||||||
| contiBAIT 1.26.0 (landing page) Kieran O'Neill
| kjohnson | macOS 13.0 Ventura / arm64 | OK | OK | OK | ||||||||
| Package: contiBAIT |
| Version: 1.26.0 |
| Command: /Library/Frameworks/R.framework/Resources/bin/R CMD build --keep-empty-dirs --no-resave-data contiBAIT |
| StartedAt: 2023-04-17 01:30:06 -0400 (Mon, 17 Apr 2023) |
| EndedAt: 2023-04-17 01:31:49 -0400 (Mon, 17 Apr 2023) |
| EllapsedTime: 103.4 seconds |
| RetCode: 0 |
| Status: OK |
| PackageFile: contiBAIT_1.26.0.tar.gz |
| PackageFileSize: 3.859 MiB |
##############################################################################
##############################################################################
###
### Running command:
###
### /Library/Frameworks/R.framework/Resources/bin/R CMD build --keep-empty-dirs --no-resave-data contiBAIT
###
##############################################################################
##############################################################################
* checking for file ‘contiBAIT/DESCRIPTION’ ... OK
* preparing ‘contiBAIT’:
* checking DESCRIPTION meta-information ... OK
* cleaning src
* installing the package to build vignettes
* creating vignettes ... OK
* cleaning src
* checking for LF line-endings in source and make files and shell scripts
* checking for empty or unneeded directories
* looking to see if a ‘data/datalist’ file should be added
NB: this package now depends on R (>= 3.5.0)
WARNING: Added dependency on R >= 3.5.0 because serialized objects in
serialize/load version 3 cannot be read in older versions of R.
File(s) containing such objects:
‘contiBAIT/data/exampleChrTable.rda’
‘contiBAIT/data/exampleDividedChr.rda’
* building ‘contiBAIT_1.26.0.tar.gz’