| Back to Mac ARM64 build report for BioC 3.16 |
|
This page was generated on 2023-04-19 11:01:56 -0400 (Wed, 19 Apr 2023).
| Hostname | OS | Arch (*) | R version | Installed pkgs |
|---|---|---|---|---|
| kjohnson | macOS 13.0 Ventura | arm64 | 4.2.2 (2022-10-31) -- "Innocent and Trusting" | 4256 |
| Click on any hostname to see more info about the system (e.g. compilers) (*) as reported by 'uname -p', except on Windows and Mac OS X | ||||
|
To the developers/maintainers of the MMAPPR2 package: Make sure to use the following settings in order to reproduce any error or warning you see on this page. |
| Package 1234/2183 | Hostname | OS / Arch | INSTALL | BUILD | BUILD BIN | ||||||||
| MMAPPR2 1.12.0 (landing page) Jonathon Hill
| kjohnson | macOS 13.0 Ventura / arm64 | ERROR | ERROR | skipped | ||||||||
| Package: MMAPPR2 |
| Version: 1.12.0 |
| Command: /Library/Frameworks/R.framework/Resources/bin/R CMD INSTALL MMAPPR2 |
| StartedAt: 2023-04-16 17:30:31 -0400 (Sun, 16 Apr 2023) |
| EndedAt: 2023-04-16 17:30:32 -0400 (Sun, 16 Apr 2023) |
| EllapsedTime: 1.2 seconds |
| RetCode: 1 |
| Status: ERROR |
############################################################################## ############################################################################## ### ### Running command: ### ### /Library/Frameworks/R.framework/Resources/bin/R CMD INSTALL MMAPPR2 ### ############################################################################## ############################################################################## * installing to library ‘/Library/Frameworks/R.framework/Versions/4.2-arm64/Resources/library’ ERROR: dependency ‘gmapR’ is not available for package ‘MMAPPR2’ * removing ‘/Library/Frameworks/R.framework/Versions/4.2-arm64/Resources/library/MMAPPR2’