| Back to Mac ARM64 build report for BioC 3.16 |
|
This page was generated on 2023-04-19 11:01:53 -0400 (Wed, 19 Apr 2023).
| Hostname | OS | Arch (*) | R version | Installed pkgs |
|---|---|---|---|---|
| kjohnson | macOS 13.0 Ventura | arm64 | 4.2.2 (2022-10-31) -- "Innocent and Trusting" | 4256 |
| Click on any hostname to see more info about the system (e.g. compilers) (*) as reported by 'uname -p', except on Windows and Mac OS X | ||||
|
To the developers/maintainers of the ChIPexoQual package: Make sure to use the following settings in order to reproduce any error or warning you see on this page. |
| Package 312/2183 | Hostname | OS / Arch | INSTALL | BUILD | BUILD BIN | ||||||||
| ChIPexoQual 1.22.0 (landing page) Rene Welch
| kjohnson | macOS 13.0 Ventura / arm64 | OK | OK | OK | ||||||||
| Package: ChIPexoQual |
| Version: 1.22.0 |
| Command: rm -rf ChIPexoQual.buildbin-libdir && mkdir ChIPexoQual.buildbin-libdir && /Users/biocbuild/BBS/utils/build-universal.sh ChIPexoQual_1.22.0.tar.gz /Library/Frameworks/R.framework/Resources/bin/R ChIPexoQual.buildbin-libdir |
| StartedAt: 2023-04-18 14:25:05 -0400 (Tue, 18 Apr 2023) |
| EndedAt: 2023-04-18 14:27:08 -0400 (Tue, 18 Apr 2023) |
| EllapsedTime: 123.3 seconds |
| RetCode: 0 |
| Status: OK |
| PackageFile: ChIPexoQual_1.22.0.tgz |
| PackageFileSize: 2.278 MiB |
############################################################################## ############################################################################## ### ### Running command: ### ### rm -rf ChIPexoQual.buildbin-libdir && mkdir ChIPexoQual.buildbin-libdir && /Users/biocbuild/BBS/utils/build-universal.sh ChIPexoQual_1.22.0.tar.gz /Library/Frameworks/R.framework/Resources/bin/R ChIPexoQual.buildbin-libdir ### ############################################################################## ############################################################################## >>>>>>> >>>>>>> INSTALLATION WITH 'R CMD INSTALL --preclean --no-multiarch --library=ChIPexoQual.buildbin-libdir ChIPexoQual_1.22.0.tar.gz' >>>>>>> * installing *source* package ‘ChIPexoQual’ ... ** using staged installation ** R ** data ** inst ** byte-compile and prepare package for lazy loading ** help *** installing help indices ** building package indices ** installing vignettes ** testing if installed package can be loaded from temporary location ** testing if installed package can be loaded from final location ** testing if installed package keeps a record of temporary installation path * DONE (ChIPexoQual)