| Back to Mac ARM64 build report for BioC 3.16 |
|
This page was generated on 2023-04-19 11:01:55 -0400 (Wed, 19 Apr 2023).
| Hostname | OS | Arch (*) | R version | Installed pkgs |
|---|---|---|---|---|
| kjohnson | macOS 13.0 Ventura | arm64 | 4.2.2 (2022-10-31) -- "Innocent and Trusting" | 4256 |
| Click on any hostname to see more info about the system (e.g. compilers) (*) as reported by 'uname -p', except on Windows and Mac OS X | ||||
|
To the developers/maintainers of the mbkmeans package: Make sure to use the following settings in order to reproduce any error or warning you see on this page. |
| Package 1112/2183 | Hostname | OS / Arch | INSTALL | BUILD | BUILD BIN | ||||||||
| mbkmeans 1.14.0 (landing page) Davide Risso
| kjohnson | macOS 13.0 Ventura / arm64 | OK | OK | OK | ||||||||
| Package: mbkmeans |
| Version: 1.14.0 |
| Command: rm -rf mbkmeans.buildbin-libdir && mkdir mbkmeans.buildbin-libdir && /Users/biocbuild/BBS/utils/build-universal.sh mbkmeans_1.14.0.tar.gz /Library/Frameworks/R.framework/Resources/bin/R mbkmeans.buildbin-libdir |
| StartedAt: 2023-04-18 16:59:41 -0400 (Tue, 18 Apr 2023) |
| EndedAt: 2023-04-18 17:01:30 -0400 (Tue, 18 Apr 2023) |
| EllapsedTime: 109.5 seconds |
| RetCode: 0 |
| Status: OK |
| PackageFile: mbkmeans_1.14.0.tgz |
| PackageFileSize: 426.1 KiB |
##############################################################################
##############################################################################
###
### Running command:
###
### rm -rf mbkmeans.buildbin-libdir && mkdir mbkmeans.buildbin-libdir && /Users/biocbuild/BBS/utils/build-universal.sh mbkmeans_1.14.0.tar.gz /Library/Frameworks/R.framework/Resources/bin/R mbkmeans.buildbin-libdir
###
##############################################################################
##############################################################################
>>>>>>>
>>>>>>> INSTALLATION WITH 'R CMD INSTALL --preclean --no-multiarch --library=mbkmeans.buildbin-libdir mbkmeans_1.14.0.tar.gz'
>>>>>>>
* installing *source* package ‘mbkmeans’ ...
** using staged installation
** libs
clang++ -arch arm64 -std=gnu++11 -I"/Library/Frameworks/R.framework/Resources/include" -DNDEBUG -I'/Library/Frameworks/R.framework/Versions/4.2-arm64/Resources/library/Rcpp/include' -I'/Library/Frameworks/R.framework/Versions/4.2-arm64/Resources/library/RcppArmadillo/include' -I'/Library/Frameworks/R.framework/Versions/4.2-arm64/Resources/library/Rhdf5lib/include' -I'/Library/Frameworks/R.framework/Versions/4.2-arm64/Resources/library/beachmat/include' -I'/Library/Frameworks/R.framework/Versions/4.2-arm64/Resources/library/ClusterR/include' -I/opt/R/arm64/include -fPIC -falign-functions=64 -Wall -g -O2 -c RcppExports.cpp -o RcppExports.o
In file included from RcppExports.cpp:4:
In file included from /Library/Frameworks/R.framework/Versions/4.2-arm64/Resources/library/RcppArmadillo/include/RcppArmadillo.h:29:
In file included from /Library/Frameworks/R.framework/Versions/4.2-arm64/Resources/library/RcppArmadillo/include/RcppArmadillo/interface/RcppArmadilloForward.h:25:
In file included from /Library/Frameworks/R.framework/Versions/4.2-arm64/Resources/library/Rcpp/include/RcppCommon.h:168:
/Library/Frameworks/R.framework/Versions/4.2-arm64/Resources/library/Rcpp/include/Rcpp/internal/r_coerce.h:255:7: warning: 'sprintf' is deprecated: This function is provided for compatibility reasons only. Due to security concerns inherent in the design of sprintf(3), it is highly recommended that you use snprintf(3) instead. [-Wdeprecated-declarations]
::sprintf(buff, "%02x", from);
^
/Library/Developer/CommandLineTools/SDKs/MacOSX.sdk/usr/include/stdio.h:188:1: note: 'sprintf' has been explicitly marked deprecated here
__deprecated_msg("This function is provided for compatibility reasons only. Due to security concerns inherent in the design of sprintf(3), it is highly recommended that you use snprintf(3) instead.")
^
/Library/Developer/CommandLineTools/SDKs/MacOSX.sdk/usr/include/sys/cdefs.h:215:48: note: expanded from macro '__deprecated_msg'
#define __deprecated_msg(_msg) __attribute__((__deprecated__(_msg)))
^
1 warning generated.
clang++ -arch arm64 -std=gnu++11 -I"/Library/Frameworks/R.framework/Resources/include" -DNDEBUG -I'/Library/Frameworks/R.framework/Versions/4.2-arm64/Resources/library/Rcpp/include' -I'/Library/Frameworks/R.framework/Versions/4.2-arm64/Resources/library/RcppArmadillo/include' -I'/Library/Frameworks/R.framework/Versions/4.2-arm64/Resources/library/Rhdf5lib/include' -I'/Library/Frameworks/R.framework/Versions/4.2-arm64/Resources/library/beachmat/include' -I'/Library/Frameworks/R.framework/Versions/4.2-arm64/Resources/library/ClusterR/include' -I/opt/R/arm64/include -fPIC -falign-functions=64 -Wall -g -O2 -c mini_batch.cpp -o mini_batch.o
In file included from mini_batch.cpp:2:
In file included from /Library/Frameworks/R.framework/Versions/4.2-arm64/Resources/library/RcppArmadillo/include/RcppArmadillo.h:29:
In file included from /Library/Frameworks/R.framework/Versions/4.2-arm64/Resources/library/RcppArmadillo/include/RcppArmadillo/interface/RcppArmadilloForward.h:25:
In file included from /Library/Frameworks/R.framework/Versions/4.2-arm64/Resources/library/Rcpp/include/RcppCommon.h:168:
/Library/Frameworks/R.framework/Versions/4.2-arm64/Resources/library/Rcpp/include/Rcpp/internal/r_coerce.h:255:7: warning: 'sprintf' is deprecated: This function is provided for compatibility reasons only. Due to security concerns inherent in the design of sprintf(3), it is highly recommended that you use snprintf(3) instead. [-Wdeprecated-declarations]
::sprintf(buff, "%02x", from);
^
/Library/Developer/CommandLineTools/SDKs/MacOSX.sdk/usr/include/stdio.h:188:1: note: 'sprintf' has been explicitly marked deprecated here
__deprecated_msg("This function is provided for compatibility reasons only. Due to security concerns inherent in the design of sprintf(3), it is highly recommended that you use snprintf(3) instead.")
^
/Library/Developer/CommandLineTools/SDKs/MacOSX.sdk/usr/include/sys/cdefs.h:215:48: note: expanded from macro '__deprecated_msg'
#define __deprecated_msg(_msg) __attribute__((__deprecated__(_msg)))
^
In file included from mini_batch.cpp:2:
In file included from /Library/Frameworks/R.framework/Versions/4.2-arm64/Resources/library/RcppArmadillo/include/RcppArmadillo.h:29:
In file included from /Library/Frameworks/R.framework/Versions/4.2-arm64/Resources/library/RcppArmadillo/include/RcppArmadillo/interface/RcppArmadilloForward.h:57:
In file included from /Library/Frameworks/R.framework/Versions/4.2-arm64/Resources/library/RcppArmadillo/include/armadillo:22:
/Library/Frameworks/R.framework/Versions/4.2-arm64/Resources/library/RcppArmadillo/include/armadillo_bits/config.hpp:338:11: warning: INFO: support for ARMA_DONT_PRINT_ERRORS option has been removed [-W#pragma-messages]
#pragma message ("INFO: support for ARMA_DONT_PRINT_ERRORS option has been removed")
^
/Library/Frameworks/R.framework/Versions/4.2-arm64/Resources/library/RcppArmadillo/include/armadillo_bits/config.hpp:343:13: warning: INFO: suggest to use ARMA_WARN_LEVEL option instead [-W#pragma-messages]
#pragma message ("INFO: suggest to use ARMA_WARN_LEVEL option instead")
^
/Library/Frameworks/R.framework/Versions/4.2-arm64/Resources/library/RcppArmadillo/include/armadillo_bits/config.hpp:346:11: warning: INFO: see the documentation for details [-W#pragma-messages]
#pragma message ("INFO: see the documentation for details")
^
In file included from mini_batch.cpp:3:
/Library/Frameworks/R.framework/Versions/4.2-arm64/Resources/library/ClusterR/include/ClusterRHeader.h:926:14: warning: variable 'status' set but not used [-Wunused-but-set-variable]
bool status;
^
/Library/Frameworks/R.framework/Versions/4.2-arm64/Resources/library/ClusterR/include/ClusterRHeader.h:1601:14: warning: variable 'status' set but not used [-Wunused-but-set-variable]
bool status;
^
6 warnings generated.
clang++ -arch arm64 -std=gnu++11 -dynamiclib -Wl,-headerpad_max_install_names -undefined dynamic_lookup -single_module -multiply_defined suppress -L/Library/Frameworks/R.framework/Resources/lib -L/opt/R/arm64/lib -o mbkmeans.so RcppExports.o mini_batch.o -F/Library/Frameworks/R.framework/.. -framework R -Wl,-framework -Wl,CoreFoundation
ld: warning: -undefined dynamic_lookup may not work with chained fixups
installing to /Volumes/External/bbs-3.16-bioc-m1/meat/mbkmeans.buildbin-libdir/00LOCK-mbkmeans/00new/mbkmeans/libs
** R
** inst
** byte-compile and prepare package for lazy loading
** help
*** installing help indices
** building package indices
** installing vignettes
** testing if installed package can be loaded from temporary location
** checking absolute paths in shared objects and dynamic libraries
** testing if installed package can be loaded from final location
** testing if installed package keeps a record of temporary installation path
* DONE (mbkmeans)
>>>>>>>
>>>>>>> FIXING LINKS FOR mbkmeans.buildbin-libdir/mbkmeans/libs/mbkmeans.so
>>>>>>>
install_name_tool -change "/opt/R/arm64/lib/libgcc_s.1.1.dylib" "/Library/Frameworks/R.framework/Versions/4.2-arm64/Resources/lib/libgcc_s.1.1.dylib" "mbkmeans.buildbin-libdir/mbkmeans/libs/mbkmeans.so"
install_name_tool -change "/opt/R/arm64/lib/libgfortran.5.dylib" "/Library/Frameworks/R.framework/Versions/4.2-arm64/Resources/lib/libgfortran.5.dylib" "mbkmeans.buildbin-libdir/mbkmeans/libs/mbkmeans.so"
install_name_tool -change "/opt/R/arm64/lib/libquadmath.0.dylib" "/Library/Frameworks/R.framework/Versions/4.2-arm64/Resources/lib/libquadmath.0.dylib" "mbkmeans.buildbin-libdir/mbkmeans/libs/mbkmeans.so"