| Back to Mac ARM64 build report for BioC 3.16 |
|
This page was generated on 2023-04-19 11:01:54 -0400 (Wed, 19 Apr 2023).
| Hostname | OS | Arch (*) | R version | Installed pkgs |
|---|---|---|---|---|
| kjohnson | macOS 13.0 Ventura | arm64 | 4.2.2 (2022-10-31) -- "Innocent and Trusting" | 4256 |
| Click on any hostname to see more info about the system (e.g. compilers) (*) as reported by 'uname -p', except on Windows and Mac OS X | ||||
|
To the developers/maintainers of the coseq package: Make sure to use the following settings in order to reproduce any error or warning you see on this page. |
| Package 421/2183 | Hostname | OS / Arch | INSTALL | BUILD | BUILD BIN | ||||||||
| coseq 1.22.0 (landing page) Andrea Rau
| kjohnson | macOS 13.0 Ventura / arm64 | OK | OK | OK | ||||||||
| Package: coseq |
| Version: 1.22.0 |
| Command: rm -rf coseq.buildbin-libdir && mkdir coseq.buildbin-libdir && /Users/biocbuild/BBS/utils/build-universal.sh coseq_1.22.0.tar.gz /Library/Frameworks/R.framework/Resources/bin/R coseq.buildbin-libdir |
| StartedAt: 2023-04-18 14:49:39 -0400 (Tue, 18 Apr 2023) |
| EndedAt: 2023-04-18 14:51:36 -0400 (Tue, 18 Apr 2023) |
| EllapsedTime: 117.6 seconds |
| RetCode: 0 |
| Status: OK |
| PackageFile: coseq_1.22.0.tgz |
| PackageFileSize: 2.074 MiB |
############################################################################## ############################################################################## ### ### Running command: ### ### rm -rf coseq.buildbin-libdir && mkdir coseq.buildbin-libdir && /Users/biocbuild/BBS/utils/build-universal.sh coseq_1.22.0.tar.gz /Library/Frameworks/R.framework/Resources/bin/R coseq.buildbin-libdir ### ############################################################################## ############################################################################## >>>>>>> >>>>>>> INSTALLATION WITH 'R CMD INSTALL --preclean --no-multiarch --library=coseq.buildbin-libdir coseq_1.22.0.tar.gz' >>>>>>> * installing *source* package ‘coseq’ ... ** using staged installation ** R ** data ** inst ** byte-compile and prepare package for lazy loading Creating a new generic function for ‘plot’ in package ‘coseq’ ** help *** installing help indices ** building package indices ** installing vignettes ** testing if installed package can be loaded from temporary location ** testing if installed package can be loaded from final location ** testing if installed package keeps a record of temporary installation path * DONE (coseq)