| zin1 |
Linux (Ubuntu 12.04.4 LTS) / x86_64 | | | |
| [moscato1] |
Windows Server 2008 R2 Enterprise SP1 (64-bit) / x64 | | | |
| perceval |
Mac OS X Snow Leopard (10.6.8) / x86_64 | | | |
|
|
| A [A] B C D E F G H I J K L M N O P Q R S T U V W X Y Z |
| a4 1.10.0 | Tobias Verbeke , Willem Ligtenberg | OK | OK | OK |
| a4Base 1.10.0 | Tobias Verbeke , Willem Ligtenberg | OK | OK | OK |
| a4Classif 1.10.0 | Tobias Verbeke , Willem Ligtenberg | OK | OK | OK |
| a4Core 1.10.0 | Tobias Verbeke , Willem Ligtenberg | OK | OK | OK |
| a4Preproc 1.10.0 | Tobias Verbeke , Willem Ligtenberg | OK | OK | OK |
| a4Reporting 1.10.0 | Tobias Verbeke , Willem Ligtenberg | OK | OK | OK |
| ABarray 1.30.0 | Yongming Andrew Sun | OK | OK | OK |
| aCGH 1.40.0 | Peter Dimitrov | OK | OK | OK |
| ACME 2.18.0 | Sean Davis | OK | OK | OK |
| ADaCGH2 2.2.0 | Ramon Diaz-Uriarte | OK | OK | OK |
| adSplit 1.32.0 | Claudio Lottaz | OK | OK | OK |
| affxparser 1.34.2 | Kasper Daniel Hansen | OK | OK | OK |
| affy 1.40.0 | Rafael A. Irizarry | OK | WARNINGS | OK |
| affycomp 1.38.0 | Rafael A. Irizarry | OK | OK | OK |
| AffyCompatible 1.22.0 | Martin Morgan | OK | OK | OK |
| affyContam 1.20.0 | V. Carey | OK | OK | OK |
| affycoretools 1.34.0 | James W. MacDonald | OK | OK | OK |
| AffyExpress 1.28.0 | Xuejun Arthur Li | OK | OK | OK |
| affyILM 1.14.0 | Myriam Kroll and Fabrice Berger | OK | OK | OK |
| affyio 1.30.0 | Benjamin Milo Bolstad | OK | OK | OK |
| affylmGUI 1.36.0 | Keith Satterley | OK | OK | OK |
| affyPara 1.22.0 | Markus Schmidberger | OK | OK | OK |
| affypdnn 1.36.0 | Laurent Gautier | OK | OK | OK |
| affyPLM 1.38.0 | Ben Bolstad | OK | WARNINGS | OK |
| affyQCReport 1.40.0 | Craig Parman | OK | OK | OK |
| AffyRNADegradation 1.8.0 | Mario Fasold | OK | OK | OK |
| AffyTiling 1.20.0 | Charles G. Danko | OK | OK | OK |
| AGDEX 1.10.0 | Cuilan lani Gao | OK | OK | OK |
| Agi4x44PreProcess 1.22.0 | Pedro Lopez-Romero | OK | OK | OK |
| agilp 3.4.0 | Benny Chain | OK | OK | OK |
| AgiMicroRna 2.12.0 | Pedro Lopez-Romero | OK | OK | OK |
| AllelicImbalance 1.0.0 | Jesper R Gadin | OK | OK | OK |
| altcdfenvs 2.24.0 | Laurent Gautier | OK | OK | OK |
| ampliQueso 1.0.0 | Michal Okoniewski | OK | OK | OK |
| annaffy 1.34.0 | Colin A. Smith | OK | OK | OK |
| annmap 1.4.1 | Tim Yates | N O T S U P P O R T E D |
| annotate 1.40.1 | Bioconductor Package Maintainer | OK | OK | OK |
| AnnotationDbi 1.24.0 | Bioconductor Package Maintainer | OK | OK | OK |
| AnnotationForge 1.4.4 | Bioconductor Package Maintainer | OK | OK | OK |
| AnnotationFuncs 1.12.0 | Stefan McKinnon Edwards | OK | WARNINGS | OK |
| AnnotationHub 1.2.0 | Marc Carlson | OK | OK | OK |
| annotationTools 1.36.0 | Alexandre Kuhn | OK | OK | OK |
| anota 1.10.0 | Ola Larsson | OK | OK | OK |
| antiProfiles 1.2.0 | Hector Corrada Bravo | OK | OK | OK |
| apComplex 2.28.0 | Denise Scholtens | OK | OK | OK |
| aroma.light 1.32.0 | Henrik Bengtsson | OK | OK | OK |
| ArrayExpress 1.22.0 | Ibrahim Emam | OK | OK | OK |
| ArrayExpressHTS 1.12.0 | Angela Goncalves , Andrew Tikhonov | N O T S U P P O R T E D |
| arrayMvout 1.20.0 | V. Carey | OK | OK | OK |
| arrayQuality 1.40.0 | Agnes Paquet | OK | OK | OK |
| arrayQualityMetrics 3.18.0 | Audrey Kauffmann | OK | OK | OK |
| ArrayTools 1.22.0 | Arthur Li | OK | OK | OK |
| ArrayTV 1.0.0 | Eitan Halper-Stromberg | OK | OK | OK |
| ARRmNormalization 1.2.0 | Jean-Philippe Fortin | OK | OK | OK |
| ASEB 1.6.0 | Likun Wang | OK | OK | OK |
| ASSET 1.0.0 | William Wheeler | OK | OK | OK |
| attract 1.14.0 | Jessica Mar | OK | OK | OK |
|
| B A [B] C D E F G H I J K L M N O P Q R S T U V W X Y Z |
| BAC 1.22.0 | Raphael Gottardo | OK | OK | OK |
| BADER 1.0.0 | Andreas Neudecker | OK | OK | OK |
| BAGS 2.2.0 | Alejandro Quiroz-Zarate | OK | OK | OK |
| BaseSpaceR 1.2.0 | Adrian Alexa | OK | OK | OK |
| BayesPeak 1.14.0 | Jonathan Cairns | OK | OK | OK |
| baySeq 1.16.0 | Thomas J. Hardcastle | OK | OK | OK |
| BCRANK 1.24.0 | Adam Ameur | OK | OK | OK |
| beadarray 2.12.0 | Mark Dunning | OK | OK | OK |
| beadarraySNP 1.28.0 | Jan Oosting | OK | OK | OK |
| BeadDataPackR 1.14.0 | Mike Smith | OK | OK | OK |
| betr 1.18.0 | Martin Aryee | OK | OK | OK |
| bgafun 1.24.1 | Iain Wallace | OK | OK | OK |
| BGmix 1.22.0 | Alex Lewin | N O T S U P P O R T E D |
| bgx 1.28.0 | Ernest Turro | OK | OK | OK |
| BHC 1.14.0 | Rich Savage | OK | OK | OK |
| BicARE 1.20.0 | Pierre Gestraud | OK | OK | OK |
| BiGGR 1.0.0 | Anand K. Gavai , Hannes Hettling | OK | OK | OK |
| bigmemoryExtras 1.6.1 | Peter M. Haverty | N O T S U P P O R T E D |
| bioassayR 1.0.0 | Tyler Backman | OK | OK | OK |
| Biobase 2.22.0 | Bioconductor Package Maintainer | OK | OK | OK |
| BiocCaseStudies 1.24.0 | Bioconductor Package Maintainer | OK | OK | OK |
| BiocGenerics 0.8.0 | Bioconductor Package Maintainer | OK | WARNINGS | OK |
| biocGraph 1.24.0 | Florian Hahne | OK | OK | OK |
| BiocInstaller 1.12.0 | Bioconductor Package Maintainer | OK | OK | OK |
| BiocParallel 0.4.1 | Bioconductor Package Maintainer | OK | OK | OK |
| BiocStyle 1.0.0 | Bioconductor Package Maintainer | OK | OK | OK |
| biocViews 1.30.1 | Bioconductor Package Maintainer | OK | OK | OK |
| bioDist 1.34.0 | Bioconductor Package Maintainer | OK | OK | OK |
| biomaRt 2.18.0 | Steffen Durinck | OK | OK | OK |
| BioMVCClass 1.30.0 | Elizabeth Whalen | OK | OK | OK |
| biomvRCNS 1.2.0 | Yang Du | OK | OK | OK |
| BioNet 1.23.2 | Marcus Dittrich | OK | OK | OK |
| BioSeqClass 1.20.0 | Li Hong | OK | OK | OK |
| Biostrings 2.30.1 | H. Pages | OK | WARNINGS | OK |
| biovizBase 1.10.8 | Tengfei Yin | OK | OK | OK |
| BiRewire 1.2.2 | Andrea Gobbi | OK | OK | OK |
| birta 1.6.0 | Benedikt Zacher , Holger Froehlich | OK | OK | OK |
| BiSeq 1.2.5 | Katja Hebestreit | OK | OK | OK |
| BitSeq 1.6.1 | Peter Glaus | OK | OK | OK |
| BRAIN 1.8.0 | Piotr Dittwald | OK | OK | OK |
| BrainStars 1.6.0 | Itoshi NIKAIDO | OK | OK | OK |
| bridge 1.26.0 | Raphael Gottardo | OK | OK | OK |
| BSgenome 1.30.0 | H. Pages | OK | WARNINGS | OK |
| bsseq 0.10.0 | Kasper Daniel Hansen | OK | OK | OK |
| BufferedMatrix 1.26.0 | Benjamin Milo Bolstad | OK | OK | OK |
| BufferedMatrixMethods 1.26.0 | B. M. Bolstad | OK | OK | OK |
| bumphunter 1.2.0 | Rafael A. Irizarry | OK | OK | OK |
| BUS 1.18.0 | Yuanhua Liu | OK | OK | OK |
|
| C A B [C] D E F G H I J K L M N O P Q R S T U V W X Y Z |
| CAGEr 1.4.1 | Vanja Haberle | OK | OK | OK |
| CALIB 1.28.0 | Hui Zhao | OK | OK | OK |
| CAMERA 1.18.0 | Carsten Kuhl | OK | OK | OK |
| cancerclass 1.6.0 | Daniel Kosztyla | OK | OK | OK |
| CancerMutationAnalysis 1.6.0 | Simina M. Boca | OK | OK | OK |
| casper 1.4.0 | David Rossell | OK | WARNINGS | OK |
| Category 2.28.0 | Bioconductor Package Maintainer | OK | OK | OK |
| categoryCompare 1.6.0 | Robert M. Flight | OK | OK | OK |
| cellGrowth 1.6.0 | Julien Gagneur | OK | OK | OK |
| cellHTS 1.32.0 | Ligia Bras | OK | OK | OK |
| cellHTS2 2.26.0 | Joseph Barry | OK | OK | OK |
| CellNOptR 1.8.0 | T.Cokelaer | OK | OK | OK |
| CexoR 1.0.0 | Pedro Madrigal | OK | OK | OK |
| CGEN 2.4.0 | William Wheeler | OK | OK | OK |
| CGHbase 1.22.0 | Mark van de Wiel | OK | OK | OK |
| CGHcall 2.22.0 | Mark van de Wiel | OK | OK | OK |
| cghMCR 1.20.0 | J. Zhang | OK | OK | OK |
| CGHnormaliter 1.16.0 | Bart P.P. van Houte | OK | OK | OK |
| CGHregions 1.20.0 | Sjoerd Vosse | OK | OK | OK |
| ChAMP 1.0.7 | Tiffany Morris | OK | OK | OK |
| charm 2.8.0 | Peter Murakami | OK | OK | OK |
| ChemmineOB 1.0.1 | Kevin Horan | OK | OK | OK |
| ChemmineR 2.14.3 | ChemmineR Team | OK | OK | OK |
| chimera 1.4.6 | Raffaele A Calogero | OK | OK | OK |
| chipenrich 1.0.0 | Ryan P. Welch | OK | OK | OK |
| ChIPpeakAnno 2.10.0 | Lihua Julie Zhu | OK | OK | OK |
| chipseq 1.12.0 | Bioconductor Package Maintainer | OK | OK | OK |
| ChIPseqR 1.16.0 | Peter Humburg | OK | WARNINGS | OK |
| ChIPsim 1.16.0 | Peter Humburg | OK | OK | OK |
| ChIPXpress 1.4.0 | George Wu | N O T S U P P O R T E D |
| chopsticks 1.26.1 | Hin-Tak Leung | OK | OK | OK |
| chroGPS 1.6.1 | Oscar Reina | OK | OK | OK |
| ChromHeatMap 1.16.0 | Tim F. Rayner | OK | OK | OK |
| cisPath 1.2.7 | Likun Wang | OK | OK | OK |
| cleanUpdTSeq 1.0.2 | Sarah Sheppard ; Jianhong Ou ; Lihua Julie Zhu | OK | OK | OK |
| cleaver 1.0.0 | Sebastian Gibb | OK | OK | OK |
| clippda 1.12.0 | Stephen Nyangoma | OK | WARNINGS | OK |
| clipper 1.2.3 | Paolo Martini | OK | OK | OK |
| Clonality 1.10.1 | Irina Ostrovnaya | OK | OK | OK |
| clonotypeR 1.0.0 | Charles Plessy | OK | OK | OK |
| clst 1.10.0 | Noah Hoffman | OK | OK | OK |
| clstutils 1.10.0 | Noah Hoffman | OK | OK | OK |
| clusterProfiler 1.10.1 | Guangchuang Yu | OK | OK | OK |
| clusterStab 1.34.0 | James W. MacDonald | OK | OK | OK |
| CMA 1.20.0 | Christoph Bernau | OK | OK | OK |
| cn.farms 1.10.0 | Andreas Mitterecker | OK | OK | OK |
| cn.mops 1.8.9 | Guenter Klambauer | OK | OK | OK |
| CNAnorm 1.8.0 | Stefano Berri | OK | OK | OK |
| CNORdt 1.4.0 | A. MacNamara | OK | OK | OK |
| CNORfeeder 1.2.0 | F.Eduati | OK | OK | OK |
| CNORfuzzy 1.4.0 | T. Cokelaer | OK | OK | OK |
| CNORode 1.4.0 | David Henriques | OK | OK | OK |
| CNTools 1.18.0 | J. Zhang | OK | OK | OK |
| cnvGSA 1.6.0 | Robert Ziman | OK | OK | OK |
| CNVrd2 1.0.0 | Hoang Tan Nguyen | OK | OK | OK |
| CNVtools 1.56.0 | Chris Barnes | OK | OK | OK |
| cobindR 1.0.0 | Manuela Benary | OK | OK | OK |
| CoCiteStats 1.34.0 | Bioconductor Package Maintainer | OK | OK | OK |
| codelink 1.30.9 | Diego Diez | OK | OK | OK |
| CoGAPS 1.12.0 | Elana J. Fertig , Michael F. Ochs | N O T S U P P O R T E D |
| coGPS 1.6.0 | Yingying Wei | OK | OK | OK |
| ConsensusClusterPlus 1.16.0 | Matt Wilkerson | OK | OK | OK |
| convert 1.38.0 | Yee Hwa (Jean) Yang | OK | OK | OK |
| copa 1.30.0 | James W. MacDonald | OK | OK | OK |
| copynumber 1.2.0 | Gro Nilsen | OK | OK | OK |
| Cormotif 1.8.0 | Yingying Wei | OK | OK | OK |
| CorMut 1.4.0 | Zhenpeng Li | OK | OK | OK |
| coRNAi 1.12.0 | Elin Axelsson | OK | OK | OK |
| CORREP 1.28.0 | Dongxiao Zhu | OK | OK | OK |
| cqn 1.8.0 | Kasper Daniel Hansen | OK | OK | OK |
| CRImage 1.10.0 | Henrik Failmezger , Yinyin Yuan | OK | OK | OK |
| crlmm 1.20.4 | Benilton S Carvalho , Robert Scharpf , Matt Ritchie | OK | OK | OK |
| CSAR 1.14.0 | Jose M Muino | OK | OK | OK |
| CSSP 1.1.2 | Chandler Zuo | OK | OK | OK |
| ctc 1.36.0 | Antoine Lucas | OK | OK | OK |
| cummeRbund 2.4.1 | Loyal A. Goff | OK | OK | OK |
| customProDB 1.2.0 | xiaojing wang | OK | OK | OK |
| cycle 1.16.0 | Matthias Futschik | OK | OK | OK |
|
| D A B C [D] E F G H I J K L M N O P Q R S T U V W X Y Z |
| dagLogo 1.0.0 | Jianhong Ou | OK | OK | OK |
| daMA 1.34.0 | Jobst Landgrebe | OK | OK | OK |
| DART 1.8.0 | Katherine Lawler | OK | OK | OK |
| DASiR 1.2.0 | Oscar Flores , Anna Mantsoki | OK | OK | OK |
| DAVIDQuery 1.22.0 | Roger Day | OK | OK | OK |
| DBChIP 1.6.0 | Kun Liang | OK | OK | OK |
| ddCt 1.16.0 | Jitao David Zhang | OK | OK | OK |
| ddgraph 1.6.3 | Robert Stojnic | OK | OK | OK |
| DECIPHER 1.8.0 | Erik Wright | OK | OK | OK |
| DeconRNASeq 1.4.0 | Ting Gong | OK | OK | OK |
| DEDS 1.36.0 | Yuanyuan Xiao | OK | OK | OK |
| deepSNV 1.8.0 | Moritz Gerstung | OK | OK | OK |
| DEGraph 1.14.0 | Laurent Jacob | OK | OK | OK |
| DEGseq 1.16.0 | Likun Wang | OK | OK | OK |
| deltaGseg 1.2.0 | Diana Low | OK | OK | OK |
| DESeq 1.14.0 | Simon Anders | OK | OK | OK |
| DESeq2 1.2.10 | Michael Love | OK | OK | OK |
| DEXSeq 1.8.0 | Alejandro Reyes | OK | OK | OK |
| dexus 1.2.2 | Guenter Klambauer | OK | WARNINGS | OK |
| DFP 1.20.0 | Rodrigo Alvarez-Glez | OK | OK | OK |
| DiffBind 1.8.5 | Rory Stark | OK | OK | OK |
| diffGeneAnalysis 1.44.0 | Choudary Jagarlamudi | OK | OK | OK |
| DirichletMultinomial 1.4.0 | Martin Morgan | OK | OK | OK |
| dks 1.8.0 | Jeffrey T. Leek | OK | OK | OK |
| DNAcopy 1.36.0 | Venkatraman E. Seshan | OK | OK | OK |
| DNaseR 1.0.0 | Pedro Madrigal | OK | OK | OK |
| domainsignatures 1.22.0 | Florian Hahne | OK | OK | OK |
| DOSE 2.0.0 | Guangchuang Yu | OK | OK | OK |
| DriverNet 1.2.0 | Jiarui Ding | OK | OK | OK |
| DrugVsDisease 2.2.0 | j. Saez-Rodriguez | OK | OK | OK |
| DSS 1.8.0 | Hao Wu | OK | OK | OK |
| DTA 2.8.0 | Bjoern Schwalb | OK | OK | OK |
| dyebias 1.20.0 | Philip Lijnzaad | OK | WARNINGS | OK |
| DynDoc 1.40.0 | Bioconductor Package Maintainer | OK | OK | OK |
|
| E A B C D [E] F G H I J K L M N O P Q R S T U V W X Y Z |
| EasyqpcR 1.5.0 | Le Pape Sylvain | OK | OK | OK |
| easyRNASeq 1.8.8 | Nicolas Delhomme | OK | OK | OK |
| EBarrays 2.26.0 | Ming Yuan | OK | WARNINGS | OK |
| EBcoexpress 1.6.0 | John A. Dawson | OK | OK | OK |
| EBImage 4.4.0 | Andrzej Oles | OK | OK | OK |
| EBSeq 1.2.0 | Ning Leng | OK | OK | OK |
| ecolitk 1.34.0 | Laurent Gautier | OK | OK | OK |
| EDASeq 1.8.0 | Davide Risso | OK | OK | OK |
| edgeR 3.4.2 | Mark Robinson , Davis McCarthy , Yunshun Chen , Gordon Smyth | OK | OK | OK |
| eiR 1.2.0 | Kevin Horan | N O T S U P P O R T E D |
| eisa 1.14.0 | Gabor Csardi | OK | OK | OK |
| ensemblVEP 1.2.2 | Valerie Obenchain | OK | OK | OK |
| ENVISIONQuery 1.10.0 | Alex Lisovich , Roger Day | OK | OK | OK |
| epigenomix 1.2.0 | Hans-Ulrich Klein | OK | OK | OK |
| epivizr 1.0.0 | Hector Corrada Bravo | OK | WARNINGS | OK |
| ExiMiR 2.4.0 | Sylvain Gubian | OK | OK | OK |
| exomeCopy 1.8.1 | Michael Love | OK | OK | OK |
| exomePeak 1.0.0 | Jia Meng | OK | OK | OK |
| explorase 1.26.0 | Michael Lawrence | OK | OK | OK |
| ExpressionView 1.14.0 | Gabor Csardi | OK | OK | OK |
|
| F A B C D E [F] G H I J K L M N O P Q R S T U V W X Y Z |
| fabia 2.8.0 | Sepp Hochreiter | OK | OK | OK |
| factDesign 1.38.0 | Denise Scholtens | OK | OK | OK |
| farms 1.14.0 | Djork-Arne Clevert | OK | OK | OK |
| fastseg 1.8.0 | Guenter Klambauer | OK | OK | OK |
| fdrame 1.34.0 | Effi Kenigsberg | OK | OK | OK |
| ffpe 1.6.0 | Levi Waldron | OK | OK | OK |
| FGNet 1.2.2 | Sara Aibar | OK | OK | OK |
| flagme 1.18.0 | Mark Robinson | OK | OK | OK |
| flipflop 1.0.1 | Elsa Bernard | OK | WARNINGS | OK |
| flowBeads 1.0.0 | Nikolas Pontikos | OK | OK | OK |
| flowClust 3.2.8 | Greg Finak , Mike Jiang | OK | OK | OK |
| flowCore 1.28.24 | M.Jiang | OK | OK | OK |
| flowFit 1.0.0 | Davide Rambaldi | OK | OK | OK |
| flowFlowJo 1.20.0 | John J. Gosink | OK | OK | OK |
| flowFP 1.20.0 | Herb Holyst | OK | OK | OK |
| flowMap 1.0.0 | Chiaowen Joyce Hsiao | OK | OK | OK |
| flowMeans 1.14.0 | Nima Aghaeepour | OK | OK | OK |
| flowMerge 2.10.0 | Greg Finak | OK | OK | OK |
| flowPeaks 1.4.0 | Yongchao Ge | OK | OK | OK |
| flowPhyto 1.14.0 | Chris Berthiaume | OK | OK | OK |
| flowPlots 1.10.0 | N. Hawkins | OK | OK | OK |
| flowQ 1.22.4 | Mike Jiang | N O T S U P P O R T E D |
| flowQB 1.4.0 | Faysal El Khettabi | OK | OK | OK |
| flowStats 3.20.12 | Greg Finak and Mike Jiang | N O T S U P P O R T E D |
| flowTrans 1.14.0 | Greg Finak | OK | OK | OK |
| flowType 2.2.1 | Nima Aghaeepour | OK | OK | OK |
| flowUtils 1.22.0 | Nishant Gopalakrishnan | OK | OK | OK |
| flowViz 1.26.16 | Mike Jiang | OK | OK | OK |
| flowWorkspace 3.8.61 | Greg Finak ,Mike Jiang | OK | OK | OK |
| fmcsR 1.4.0 | ChemmineR Team | OK | OK | OK |
| frma 1.14.0 | Matthew N. McCall | OK | OK | OK |
| frmaTools 1.14.0 | Matthew N. McCall | OK | OK | OK |
| FunciSNP 1.4.0 | Simon G. Coetzee | OK | OK | OK |
|
| G A B C D E F [G] H I J K L M N O P Q R S T U V W X Y Z |
| gaga 2.8.0 | David Rossell | OK | OK | OK |
| gage 2.12.3 | Weijun Luo | OK | OK | OK |
| gaggle 1.30.0 | Christopher Bare | OK | OK | OK |
| gaia 2.6.0 | S. Morganella | OK | OK | OK |
| gCMAP 1.6.0 | Thomas Sandmann | OK | OK | OK |
| gCMAPWeb 1.2.0 | Thomas Sandmann | OK | OK | OK |
| gcrma 2.34.0 | Z. Wu | OK | OK | OK |
| genArise 1.38.0 | IFC Development Team | OK | OK | OK |
| GENE.E 1.2.0 | Joshua Gould | OK | OK | OK |
| GeneAnswers 2.4.0 | Gang Feng , Pan Du and Tian Xia | OK | OK | OK |
| GeneExpressionSignature 1.8.0 | Yang Cao , Fei Li ,Lu Han | OK | OK | OK |
| genefilter 1.44.0 | Bioconductor Package Maintainer | OK | OK | OK |
| genefu 1.12.0 | Benjamin Haibe-Kains , Markus Schroeder | OK | OK | OK |
| GeneGA 1.12.1 | Zhenpeng Li | N O T S U P P O R T E D |
| GeneMeta 1.34.0 | Bioconductor Package Maintainer | OK | OK | OK |
| GeneNetworkBuilder 1.4.1 | Jianhong Ou | OK | OK | OK |
| geneplotter 1.40.0 | Bioconductor Package Maintainer | OK | OK | OK |
| geneRecommender 1.34.0 | Greg Hather | OK | OK | OK |
| GeneRegionScan 1.18.0 | Lasse Folkersen | OK | OK | OK |
| GeneSelectMMD 2.6.0 | Weiliang Qiu | OK | OK | OK |
| GeneSelector 2.12.1 | Martin Slawski | OK | OK | OK |
| geNetClassifier 1.2.0 | Sara Aibar | OK | OK | OK |
| GeneticsDesign 1.30.0 | The R Genetics Project | OK | OK | OK |
| GeneticsPed 1.24.0 | David Henderson | OK | OK | OK |
| genoCN 1.14.0 | Wei Sun | OK | OK | OK |
| GenomeGraphs 1.22.0 | Steffen Durinck | OK | OK | OK |
| genomeIntervals 1.18.0 | Julien Gagneur | OK | OK | OK |
| genomes 2.8.0 | Chris Stubben | OK | OK | OK |
| GenomicFeatures 1.14.5 | Bioconductor Package Maintainer | OK | OK | OK |
| GenomicRanges 1.14.4 | Bioconductor Package Maintainer | OK | OK | OK |
| Genominator 1.16.0 | James Bullard | OK | OK | OK |
| genoset 1.14.0 | Peter M. Haverty | OK | OK | OK |
| GEOmetadb 1.22.0 | Jack Zhu | OK | OK | OK |
| GEOquery 2.28.0 | Sean Davis | OK | OK | OK |
| GEOsubmission 1.14.0 | Alexandre Kuhn | OK | OK | OK |
| GEWIST 1.6.0 | Wei Q. Deng | OK | OK | OK |
| GGBase 3.24.0 | VJ Carey | OK | OK | OK |
| ggbio 1.10.16 | Tengfei Yin | OK | WARNINGS | OK |
| GGtools 4.10.0 | VJ Carey | OK | OK | OK |
| girafe 1.14.0 | J. Toedling | OK | OK | OK |
| GLAD 2.26.0 | Philippe Hupe | OK | OK | OK |
| GlobalAncova 3.30.0 | Manuela Hummel | OK | OK | OK |
| globaltest 5.16.0 | Jelle Goeman | OK | OK | OK |
| gmapR 1.4.5 | Michael Lawrence | N O T S U P P O R T E D |
| GOFunction 1.10.0 | Jing Wang | OK | OK | OK |
| goProfiles 1.24.0 | Alex Sanchez | OK | OK | OK |
| GOSemSim 1.20.3 | Guangchuang Yu | OK | OK | OK |
| goseq 1.14.0 | Matthew Young , Nadia Davidson | OK | OK | OK |
| GOSim 1.4.2 | Holger Froehlich | OK | OK | OK |
| GOstats 2.28.0 | Bioconductor Package Maintainer | OK | OK | OK |
| goTools 1.36.0 | Agnes Paquet | OK | OK | OK |
| gpls 1.34.0 | Bioconductor Package Maintainer | OK | OK | OK |
| gprege 1.6.0 | Alfredo Kalaitzis | OK | OK | OK |
| graph 1.40.1 | Bioconductor Package Maintainer | OK | OK | OK |
| GraphAlignment 1.26.0 | Joern P. Meier | OK | OK | OK |
| GraphAT 1.34.0 | Thomas LaFramboise | OK | OK | OK |
| graphite 1.8.1 | Gabriele Sales | OK | OK | OK |
| GraphPAC 1.4.0 | Gregory Ryslik | OK | OK | OK |
| GRENITS 1.14.1 | Edward Morrissey | OK | OK | OK |
| GSEABase 1.24.0 | Bioconductor Package Maintainer | OK | OK | OK |
| GSEAlm 1.22.0 | Assaf Oron | OK | OK | OK |
| GSRI 2.10.0 | Julian Gehring | OK | OK | OK |
| GSVA 1.10.3 | Justin Guinney | OK | OK | OK |
| Gviz 1.6.0 | Florian Hahne | OK | OK | OK |
| gwascat 1.6.0 | VJ Carey | OK | OK | OK |
| GWASTools 1.8.1 | Stephanie M. Gogarten , Adrienne Stilp | OK | OK | OK |
|
| H A B C D E F G [H] I J K L M N O P Q R S T U V W X Y Z |
| h5vc 1.0.6 | Paul Theodor Pyl | OK | OK | OK |
| hapFabia 1.4.2 | Sepp Hochreiter | OK | OK | OK |
| Harshlight 1.34.0 | Maurizio Pellegrino | OK | OK | OK |
| HCsnip 1.2.0 | Askar Obulkasim | OK | OK | OK |
| Heatplus 2.8.0 | Alexander Ploner | OK | OK | OK |
| HELP 1.20.0 | Reid F. Thompson | OK | OK | OK |
| HEM 1.34.0 | HyungJun Cho | OK | OK | OK |
| HilbertVis 1.20.0 | Simon Anders | OK | OK | OK |
| HilbertVisGUI 1.20.0 | Simon Anders | OK | WARNINGS | OK |
| HiTC 1.6.0 | Nicolas Servant | OK | OK | OK |
| HMMcopy 1.4.0 | Daniel Lai , Gavin Ha , Sohrab Shah | OK | OK | OK |
| hopach 2.22.0 | Katherine S. Pollard | OK | OK | OK |
| hpar 1.4.0 | Laurent Gatto | OK | OK | OK |
| HTqPCR 1.16.0 | Heidi Dvinge | OK | OK | OK |
| HTSanalyzeR 2.14.0 | Xin Wang | OK | OK | OK |
| HTSeqGenie 3.12.0 | Gregoire Pau | N O T S U P P O R T E D |
| htSeqTools 1.8.0 | Oscar Reina | OK | WARNINGS | OK |
| HTSFilter 1.2.1 | Andrea Rau | OK | OK | OK |
| HybridMTest 1.6.0 | Demba Fofana | OK | OK | OK |
| hyperdraw 1.14.0 | Paul Murrell | OK | OK | OK |
| hypergraph 1.34.0 | Bioconductor Package Maintainer | OK | OK | OK |
|
| I A B C D E F G H [I] J K L M N O P Q R S T U V W X Y Z |
| iASeq 1.6.0 | Yingying Wei | OK | OK | OK |
| iBBiG 1.6.0 | Aedin Culhane | OK | OK | OK |
| ibh 1.10.0 | Kircicegi Korkmaz | OK | OK | OK |
| iBMQ 1.2.0 | Marie-Pier Scott-Boyer | OK | OK | OK |
| Icens 1.34.0 | Bioconductor Package Maintainer | OK | OK | OK |
| iChip 1.16.0 | Qianxing Mo | OK | OK | OK |
| idiogram 1.38.0 | Karl J. Dykema | OK | OK | OK |
| IdMappingAnalysis 1.6.0 | Alex Lisovich , Roger Day | OK | OK | OK |
| IdMappingRetrieval 1.8.0 | Alex Lisovich , Roger Day | OK | WARNINGS | OK |
| illuminaio 0.4.0 | Kasper Daniel Hansen | OK | OK | OK |
| imageHTS 1.12.0 | Gregoire Pau | OK | OK | OK |
| impute 1.36.0 | Balasubramanian Narasimhan | OK | OK | OK |
| inSilicoDb 1.10.1 | Jonatan Taminau , David Steenhoff | OK | OK | OK |
| inSilicoMerging 1.6.0 | Jonatan Taminau , Stijn Meganck | OK | OK | OK |
| intansv 1.2.0 | Wen Yao | OK | OK | OK |
| interactiveDisplay 1.0.9 | Shawn Balcome | OK | OK | OK |
| inveRsion 1.10.0 | Alejandro Caceres | OK | OK | OK |
| iontree 1.8.0 | Mingshu Cao | OK | OK | OK |
| iPAC 1.6.0 | Gregory Ryslik | OK | OK | OK |
| IPPD 1.10.0 | Martin Slawski | OK | OK | OK |
| IRanges 1.20.7 | Bioconductor Package Maintainer | OK | WARNINGS | OK |
| iSeq 1.14.0 | Qianxing Mo | OK | OK | OK |
| isobar 1.8.1 | Florian P Breitwieser | OK | WARNINGS | OK |
| IsoGeneGUI 1.18.0 | Setia Pramana | OK | OK | OK |
| ITALICS 2.22.0 | Guillem Rigaill | OK | OK | OK |
| iterativeBMA 1.20.0 | Ka Yee Yeung | OK | OK | OK |
| iterativeBMAsurv 1.20.0 | Ka Yee Yeung | OK | OK | OK |
|
| J A B C D E F G H I [J] K L M N O P Q R S T U V W X Y Z |
| jmosaics 1.2.0 | Xin Zeng | OK | OK | OK |
| joda 1.10.0 | Ewa Szczurek | OK | OK | OK |
|
| K A B C D E F G H I J [K] L M N O P Q R S T U V W X Y Z |
| KCsmart 2.20.0 | Jorma de Ronde | OK | OK | OK |
| KEGGgraph 1.20.0 | Jitao David Zhang | OK | OK | OK |
| keggorthology 2.14.0 | VJ Carey | OK | OK | OK |
| KEGGprofile 1.4.0 | Shilin Zhao | OK | OK | OK |
| KEGGREST 1.2.2 | Bioconductor Package Maintainer | OK | OK | OK |
|
| L A B C D E F G H I J K [L] M N O P Q R S T U V W X Y Z |
| lapmix 1.28.0 | Yann Ruffieux | OK | OK | OK |
| LBE 1.30.0 | Cyril Dalmasso | OK | OK | OK |
| les 1.12.0 | Julian Gehring | OK | OK | OK |
| limma 3.18.13 | Gordon Smyth | OK | OK | OK |
| limmaGUI 1.38.0 | Keith Satterley | OK | OK | OK |
| LiquidAssociation 1.16.0 | Yen-Yi Ho | OK | OK | OK |
| lmdme 1.4.0 | Cristobal Fresno | OK | OK | OK |
| LMGene 2.18.0 | Blythe Durbin-Johnson | OK | OK | OK |
| logicFS 1.32.0 | Holger Schwender | OK | OK | OK |
| logitT 1.20.0 | Tobias Guennel | OK | OK | OK |
| lol 1.10.0 | Yinyin Yuan | OK | OK | OK |
| LPE 1.36.0 | Nitin Jain | OK | OK | OK |
| LPEadj 1.22.0 | Carl Murie | OK | OK | OK |
| lpNet 1.2.0 | Bettina Knapp | OK | OK | OK |
| lumi 2.14.2 | Pan Du | OK | WARNINGS | OK |
| LVSmiRNA 1.12.0 | Stefano Calza | OK | OK | OK |
|
| M A B C D E F G H I J K L [M] N O P Q R S T U V W X Y Z |
| maanova 1.33.2 | Keith Sheppard | OK | OK | OK |
| macat 1.36.0 | Joern Toedling | OK | OK | OK |
| maCorrPlot 1.32.0 | Alexander Ploner | OK | OK | OK |
| maDB 1.34.0 | Johannes Rainer | N O T S U P P O R T E D |
| made4 1.36.1 | Aedin Culhane | OK | OK | OK |
| maigesPack 1.26.0 | Gustavo H. Esteves | OK | OK | OK |
| makecdfenv 1.38.0 | James W. MacDonald | OK | OK | OK |
| MANOR 1.34.0 | Pierre Neuvial | OK | OK | OK |
| manta 1.8.0 | Chris Berthiaume , Adrian Marchetti | OK | OK | OK |
| MantelCorr 1.32.0 | Brian Steinmeyer | OK | OK | OK |
| maPredictDSC 1.0.0 | Adi Laurentiu Tarca | OK | OK | OK |
| marray 1.40.0 | Yee Hwa (Jean) Yang | OK | OK | OK |
| maSigPro 1.34.1 | Maria Jose Nueda | OK | OK | OK |
| maskBAD 1.6.0 | Michael Dannemann | OK | OK | OK |
| MassArray 1.14.0 | Reid F. Thompson | OK | OK | OK |
| MassSpecWavelet 1.28.0 | Pan Du | OK | OK | OK |
| matchBox 1.4.0 | Luigi Marchionni , Anuj Gupta | OK | OK | OK | |
| MBCB 1.16.0 | Jeff Allen | OK | OK | OK |
| mBPCR 1.16.0 | P.M.V. Rancoita | OK | OK | OK |
| mcaGUI 1.10.0 | Wade K. Copeland | OK | OK | OK |
| MCRestimate 2.18.0 | Marc Johannes | OK | OK | OK |
| mdqc 1.24.0 | Gabriela Cohen-Freue | OK | OK | OK |
| MeasurementError.cor 1.34.0 | Beiying Ding | OK | OK | OK |
| MEDIPS 1.12.0 | Lukas Chavez | OK | OK | OK |
| MEDME 1.22.0 | Mattia Pelizzola | OK | OK | OK |
| MergeMaid 2.34.0 | Xiaogang Zhong | OK | OK | OK |
| metaArray 1.40.0 | Hyungwon Choi | OK | OK | OK |
| metagenomeSeq 1.4.2 | Joseph N. Paulson | OK | OK | OK |
| metahdep 1.20.0 | John R. Stevens | OK | OK | OK |
| metaSeq 1.2.2 | Koki Tsuyuzaki | OK | OK | OK |
| methVisual 1.14.0 | Arie Zackay | OK | OK | OK |
| methyAnalysis 1.4.2 | Pan Du | OK | WARNINGS | OK |
| methylMnM 1.0.0 | Yan Zhou | OK | OK | OK |
| MethylSeekR 1.2.2 | Lukas Burger | OK | OK | OK |
| methylumi 2.8.0 | Sean Davis | OK | WARNINGS | OK |
| Mfuzz 2.20.0 | Matthias Futschik | OK | OK | OK |
| mgsa 1.10.0 | Sebastian Bauer | OK | OK | OK |
| MiChip 1.16.0 | Jonathon Blake | OK | OK | OK |
| microRNA 1.20.0 | "James F. Reid" | OK | OK | OK |
| MineICA 1.2.2 | Anne Biton | OK | OK | OK |
| minet 3.16.0 | Patrick E. Meyer | OK | OK | OK |
| minfi 1.8.9 | Kasper Daniel Hansen | OK | OK | OK |
| MinimumDistance 1.6.0 | Robert B Scharpf | OK | WARNINGS | OK |
| MiPP 1.34.0 | Sukwoo Kim | OK | OK | OK |
| MiRaGE 1.4.0 | Y-h. Taguchi | OK | OK | OK |
| miRNApath 1.22.0 | James M. Ward | OK | OK | OK |
| mitoODE 1.0.0 | Gregoire Pau | OK | OK | OK |
| MLInterfaces 1.42.0 | V. Carey | OK | OK | OK |
| MLP 1.10.0 | Tobias Verbeke | OK | OK | OK |
| MMDiff 1.2.1 | Gabriele Schweikert | OK | OK | OK |
| MmPalateMiRNA 1.12.0 | Guy Brock | OK | OK | OK |
| mosaics 1.10.1 | Dongjun Chung | OK | OK | OK |
| MotifDb 1.4.1 | Paul Shannon | OK | OK | OK |
| motifRG 1.6.0 | Zizhen Yao | OK | OK | OK |
| motifStack 1.6.5 | Jianhong Ou | OK | OK | OK |
| MotIV 1.18.0 | Eloi Mercier , Raphael Gottardo | OK | OK | OK |
| msmsEDA 1.0.0 | Josep Gregori | OK | OK | OK |
| msmsTests 1.0.0 | Josep Gregori i Font | OK | OK | OK |
| MSnbase 1.10.4 | Laurent Gatto | OK | OK | OK |
| MSstats 2.0.1 | Meena Choi | OK | OK | OK |
| Mulcom 1.12.0 | Claudio Isella | OK | OK | OK |
| multiscan 1.22.0 | Mizanur Khondoker | OK | OK | OK |
| multtest 2.18.0 | Katherine S. Pollard | OK | OK | OK |
| MVCClass 1.36.0 | Elizabeth Whalen | OK | OK | OK |
| mzID 1.0.0 | Thomas Dybdal Pedersen | OK | OK | OK |
| mzR 1.8.1 | Bernd Fischer , Steffen Neumann , Laurent Gatto | OK | OK | OK |
|
| N A B C D E F G H I J K L M [N] O P Q R S T U V W X Y Z |
| NarrowPeaks 1.6.0 | Pedro Madrigal | OK | OK | OK |
| ncdfFlow 2.8.22 | Mike Jiang | OK | OK | OK |
| NCIgraph 1.10.0 | Laurent Jacob | OK | OK | OK |
| neaGUI 1.0.0 | Setia Pramana | OK | OK | OK |
| nem 2.36.0 | Holger Froehlich | OK | OK | OK |
| netresponse 1.14.0 | Leo Lahti | OK | OK | OK |
| NetSAM 1.2.1 | Jing Wang | OK | OK | OK |
| networkBMA 1.4.0 | Chris Fraley | OK | OK | OK |
| nnNorm 2.26.0 | Adi Laurentiu Tarca | OK | OK | OK |
| NOISeq 2.6.0 | Sonia Tarazona | OK | OK | OK |
| NormqPCR 1.8.0 | James Perkins | OK | OK | OK |
| NTW 1.12.0 | Yuanhua Liu | OK | OK | OK |
| nucleR 1.10.0 | Oscar Flores | OK | OK | OK |
| nudge 1.28.0 | N. Dean | OK | OK | OK |
| NuPoP 1.12.0 | Ji-Ping Wang | OK | OK | OK |
|
| O A B C D E F G H I J K L M N [O] P Q R S T U V W X Y Z |
| occugene 1.22.0 | Oliver Will | OK | OK | OK |
| OCplus 1.36.0 | Alexander Ploner | OK | OK | OK |
| oligo 1.26.6 | Benilton Carvalho | OK | OK | OK |
| oligoClasses 1.24.0 | Benilton Carvalho and Robert Scharpf | OK | OK | OK |
| OLIN 1.40.0 | Matthias Futschik | OK | OK | OK |
| OLINgui 1.36.0 | Matthias Futschik | OK | OK | OK |
| omicade4 1.2.2 | Chen Meng | OK | OK | OK |
| OmicCircos 1.0.0 | Ying Hu | OK | OK | OK |
| oneChannelGUI 1.28.6 | Raffaele A Calogero | OK | OK | OK |
| ontoCAT 1.14.0 | Natalja Kurbatova | OK | OK | OK |
| openCyto 1.0.14 | Mike Jiang | OK | OK | OK |
| OrderedList 1.34.0 | Claudio Lottaz | OK | OK | OK |
| OrganismDbi 1.4.0 | Biocore Data Team | OK | OK | OK |
| OSAT 1.10.0 | Li Yan | OK | OK | OK |
| OTUbase 1.12.0 | Daniel Beck | OK | OK | OK |
| OutlierD 1.26.0 | Sukwoo Kim | OK | OK | OK |
|
| P A B C D E F G H I J K L M N O [P] Q R S T U V W X Y Z |
| PADOG 1.4.0 | Adi Laurentiu Tarca | OK | OK | OK |
| paircompviz 1.0.0 | Michal Burda | OK | OK | OK |
| PAnnBuilder 1.26.0 | Li Hong | OK | OK | OK |
| panp 1.32.0 | Peter Warren | OK | OK | OK |
| PANR 1.8.0 | Xin Wang | OK | OK | OK |
| PAPi 1.2.0 | Raphael Aggio | OK | WARNINGS | OK |
| parody 1.20.0 | VJ Carey | OK | OK | OK |
| pathifier 1.0.0 | Assif Yitzhaky | OK | OK | OK |
| PathNet 1.2.0 | Jason B. Smith | OK | OK | OK |
| pathRender 1.30.0 | Li Long | OK | OK | OK |
| pathview 1.2.4 | Weijun Luo | OK | OK | OK |
| pcaGoPromoter 1.6.0 | Morten Hansen | OK | OK | OK |
| pcaMethods 1.52.1 | Henning Redestig | OK | OK | OK |
| pcot2 1.30.0 | Sarah Song | OK | OK | OK |
| PCpheno 1.24.0 | Nolwenn Le Meur | OK | OK | OK |
| pdInfoBuilder 1.26.0 | Benilton Carvalho | OK | OK | OK |
| pdmclass 1.34.0 | James W. MacDonald | OK | WARNINGS | OK |
| PGSEA 1.36.0 | Karl Dykema | OK | OK | OK |
| pgUtils 1.34.0 | Johannes Rainer | N O T S U P P O R T E D |
| phenoDist 1.10.0 | Xian Zhang | OK | OK | OK |
| phenoTest 1.10.0 | Evarist Planet | OK | OK | OK |
| phyloseq 1.6.1 | Paul J. McMurdie | OK | OK | OK |
| piano 1.2.12 | Leif Varemo | OK | OK | OK |
| pickgene 1.34.0 | Brian S. Yandell | OK | OK | OK |
| PICS 2.6.0 | Renan Sauteraud | OK | OK | OK |
| PING 2.6.0 | Renan Sauteraud | OK | OK | OK |
| pint 1.14.0 | Olli-Pekka Huovilainen | OK | OK | OK |
| pkgDepTools 1.28.0 | Seth Falcon | OK | OK | OK |
| plateCore 1.20.0 | Errol Strain | OK | OK | OK |
| plethy 1.0.0 | Daniel Bottomly | OK | OK | OK |
| plgem 1.34.0 | Norman Pavelka | OK | OK | OK |
| plier 1.32.0 | Crispin Miller | OK | OK | OK |
| PLPE 1.22.0 | Soo-heang Eo | OK | OK | OK |
| plrs 1.2.0 | Gwenael G.R. Leday to | OK | OK | OK |
| plw 1.22.0 | Magnus Astrand | OK | OK | OK |
| ppiStats 1.28.0 | Bioconductor Package Maintainer | OK | OK | OK |
| prada 1.38.0 | Florian Hahne | OK | OK | OK |
| prebs 1.2.1 | Karolis Uziela | OK | OK | OK |
| PREDA 1.8.0 | Francesco Ferrari | OK | OK | OK |
| predictionet 1.8.0 | Benjamin Haibe-Kains , Catharina Olsen | N O T S U P P O R T E D |
| preprocessCore 1.24.0 | Benjamin Milo Bolstad | OK | WARNINGS | OK |
| PROcess 1.38.0 | Xiaochun Li | OK | OK | OK |
| procoil 1.12.0 | Ulrich Bodenhofer | OK | OK | OK |
| ProCoNA 1.0.2 | David L Gibbs | OK | OK | OK |
| pRoloc 1.2.1 | Laurent Gatto | OK | OK | OK |
| PROMISE 1.14.0 | Stan Pounds , Xueyuan Cao | OK | OK | OK |
| prot2D 1.0.0 | Sebastien Artigaud | OK | OK | OK |
| proteinProfiles 1.2.0 | Julian Gehring | OK | OK | OK |
| PSICQUIC 1.0.1 | Paul Shannon | OK | OK | OK |
| puma 3.4.0 | Richard Pearson | OK | OK | OK |
| pvac 1.10.0 | Jun Lu , Pierre R. Bushel | OK | OK | OK |
| pvca 1.2.0 | Jianying LI | OK | OK | OK |
| PWMEnrich 2.6.2 | Robert Stojnic | OK | OK | OK |
|
| Q A B C D E F G H I J K L M N O P [Q] R S T U V W X Y Z |
| qcmetrics 1.0.0 | Laurent Gatto | OK | OK | OK |
| qpcrNorm 1.20.0 | Jessica Mar | OK | OK | OK |
| qpgraph 1.18.9 | Robert Castelo | OK | OK | OK |
| qrqc 1.16.0 | Vince Buffalo | OK | OK | OK |
| QUALIFIER 1.6.21 | Mike Jiang | OK | OK | OK |
| quantsmooth 1.28.0 | Jan Oosting | OK | OK | OK |
| QuasR 1.2.2 | Michael Stadler | OK | OK | OK |
| qusage 1.2.0 | Christopher Bolen | OK | OK | OK |
| qvalue 1.36.0 | John D. Storey | OK | OK | OK |
|
| R A B C D E F G H I J K L M N O P Q [R] S T U V W X Y Z |
| r3Cseq 1.8.0 | Supat Thongjuea | OK | OK | OK |
| R453Plus1Toolbox 1.12.0 | Hans-Ulrich Klein | OK | OK | OK |
| rama 1.36.0 | Raphael Gottardo | OK | OK | OK |
| RamiGO 1.8.1 | Markus Schroeder | OK | OK | OK |
| randPack 1.8.0 | Robert Gentleman | OK | OK | OK |
| RankProd 2.34.0 | Fangxin Hong | OK | OK | OK |
| RbcBook1 1.30.0 | Vince Carey | OK | OK | OK |
| RBGL 1.38.0 | Bioconductor Package Maintainer | OK | OK | OK |
| RBioinf 1.22.0 | Robert Gentleman | OK | OK | OK |
| rBiopaxParser 1.2.0 | Frank Kramer | OK | OK | OK |
| Rbowtie 1.2.0 | Michael Stadler | OK | OK | OK |
| rbsurv 2.20.0 | Soo-heang Eo | OK | OK | OK |
| Rcade 1.4.0 | Jonathan Cairns | OK | OK | OK |
| RCASPAR 1.8.0 | Douaa Mugahid , Lars Kaderali | OK | OK | OK |
| Rchemcpp 2.0.2 | Guenter Klambauer | OK | OK | OK |
| RchyOptimyx 2.2.0 | Adrin Jalali , Nima Aghaeepour | OK | WARNINGS | OK |
| RCytoscape 1.12.0 | Paul Shannon | OK | OK | OK |
| RDAVIDWebService 1.0.0 | Cristobal Fresno | OK | OK | OK |
| Rdisop 1.22.1 | Steffen Neumann | OK | OK | OK |
| RDRToolbox 1.12.0 | Christoph Bartenhagen | OK | OK | OK |
| ReactomePA 1.6.1 | Guangchuang Yu | OK | OK | OK |
| ReadqPCR 1.8.0 | James Perkins | OK | OK | OK |
| reb 1.40.0 | Karl J. Dykema | OK | OK | OK |
| RedeR 1.10.1 | Mauro Castro | OK | OK | OK |
| REDseq 1.8.0 | Lihua Julie Zhu | OK | OK | OK |
| RefPlus 1.32.0 | Kai-Ming Chang | OK | OK | OK |
| Repitools 1.8.6 | Mark Robinson | OK | OK | OK |
| ReportingTools 2.2.0 | Jason A. Hackney , Gabriel Becker | OK | OK | OK |
| ReQON 1.8.0 | Christopher Cabanski | OK | OK | OK |
| Resourcerer 1.36.0 | Jianhua Zhang | OK | OK | OK |
| rfPred 1.0.0 | Hugo Varet | OK | OK | OK |
| rGADEM 2.10.0 | Arnaud Droit | OK | OK | OK |
| RGalaxy 1.6.0 | Bioconductor Package Maintainer | OK | OK | OK |
| Rgraphviz 2.6.0 | Kasper Daniel Hansen | OK | OK | OK |
| rhdf5 2.6.0 | Bernd Fischer | OK | OK | OK |
| rHVDM 1.28.0 | Martino Barenco | OK | OK | OK |
| Ringo 1.26.1 | J. Toedling | OK | OK | OK |
| RIPSeeker 1.2.0 | Yue Li | OK | OK | OK |
| Risa 1.4.1 | Alejandra Gonzalez-Beltran, ISA Team | OK | OK | OK |
| RLMM 1.24.0 | Nusrat Rabbee | OK | OK | OK |
| Rmagpie 1.18.0 | Camille Maumet | OK | OK | OK |
| RMAPPER 1.12.0 | Heike Sichtig , Alberto Riva | OK | ERROR | OK |
| RMassBank 1.4.0 | RMassBank at Eawag | OK | OK | OK |
| rMAT 3.12.0 | Arnaud Droit and Raphael Gottardo | N O T S U P P O R T E D |
| RmiR 1.18.0 | Francesco Favero | OK | OK | OK |
| RNAinteract 1.10.0 | Bernd Fischer | OK | OK | OK |
| RNAither 2.10.0 | Nora Rieber | OK | OK | OK |
| rnaSeqMap 2.18.0 | Michal Okoniewski | OK | OK | OK |
| RNASeqPower 1.2.0 | Terry M Therneau | OK | OK | OK |
| ROC 1.38.0 | Vince Carey | OK | OK | OK |
| Roleswitch 1.0.0 | Yue Li | OK | OK | OK |
| Rolexa 1.18.0 | Jacques Rougemont | OK | OK | OK |
| rols 1.4.0 | Laurent Gatto | OK | OK | OK |
| ROntoTools 1.2.0 | Calin Voichita | OK | OK | OK |
| RPA 1.18.0 | Leo Lahti | OK | OK | OK |
| RpsiXML 2.4.0 | Jitao David Zhang | OK | OK | OK |
| rqubic 1.8.0 | Jitao David Zhang | OK | OK | OK |
| RRHO 1.0.0 | Jonathan Rosenblatt | OK | OK | OK |
| Rsamtools 1.14.3 | Bioconductor Package Maintainer | OK | OK | OK |
| rsbml 2.20.1 | Michael Lawrence | OK | OK | OK |
| rSFFreader 0.10.0 | Matt Settles | N O T S U P P O R T E D |
| Rsubread 1.12.6 | Wei Shi | N O T S U P P O R T E D |
| RSVSim 1.2.1 | Christoph Bartenhagen | OK | OK | OK |
| rTANDEM 1.2.1 | Frederic Fournier | OK | OK | OK |
| RTCA 1.14.0 | Jitao David Zhang | OK | OK | OK |
| RTN 1.0.0 | Mauro Castro | OK | OK | OK |
| RTopper 1.8.0 | Luigi Marchionni | OK | OK | OK |
| rtracklayer 1.22.7 | Michael Lawrence | OK | OK | OK |
| Rtreemix 1.24.0 | Jasmina Bogojeska | OK | WARNINGS | OK |
| rTRM 1.0.5 | Diego Diez | OK | OK | OK |
| rTRMui 1.0.4 | Diego Diez | OK | OK | OK |
| RWebServices 1.26.0 | Martin Morgan | N O T S U P P O R T E D |
|
| S A B C D E F G H I J K L M N O P Q R [S] T U V W X Y Z |
| safe 3.2.0 | William T. Barry | OK | OK | OK |
| sagenhaft 1.32.0 | Tim Beissbarth | OK | OK | OK |
| SAGx 1.36.0 | Per Broberg, | OK | OK | OK |
| SamSPECTRAL 1.16.0 | Habil Zare | OK | OK | OK |
| SANTA 1.2.0 | Alex Cornish | OK | OK | OK |
| SBMLR 1.58.0 | Tomas Radivoyevitch | OK | OK | OK |
| SCAN.UPC 2.4.2 | Stephen R. Piccolo | OK | OK | OK |
| ScISI 1.34.0 | Tony Chiang | OK | OK | OK |
| segmentSeq 1.14.0 | Thomas J. Hardcastle | OK | OK | OK |
| SeqArray 1.2.1 | Xiuwen Zheng | OK | OK | OK |
| seqbias 1.10.0 | Daniel Jones | OK | OK | OK |
| seqCNA 1.2.0 | David Mosen-Ansorena | OK | OK | OK |
| SeqGSEA 1.2.1 | Xi Wang | OK | OK | OK |
| seqLogo 1.28.0 | Oliver Bembom | OK | OK | OK |
| SeqVarTools 1.0.0 | Stephanie M. Gogarten , Xiuwen Zheng | OK | OK | OK |
| shinyTANDEM 1.0.0 | Frederic Fournier | OK | OK | OK |
| ShortRead 1.20.0 | Bioconductor Package Maintainer | OK | OK | OK |
| sigaR 1.6.0 | Wessel N. van Wieringen | OK | OK | OK |
| SigFuge 1.0.2 | Patrick Kimes | OK | OK | OK |
| siggenes 1.36.0 | Holger Schwender | OK | OK | OK |
| sigPathway 1.30.0 | Weil Lai | OK | OK | OK |
| SIM 1.32.0 | Renee X. de Menezes | OK | OK | OK |
| SimBindProfiles 1.0.0 | Bettina Fischer | OK | OK | OK |
| simpleaffy 2.38.0 | Crispin Miller | OK | OK | OK |
| sizepower 1.32.0 | Weiliang Qiu | OK | OK | OK |
| SJava 0.88.0 | Martin Morgan | N O T S U P P O R T E D |
| SLGI 1.22.0 | Nolwenn Le Meur | OK | OK | OK |
| SLqPCR 1.28.0 | Matthias Kohl | OK | OK | OK |
| SMAP 1.26.0 | Robin Andersson | OK | OK | OK |
| SNAGEE 1.2.0 | David Venet | OK | OK | OK |
| snapCGH 1.32.0 | John Marioni | OK | OK | OK |
| snm 1.10.2 | John D. Storey | OK | OK | OK |
| SNPchip 2.8.0 | Robert Scharpf | OK | OK | OK |
| snpStats 1.12.0 | David Clayton | OK | OK | OK |
| SomatiCA 1.4.0 | Mengjie Chen | OK | WARNINGS | OK |
| SpacePAC 1.0.0 | Gregory Ryslik | OK | OK | OK |
| spade 1.10.2 | Michael Linderman | OK | WARNINGS | OK |
| SpeCond 1.16.0 | Florence Cavalli | OK | OK | OK |
| SPEM 1.2.0 | Xinyi YANG | OK | OK | OK |
| SPIA 2.14.0 | Adi Laurentiu Tarca | OK | OK | OK |
| spikeLI 2.22.0 | Enrico Carlon | OK | OK | OK |
| spkTools 1.18.0 | Matthew N McCall | OK | OK | OK |
| splicegear 1.34.0 | Laurent Gautier | OK | OK | OK |
| spliceR 1.3.1 | Johannes Waage , Kristoffer Vitting-Seerup | OK | OK | OK |
| spliceSites 1.0.0 | Wolfgang Kaisers | OK | OK | OK |
| SplicingGraphs 1.2.0 | H. Pages | OK | WARNINGS | OK |
| splots 1.28.0 | Wolfgang Huber | OK | OK | OK |
| spotSegmentation 1.36.0 | Chris Fraley | OK | OK | OK |
| SQUADD 1.12.0 | Martial Sankar | OK | OK | OK |
| SRAdb 1.16.0 | Jack Zhu | OK | OK | OK |
| sRAP 1.4.0 | Charles Warden | OK | OK | OK |
| sscore 1.34.0 | Richard Kennedy | OK | OK | OK |
| sSeq 1.0.0 | Danni Yu | OK | OK | OK |
| ssize 1.36.0 | Gregory R. Warnes | OK | OK | OK |
| SSPA 2.2.0 | Maarten van Iterson | OK | OK | OK |
| staRank 1.4.0 | Juliane Siebourg | OK | OK | OK |
| Starr 1.18.1 | Benedikt Zacher | OK | OK | OK |
| stepNorm 1.34.0 | Yuanyuan Xiao | OK | OK | OK |
| stepwiseCM 1.8.0 | Askar Obulkasim | OK | OK | OK |
| Streamer 1.8.0 | Martin Morgan | OK | OK | OK |
| STRINGdb 1.0.1 | Andrea Franceschini , Alexander Roth , Christian Von Mering , Michael Kuhn , Lars J Jensen | OK | OK | OK |
| supraHex 1.0.0 | Hai Fang | OK | OK | OK |
| survcomp 1.12.0 | Benjamin Haibe-Kains , Markus Schroeder , Catharina Olsen | OK | OK | OK |
| sva 3.8.0 | Jeffrey T. Leek | OK | OK | OK |
| SwimR 1.0.0 | Randy Blakely | OK | OK | OK |
| synapter 1.4.1 | Laurent Gatto | OK | OK | OK |
|
| T A B C D E F G H I J K L M N O P Q R S [T] U V W X Y Z |
| TargetScore 1.0.0 | Yue Li | OK | OK | OK |
| TargetSearch 1.18.0 | Alvaro Cuadros-Inostroza | OK | OK | OK |
| TCC 1.2.0 | Jianqiang Sun , Tomoaki Nishiyama | OK | OK | OK |
| TDARACNE 1.12.0 | Zoppoli Pietro | OK | OK | OK |
| TEQC 3.2.0 | Manuela Hummel | OK | OK | OK |
| ternarynet 1.6.0 | Matthew N. McCall | OK | OK | OK |
| TFBSTools 1.0.0 | Ge Tan | OK | OK | OK |
| tigre 1.16.1 | Antti Honkela | OK | OK | OK |
| tilingArray 1.40.0 | Zhenyu Xu | OK | OK | OK |
| timecourse 1.34.0 | Yu Chuan Tai | OK | OK | OK |
| tkWidgets 1.40.0 | J. Zhang | OK | OK | OK |
| topGO 2.14.0 | Adrian Alexa | OK | OK | OK |
| tRanslatome 1.0.0 | Toma Tebaldi | OK | OK | OK |
| TransView 1.6.1 | Julius Muller | OK | OK | OK |
| triform 1.4.0 | Tony HÃ¥ndstad Developer | OK | OK | OK |
| trigger 1.8.0 | John D. Storey | OK | OK | OK |
| trio 3.0.0 | Holger Schwender | OK | OK | OK |
| triplex 1.2.2 | Jiri Hon | OK | OK | OK |
| tspair 1.20.0 | Jeffrey T. Leek | OK | OK | OK |
| TSSi 1.8.0 | Julian Gehring | OK | OK | OK |
| TurboNorm 1.10.0 | Maarten van Iterson | OK | OK | OK |
| tweeDEseq 1.8.0 | Juan R Gonzalez | OK | OK | OK |
| twilight 1.38.0 | Stefanie Scheid | OK | OK | OK |
| TypeInfo 1.28.0 | Duncan Temple Lang | OK | OK | OK |
|
| U A B C D E F G H I J K L M N O P Q R S T [U] V W X Y Z |
| UniProt.ws 2.2.1 | Marc Carlson | OK | OK | OK |
|
| V A B C D E F G H I J K L M N O P Q R S T U [V] W X Y Z |
| VanillaICE 1.24.0 | Robert Scharpf | OK | OK | OK |
| VariantAnnotation 1.8.13 | Valerie Obenchain | OK | OK | OK |
| VariantTools 1.4.6 | Michael Lawrence | N O T S U P P O R T E D |
| vbmp 1.30.0 | Nicola Lama | OK | OK | OK |
| Vega 1.10.0 | Sandro Morganella | OK | OK | OK |
| VegaMC 2.8.0 | Sandro Morganella | OK | OK | OK |
| virtualArray 1.6.0 | Andreas Heider | ERROR | skipped | skipped |
| vsn 3.30.0 | Wolfgang Huber | OK | OK | OK |
| vtpnet 0.2.0 | VJ Carey | OK | WARNINGS | OK |
|
| W A B C D E F G H I J K L M N O P Q R S T U V [W] X Y Z |
| wateRmelon 1.2.2 | Leo | OK | WARNINGS | OK |
| waveTiling 1.4.0 | Kristof De Beuf | OK | OK | OK |
| weaver 1.28.0 | Seth Falcon | OK | OK | OK |
| webbioc 1.34.0 | Colin A. Smith | OK | OK | OK |
| widgetTools 1.40.0 | Jianhua Zhang | OK | OK | OK |
|
| X A B C D E F G H I J K L M N O P Q R S T U V W [X] Y Z |
| xcms 1.38.0 | Ralf Tautenhahn | OK | WARNINGS | OK |
| XDE 2.8.0 | Robert Scharpf | OK | OK | OK |
| xmapbridge 1.20.0 | Tim Yates | OK | OK | OK |
| xps 1.22.2 | Christian Stratowa | OK | WARNINGS | OK |
| XVector 0.2.0 | H. Pages | OK | OK | OK |
|
| Y A B C D E F G H I J K L M N O P Q R S T U V W X [Y] Z |
| yaqcaffy 1.22.0 | Laurent Gatto | OK | OK | OK |
|
| Z A B C D E F G H I J K L M N O P Q R S T U V W X Y [Z] |
| zlibbioc 1.8.0 | Bioconductor Package Maintainer | OK | OK | OK |