| EBSeq 1.2.0 Ning Leng
 
 | Snapshot Date: 2014-04-04 16:20:29 -0700 (Fri, 04 Apr 2014) |  | URL: https://hedgehog.fhcrc.org/bioconductor/branches/RELEASE_2_13/madman/Rpacks/EBSeq |  | Last Changed Rev: 81642 / Revision: 88450 |  | Last Changed Date: 2013-10-14 14:29:21 -0700 (Mon, 14 Oct 2013) | 
 | zin1 | Linux (Ubuntu 12.04.4 LTS) / x86_64 | OK | OK |  | 
| moscato1 | Windows Server 2008 R2 Enterprise SP1 (64-bit) / x64 | OK | OK | [ OK ] | 
| perceval | Mac OS X Snow Leopard (10.6.8) / x86_64 | OK | OK | OK | 
Scanning files 
  adding: data/ (256 bytes security) (stored 0%)
  adding: data/GeneMat.rda (188 bytes security) (deflated 12%)
  adding: data/IsoList.rda (188 bytes security) (deflated 16%)
  adding: data/IsoMultiList.rda (188 bytes security) (deflated 8%)
  adding: data/MultiGeneMat.rda (188 bytes security) (deflated 12%)
  adding: demo/ (256 bytes security) (stored 0%)
  adding: demo/EBSeq.R (188 bytes security) (deflated 81%)
  adding: DESCRIPTION (188 bytes security) (deflated 46%)
  adding: doc/ (256 bytes security) (stored 0%)
  adding: doc/EBSeq_Vignette.pdf (188 bytes security) (deflated 17%)
  adding: doc/EBSeq_Vignette.R (188 bytes security) (deflated 86%)
  adding: doc/EBSeq_Vignette.Rnw (188 bytes security) (deflated 74%)
  adding: doc/index.html (188 bytes security) (deflated 59%)
  adding: doc/lengetal.bib (188 bytes security) (deflated 68%)
  adding: help/ (256 bytes security) (stored 0%)
  adding: help/aliases.rds (188 bytes security) (stored 0%)
  adding: help/AnIndex (188 bytes security) (deflated 59%)
  adding: help/EBSeq.rdb (188 bytes security) (deflated 1%)
  adding: help/EBSeq.rdx (188 bytes security) (stored 0%)
  adding: help/paths.rds (188 bytes security) (stored 0%)
  adding: html/ (256 bytes security) (stored 0%)
  adding: html/00Index.html (188 bytes security) (deflated 73%)
  adding: html/R.css (188 bytes security) (deflated 70%)
  adding: INDEX (188 bytes security) (deflated 70%)
  adding: MD5 (188 bytes security) (deflated 43%)
  adding: Meta/ (256 bytes security) (stored 0%)
  adding: Meta/data.rds (188 bytes security) (stored 0%)
  adding: Meta/demo.rds (188 bytes security) (stored 0%)
  adding: Meta/hsearch.rds (188 bytes security) (stored 0%)
  adding: Meta/links.rds (188 bytes security) (stored 0%)
  adding: Meta/nsInfo.rds (188 bytes security) (stored 0%)
  adding: Meta/package.rds (188 bytes security) (stored 0%)
  adding: Meta/Rd.rds (188 bytes security) (stored 0%)
  adding: Meta/vignette.rds (188 bytes security) (stored 0%)
  adding: NAMESPACE (188 bytes security) (deflated 32%)
  adding: R/ (256 bytes security) (stored 0%)
  adding: R/EBSeq (188 bytes security) (deflated 41%)
  adding: R/EBSeq.rdb (188 bytes security) (deflated 2%)
  adding: R/EBSeq.rdx (188 bytes security) (stored 0%)