Back to the "Multiple platform build/check report" | A B [C] D E F G H I J K L M N O P Q R S T U V W X Y Z |
This page was generated on 2014-04-05 09:50:58 -0700 (Sat, 05 Apr 2014).
Package 156/750 | Hostname | OS / Arch | BUILD | CHECK | BUILD BIN | ||||
CNORfuzzy 1.4.0 T. Cokelaer
| zin1 | Linux (Ubuntu 12.04.4 LTS) / x86_64 | OK | OK | |||||
moscato1 | Windows Server 2008 R2 Enterprise SP1 (64-bit) / x64 | [ OK ] | OK | OK | |||||
perceval | Mac OS X Snow Leopard (10.6.8) / x86_64 | OK | OK | OK |
Package: CNORfuzzy |
Version: 1.4.0 |
Command: chmod a+r CNORfuzzy -R && D:\biocbld\bbs-2.13-bioc\R\bin\R.exe CMD build --keep-empty-dirs --no-resave-data CNORfuzzy |
StartedAt: 2014-04-05 01:19:08 -0700 (Sat, 05 Apr 2014) |
EndedAt: 2014-04-05 01:19:48 -0700 (Sat, 05 Apr 2014) |
EllapsedTime: 39.4 seconds |
RetCode: 0 |
Status: OK |
PackageFile: CNORfuzzy_1.4.0.tar.gz |
PackageFileSize: 939.4 KiB |
* checking for file 'CNORfuzzy/DESCRIPTION' ... OK * preparing 'CNORfuzzy': * checking DESCRIPTION meta-information ... OK * cleaning src * installing the package to build vignettes * creating vignettes ... OK * cleaning src * checking for LF line-endings in source and make files * checking for empty or unneeded directories * building 'CNORfuzzy_1.4.0.tar.gz'