| flipflop 1.0.1 Elsa Bernard
 
 | Snapshot Date: 2014-04-04 16:20:29 -0700 (Fri, 04 Apr 2014) |  | URL: https://hedgehog.fhcrc.org/bioconductor/branches/RELEASE_2_13/madman/Rpacks/flipflop |  | Last Changed Rev: 81983 / Revision: 88450 |  | Last Changed Date: 2013-10-22 05:37:02 -0700 (Tue, 22 Oct 2013) | 
 | zin1 | Linux (Ubuntu 12.04.4 LTS) / x86_64 | OK | WARNINGS |  | 
| moscato1 | Windows Server 2008 R2 Enterprise SP1 (64-bit) / x64 | OK | WARNINGS | [ OK ] | 
| perceval | Mac OS X Snow Leopard (10.6.8) / x86_64 | OK | WARNINGS | OK | 
Scanning files 
  adding: CITATION (188 bytes security) (deflated 66%)
  adding: COPYING (188 bytes security) (deflated 66%)
  adding: DESCRIPTION (188 bytes security) (deflated 32%)
  adding: doc/ (256 bytes security) (stored 0%)
  adding: doc/biblio.bib (188 bytes security) (deflated 64%)
  adding: doc/flipflop.pdf (188 bytes security) (deflated 12%)
  adding: doc/flipflop.R (188 bytes security) (deflated 76%)
  adding: doc/flipflop.Rnw (188 bytes security) (deflated 62%)
  adding: doc/index.html (188 bytes security) (deflated 58%)
  adding: extdata/ (256 bytes security) (stored 0%)
  adding: extdata/flipflop.Rex (188 bytes security) (deflated 53%)
  adding: extdata/vignette-annot.bed.txt (188 bytes security) (deflated 52%)
  adding: extdata/vignette-sam.txt (188 bytes security) (deflated 96%)
  adding: help/ (256 bytes security) (stored 0%)
  adding: help/aliases.rds (188 bytes security) (deflated 1%)
  adding: help/AnIndex (188 bytes security) (deflated 21%)
  adding: help/flipflop.rdb (188 bytes security) (stored 0%)
  adding: help/flipflop.rdx (188 bytes security) (stored 0%)
  adding: help/paths.rds (188 bytes security) (stored 0%)
  adding: html/ (256 bytes security) (stored 0%)
  adding: html/00Index.html (188 bytes security) (deflated 50%)
  adding: html/R.css (188 bytes security) (deflated 70%)
  adding: INDEX (188 bytes security) (deflated 19%)
  adding: libs/ (256 bytes security) (stored 0%)
  adding: libs/i386/ (256 bytes security) (stored 0%)
  adding: libs/i386/flipflop.dll (188 bytes security) (deflated 62%)
  adding: libs/x64/ (256 bytes security) (stored 0%)
  adding: libs/x64/flipflop.dll (188 bytes security) (deflated 65%)
  adding: MD5 (188 bytes security) (deflated 43%)
  adding: Meta/ (256 bytes security) (stored 0%)
  adding: Meta/hsearch.rds (188 bytes security) (stored 0%)
  adding: Meta/links.rds (188 bytes security) (stored 0%)
  adding: Meta/nsInfo.rds (188 bytes security) (stored 0%)
  adding: Meta/package.rds (188 bytes security) (stored 0%)
  adding: Meta/Rd.rds (188 bytes security) (stored 0%)
  adding: Meta/vignette.rds (188 bytes security) (stored 0%)
  adding: NAMESPACE (188 bytes security) (deflated 35%)
  adding: R/ (256 bytes security) (stored 0%)
  adding: R/flipflop (188 bytes security) (deflated 41%)
  adding: R/flipflop.rdb (188 bytes security) (deflated 7%)
  adding: R/flipflop.rdx (188 bytes security) (stored 0%)
  adding: scripts/ (256 bytes security) (stored 0%)
  adding: scripts/generateManPages.R (188 bytes security) (deflated 43%)