| genArise 1.38.0 IFC Development Team
 
 | Snapshot Date: 2014-04-04 16:20:29 -0700 (Fri, 04 Apr 2014) |  | URL: https://hedgehog.fhcrc.org/bioconductor/branches/RELEASE_2_13/madman/Rpacks/genArise |  | Last Changed Rev: 81642 / Revision: 88450 |  | Last Changed Date: 2013-10-14 14:29:21 -0700 (Mon, 14 Oct 2013) | 
 | zin1 | Linux (Ubuntu 12.04.4 LTS) / x86_64 | OK | OK |  | 
| moscato1 | Windows Server 2008 R2 Enterprise SP1 (64-bit) / x64 | OK | OK | [ OK ] | 
| perceval | Mac OS X Snow Leopard (10.6.8) / x86_64 | OK | OK | OK | 
  adding: data/ (256 bytes security) (stored 0%)
  adding: data/Simon.rda (188 bytes security) (deflated 1%)
  adding: data/WT.dataset.rda (188 bytes security) (deflated 0%)
  adding: DESCRIPTION (188 bytes security) (deflated 41%)
  adding: doc/ (256 bytes security) (stored 0%)
  adding: doc/genArise.pdf (188 bytes security) (deflated 10%)
  adding: doc/genArise.R (188 bytes security) (deflated 85%)
  adding: doc/genArise.Rnw (188 bytes security) (deflated 71%)
  adding: doc/help/ (256 bytes security) (stored 0%)
  adding: doc/help/contents (188 bytes security) (deflated 69%)
  adding: doc/icons/ (256 bytes security) (stored 0%)
  adding: doc/index.html (188 bytes security) (deflated 61%)
  adding: help/ (256 bytes security) (stored 0%)
  adding: help/aliases.rds (188 bytes security) (stored 0%)
  adding: help/AnIndex (188 bytes security) (deflated 64%)
  adding: help/genArise.rdb (188 bytes security) (deflated 5%)
  adding: help/genArise.rdx (188 bytes security) (stored 0%)
  adding: help/paths.rds (188 bytes security) (stored 0%)
  adding: html/ (256 bytes security) (stored 0%)
  adding: html/00Index.html (188 bytes security) (deflated 75%)
  adding: html/R.css (188 bytes security) (deflated 70%)
  adding: INDEX (188 bytes security) (deflated 65%)
  adding: LICENSE (188 bytes security) (stored 0%)
  adding: MD5 (188 bytes security) (deflated 42%)
  adding: Meta/ (256 bytes security) (stored 0%)
  adding: Meta/data.rds (188 bytes security) (stored 0%)
  adding: Meta/hsearch.rds (188 bytes security) (stored 0%)
  adding: Meta/links.rds (188 bytes security) (stored 0%)
  adding: Meta/nsInfo.rds (188 bytes security) (stored 0%)
  adding: Meta/package.rds (188 bytes security) (stored 0%)
  adding: Meta/Rd.rds (188 bytes security) (stored 0%)
  adding: Meta/vignette.rds (188 bytes security) (stored 0%)
  adding: NAMESPACE (188 bytes security) (deflated 54%)
  adding: R/ (256 bytes security) (stored 0%)
  adding: R/genArise (188 bytes security) (deflated 41%)
  adding: R/genArise.rdb (188 bytes security) (deflated 1%)
  adding: R/genArise.rdx (188 bytes security) (stored 0%)