| GSEAlm 1.22.0 Assaf Oron
 
 | Snapshot Date: 2014-04-04 16:20:29 -0700 (Fri, 04 Apr 2014) |  | URL: https://hedgehog.fhcrc.org/bioconductor/branches/RELEASE_2_13/madman/Rpacks/GSEAlm |  | Last Changed Rev: 81642 / Revision: 88450 |  | Last Changed Date: 2013-10-14 14:29:21 -0700 (Mon, 14 Oct 2013) | 
 | zin1 | Linux (Ubuntu 12.04.4 LTS) / x86_64 | OK | OK |  | 
| moscato1 | Windows Server 2008 R2 Enterprise SP1 (64-bit) / x64 | OK | OK | [ OK ] | 
| perceval | Mac OS X Snow Leopard (10.6.8) / x86_64 | OK | OK | OK | 
  adding: DESCRIPTION (188 bytes security) (deflated 34%)
  adding: doc/ (256 bytes security) (stored 0%)
  adding: doc/alltt.sty (188 bytes security) (deflated 59%)
  adding: doc/array.sty (188 bytes security) (deflated 70%)
  adding: doc/cat.bib (188 bytes security) (deflated 60%)
  adding: doc/chngpage.sty (188 bytes security) (deflated 65%)
  adding: doc/color.sty (188 bytes security) (deflated 69%)
  adding: doc/crop.cfg (188 bytes security) (deflated 66%)
  adding: doc/crop.sty (188 bytes security) (deflated 72%)
  adding: doc/float.sty (188 bytes security) (deflated 68%)
  adding: doc/flushend.sty (188 bytes security) (deflated 71%)
  adding: doc/graphicx.sty (188 bytes security) (deflated 74%)
  adding: doc/GSEAlm.pdf (188 bytes security) (deflated 6%)
  adding: doc/GSEAlm.R (188 bytes security) (deflated 71%)
  adding: doc/GSEAlm.Rnw (188 bytes security) (deflated 64%)
  adding: doc/index.html (188 bytes security) (deflated 74%)
  adding: doc/landscap.sty (188 bytes security) (deflated 35%)
  adding: doc/ly1phv.fd (188 bytes security) (deflated 75%)
  adding: doc/natbib.bst (188 bytes security) (deflated 79%)
  adding: doc/natbib.sty (188 bytes security) (deflated 76%)
  adding: doc/rmgreek.sty (188 bytes security) (deflated 84%)
  adding: doc/stfloats.sty (188 bytes security) (deflated 72%)
  adding: doc/times.sty (188 bytes security) (deflated 47%)
  adding: doc/url.sty (188 bytes security) (deflated 64%)
  adding: help/ (256 bytes security) (stored 0%)
  adding: help/aliases.rds (188 bytes security) (stored 0%)
  adding: help/AnIndex (188 bytes security) (deflated 58%)
  adding: help/GSEAlm.rdb (188 bytes security) (deflated 0%)
  adding: help/GSEAlm.rdx (188 bytes security) (stored 0%)
  adding: help/paths.rds (188 bytes security) (stored 0%)
  adding: html/ (256 bytes security) (stored 0%)
  adding: html/00Index.html (188 bytes security) (deflated 71%)
  adding: html/R.css (188 bytes security) (deflated 70%)
  adding: INDEX (188 bytes security) (deflated 59%)
  adding: MD5 (188 bytes security) (deflated 43%)
  adding: Meta/ (256 bytes security) (stored 0%)
  adding: Meta/hsearch.rds (188 bytes security) (stored 0%)
  adding: Meta/links.rds (188 bytes security) (stored 0%)
  adding: Meta/nsInfo.rds (188 bytes security) (stored 0%)
  adding: Meta/package.rds (188 bytes security) (stored 0%)
  adding: Meta/Rd.rds (188 bytes security) (stored 0%)
  adding: Meta/vignette.rds (188 bytes security) (stored 0%)
  adding: NAMESPACE (188 bytes security) (deflated 30%)
  adding: R/ (256 bytes security) (stored 0%)
  adding: R/GSEAlm (188 bytes security) (deflated 41%)
  adding: R/GSEAlm.rdb (188 bytes security) (deflated 7%)
  adding: R/GSEAlm.rdx (188 bytes security) (stored 0%)