spade 1.10.2 Michael Linderman
 | Snapshot Date: 2014-04-04 16:20:29 -0700 (Fri, 04 Apr 2014) |  | URL: https://hedgehog.fhcrc.org/bioconductor/branches/RELEASE_2_13/madman/Rpacks/spade |  | Last Changed Rev: 82054 / Revision: 88450 |  | Last Changed Date: 2013-10-23 11:37:00 -0700 (Wed, 23 Oct 2013) |  
  | zin1  | Linux (Ubuntu 12.04.4 LTS) / x86_64  |  OK  |  WARNINGS  |  | 
| moscato1  | Windows Server 2008 R2 Enterprise SP1 (64-bit) / x64  |  OK  |  WARNINGS  | [ OK ] | 
| perceval  | Mac OS X Snow Leopard (10.6.8) / x86_64  |  OK  |  WARNINGS  |  OK  | 
  adding: DESCRIPTION (188 bytes security) (deflated 36%)
  adding: doc/ (256 bytes security) (stored 0%)
  adding: doc/index.html (188 bytes security) (deflated 59%)
  adding: doc/SPADE.pdf (188 bytes security) (deflated 6%)
  adding: doc/SPADE.R (188 bytes security) (deflated 73%)
  adding: doc/SPADE.Rnw (188 bytes security) (deflated 61%)
  adding: doc/spaderef.bib (188 bytes security) (deflated 47%)
  adding: extdata/ (256 bytes security) (stored 0%)
  adding: extdata/SimulatedRawData.fcs (188 bytes security) (deflated 8%)
  adding: help/ (256 bytes security) (stored 0%)
  adding: help/aliases.rds (188 bytes security) (stored 0%)
  adding: help/AnIndex (188 bytes security) (deflated 65%)
  adding: help/paths.rds (188 bytes security) (stored 0%)
  adding: help/spade.rdb (188 bytes security) (deflated 1%)
  adding: help/spade.rdx (188 bytes security) (stored 0%)
  adding: html/ (256 bytes security) (stored 0%)
  adding: html/00Index.html (188 bytes security) (deflated 66%)
  adding: html/R.css (188 bytes security) (deflated 70%)
  adding: INDEX (188 bytes security) (deflated 57%)
  adding: libs/ (256 bytes security) (stored 0%)
  adding: libs/i386/ (256 bytes security) (stored 0%)
  adding: libs/i386/spade.dll (188 bytes security) (deflated 61%)
  adding: libs/x64/ (256 bytes security) (stored 0%)
  adding: libs/x64/spade.dll (188 bytes security) (deflated 64%)
  adding: LICENSE (188 bytes security) (deflated 44%)
  adding: MD5 (188 bytes security) (deflated 41%)
  adding: Meta/ (256 bytes security) (stored 0%)
  adding: Meta/hsearch.rds (188 bytes security) (stored 0%)
  adding: Meta/links.rds (188 bytes security) (stored 0%)
  adding: Meta/nsInfo.rds (188 bytes security) (stored 0%)
  adding: Meta/package.rds (188 bytes security) (stored 0%)
  adding: Meta/Rd.rds (188 bytes security) (stored 0%)
  adding: Meta/vignette.rds (188 bytes security) (stored 0%)
  adding: NAMESPACE (188 bytes security) (deflated 52%)
  adding: R/ (256 bytes security) (stored 0%)
  adding: R/spade (188 bytes security) (deflated 41%)
  adding: R/spade.rdb (188 bytes security) (deflated 2%)
  adding: R/spade.rdx (188 bytes security) (stored 0%)
  adding: tools/ (256 bytes security) (stored 0%)
  adding: tools/CytoSPADE.jar (188 bytes security) (deflated 10%)
  adding: tools/organize_fold_pdfs.sh (188 bytes security) (deflated 66%)
  adding: tools/organize_median_pdfs.sh (188 bytes security) (deflated 66%)
  adding: tools/runSPADE.R (188 bytes security) (deflated 65%)