| lamb1 |
Linux (openSUSE 12.1) / x86_64 | | | |
| [moscato1] |
Windows Server 2008 R2 Enterprise SP1 (64-bit) / x64 | | | |
| perceval |
Mac OS X Leopard (10.5.8) / i386 | | | |
|
|
| A [A] B C D E F G H I J K L M N O P Q R S T U V W X Y Z |
| a4 1.6.1 | Tobias Verbeke | OK | OK | OK |
| a4Base 1.6.0 | Tobias Verbeke | OK | WARNINGS | OK |
| a4Classif 1.6.0 | Tobias Verbeke | OK | OK | OK |
| a4Core 1.6.0 | Tobias Verbeke | OK | OK | OK |
| a4Preproc 1.6.0 | Tobias Verbeke | OK | OK | OK |
| a4Reporting 1.6.0 | Tobias Verbeke | OK | OK | OK |
| ABarray 1.26.0 | Yongming Andrew Sun | OK | OK | OK |
| aCGH 1.36.0 | Peter Dimitrov | OK | OK | OK |
| ACME 2.14.0 | Sean Davis | OK | OK | OK |
| ADaCGH2 1.8.0 | Ramon Diaz-Uriarte | OK | OK | OK |
| adSplit 1.28.0 | Claudio Lottaz | OK | OK | OK |
| affxparser 1.30.2 | Kasper Daniel Hansen | OK | OK | OK |
| affy 1.36.1 | Rafael A. Irizarry | OK | WARNINGS | OK |
| affycomp 1.34.0 | Rafael A. Irizarry | OK | OK | OK |
| AffyCompatible 1.18.2 | Martin Morgan | OK | WARNINGS | OK |
| affyContam 1.16.0 | V. Carey | OK | OK | OK |
| affycoretools 1.30.0 | James W. MacDonald | OK | OK | OK |
| AffyExpress 1.24.0 | Xuejun Arthur Li | OK | OK | OK |
| affyILM 1.10.0 | Myriam Kroll and Fabrice Berger | OK | OK | OK |
| affyio 1.26.0 | Benjamin Milo Bolstad | OK | OK | OK |
| affylmGUI 1.32.0 | Keith Satterley | OK | OK | OK |
| affyPara 1.18.0 | Markus Schmidberger | OK | WARNINGS | OK |
| affypdnn 1.32.0 | Laurent Gautier | OK | OK | OK |
| affyPLM 1.34.0 | Ben Bolstad | OK | OK | OK |
| affyQCReport 1.36.0 | Craig Parman | OK | OK | OK |
| AffyRNADegradation 1.4.0 | Mario Fasold | OK | OK | OK |
| AffyTiling 1.16.1 | Charles G. Danko | OK | OK | OK |
| AGDEX 1.6.0 | Cuilan lani Gao | OK | OK | OK |
| Agi4x44PreProcess 1.18.0 | Pedro Lopez-Romero | OK | OK | OK |
| agilp 3.0.0 | Benny Chain | OK | OK | OK |
| AgiMicroRna 2.8.0 | Pedro Lopez-Romero | OK | OK | OK |
| altcdfenvs 2.20.0 | Laurent Gautier | OK | OK | OK |
| annaffy 1.30.0 | Colin A. Smith | OK | OK | OK |
| annmap 1.0.0 | Tim Yates | N O T S U P P O R T E D |
| annotate 1.36.0 | Bioconductor Package Maintainer | OK | ERROR | OK |
| AnnotationDbi 1.20.7 | Bioconductor Package Maintainer | OK | OK | OK |
| AnnotationForge 1.0.3 | Bioconductor Package Maintainer | OK | OK | OK |
| AnnotationFuncs 1.8.0 | Stefan McKinnon Edwards | OK | OK | OK |
| annotationTools 1.32.0 | Alexandre Kuhn | OK | OK | OK |
| anota 1.6.0 | Ola Larsson | OK | OK | OK |
| apComplex 2.24.0 | Denise Scholtens | OK | OK | OK |
| aroma.light 1.28.0 | Henrik Bengtsson | OK | OK | OK |
| ArrayExpress 1.18.0 | Ibrahim Emam | OK | OK | OK |
| ArrayExpressHTS 1.8.0 | Angela Goncalves , Andrew Tikhonov | N O T S U P P O R T E D |
| arrayMvout 1.16.0 | V. Carey | OK | OK | OK |
| arrayQuality 1.36.0 | Agnes Paquet | OK | OK | OK |
| arrayQualityMetrics 3.14.0 | Audrey Kauffmann | OK | OK | OK |
| ArrayTools 1.18.0 | Arthur Li | OK | OK | OK |
| ASEB 1.2.0 | Likun Wang | OK | OK | OK |
| attract 1.10.0 | Jessica Mar | OK | OK | OK |
|
| B A [B] C D E F G H I J K L M N O P Q R S T U V W X Y Z |
| BAC 1.18.0 | Raphael Gottardo | OK | OK | OK |
| BayesPeak 1.10.0 | Jonathan Cairns | OK | OK | OK |
| baySeq 1.12.0 | Thomas J. Hardcastle | OK | OK | OK |
| BCRANK 1.20.0 | Adam Ameur | OK | OK | OK |
| beadarray 2.8.1 | Mark Dunning | OK | OK | OK |
| beadarraySNP 1.24.0 | Jan Oosting | OK | OK | OK |
| BeadDataPackR 1.10.0 | Mike Smith | OK | OK | OK |
| betr 1.14.0 | Martin Aryee | OK | OK | OK |
| bgafun 1.20.0 | Iain Wallace | OK | OK | OK |
| BGmix 1.18.0 | Alex Lewin | N O T S U P P O R T E D |
| bgx 1.22.0 | Ernest Turro | OK | OK | OK |
| BHC 1.10.0 | Rich Savage | OK | OK | OK |
| BicARE 1.16.0 | Pierre Gestraud | OK | OK | OK |
| bigmemoryExtras 1.0.0 | Peter M. Haverty | N O T S U P P O R T E D |
| Biobase 2.18.0 | Bioconductor Package Maintainer | OK | WARNINGS | OK |
| BiocCaseStudies 1.20.0 | Bioconductor Package Maintainer | OK | OK | OK |
| BiocGenerics 0.4.0 | Bioconductor Package Maintainer | OK | WARNINGS | OK |
| biocGraph 1.20.0 | Florian Hahne | OK | OK | OK |
| BiocInstaller 1.8.3 | Bioconductor Package Maintainer | OK | OK | OK |
| biocViews 1.26.0 | Bioconductor Package Maintainer | OK | OK | OK |
| bioDist 1.30.0 | Bioconductor Package Maintainer | OK | OK | OK |
| biomaRt 2.14.0 | Steffen Durinck | OK | OK | OK |
| BioMVCClass 1.26.0 | Elizabeth Whalen | OK | OK | OK |
| BioNet 1.16.0 | Marcus Dittrich | OK | OK | OK |
| BioSeqClass 1.16.0 | Li Hong | OK | OK | OK |
| Biostrings 2.26.3 | H. Pages | OK | WARNINGS | OK |
| biovizBase 1.6.2 | Tengfei Yin | OK | OK | OK |
| birta 1.2.0 | Benedikt Zacher | OK | OK | OK |
| BitSeq 1.2.2 | Peter Glaus | OK | OK | OK |
| BRAIN 1.4.0 | Piotr Dittwald | OK | OK | OK |
| BrainStars 1.2.0 | Itoshi NIKAIDO | OK | OK | OK |
| bridge 1.22.0 | Raphael Gottardo | OK | OK | OK |
| BSgenome 1.26.1 | H. Pages | OK | WARNINGS | OK |
| bsseq 0.6.2 | Kasper Daniel Hansen | OK | OK | OK |
| BufferedMatrix 1.22.0 | Benjamin Milo Bolstad | OK | OK | OK |
| BufferedMatrixMethods 1.22.0 | B. M. Bolstad | OK | OK | OK |
| BUS 1.14.0 | Yuanhua Liu | OK | OK | OK |
|
| C A B [C] D E F G H I J K L M N O P Q R S T U V W X Y Z |
| CALIB 1.24.0 | Hui Zhao | OK | OK | OK |
| CAMERA 1.14.0 | Carsten Kuhl | OK | OK | OK |
| cancerclass 1.2.1 | Daniel Kosztyla | OK | OK | OK |
| CancerMutationAnalysis 1.2.1 | Simina M. Boca | OK | OK | OK |
| Category 2.24.0 | Bioconductor Package Maintainer | OK | OK | OK |
| categoryCompare 1.2.0 | Robert M. Flight | OK | OK | OK |
| cellGrowth 1.2.0 | Julien Gagneur | OK | OK | OK |
| cellHTS 1.28.0 | Ligia Bras | OK | OK | OK |
| cellHTS2 2.22.0 | Joseph Barry | OK | OK | OK |
| CellNOptR 1.4.0 | T.Cokelaer | OK | OK | OK |
| CGEN 1.10.0 | William Wheeler | OK | WARNINGS | OK |
| CGHbase 1.18.0 | Mark van de Wiel | OK | OK | OK |
| CGHcall 2.18.0 | Mark van de Wiel | OK | OK | OK |
| cghMCR 1.16.0 | J. Zhang | OK | OK | OK |
| CGHnormaliter 1.12.0 | Bart P.P. van Houte | OK | OK | OK |
| CGHregions 1.16.0 | Sjoerd Vosse | OK | OK | OK |
| charm 2.4.0 | Peter Murakami | OK | OK | OK |
| ChemmineR 2.10.9 | ChemmineR Team | OK | OK | OK |
| ChIPpeakAnno 2.6.1 | Lihua Julie Zhu | OK | OK | OK |
| chipseq 1.8.0 | Bioconductor Package Maintainer | OK | OK | OK |
| ChIPseqR 1.12.0 | Peter Humburg | OK | OK | OK |
| ChIPsim 1.12.0 | Peter Humburg | OK | OK | OK |
| ChIPXpress 1.0.0 | George Wu | ERROR | skipped | skipped |
| chopsticks 1.22.4 | Hin-Tak Leung | OK | OK | OK |
| chroGPS 1.0.1 | Oscar Reina | OK | OK | OK |
| ChromHeatMap 1.12.0 | Tim F. Rayner | OK | OK | OK |
| clippda 1.8.0 | Stephen Nyangoma | OK | OK | OK |
| Clonality 1.6.0 | Irina Ostrovnaya | OK | OK | OK |
| clst 1.6.0 | Noah Hoffman | OK | OK | OK |
| clstutils 1.6.0 | Noah Hoffman | OK | OK | OK |
| clusterProfiler 1.6.0 | Guangchuang Yu | OK | OK | OK |
| clusterStab 1.30.0 | James W. MacDonald | OK | OK | OK |
| CMA 1.16.0 | Christoph Bernau | OK | OK | OK |
| cn.farms 1.6.0 | Andreas Mitterecker | OK | OK | OK |
| cn.mops 1.4.12 | Guenter Klambauer | OK | OK | OK |
| CNAnorm 1.4.0 | Stefano Berri | OK | OK | OK |
| CNORdt 1.0.0 | A. MacNamara | OK | OK | OK |
| CNORfuzzy 1.0.0 | T. Cokelaer | OK | OK | OK |
| CNORode 1.0.0 | David Henriques | OK | OK | OK |
| CNTools 1.14.0 | J. Zhang | OK | OK | OK |
| cnvGSA 1.2.0 | Robert Ziman | OK | OK | OK |
| CNVtools 1.52.0 | Chris Barnes | OK | OK | OK |
| CoCiteStats 1.30.0 | Bioconductor Package Maintainer | OK | OK | OK |
| codelink 1.26.0 | Diego Diez | OK | OK | OK |
| CoGAPS 1.8.0 | Elana J. Fertig | N O T S U P P O R T E D |
| coGPS 1.2.0 | Yingying Wei | OK | OK | OK |
| ConsensusClusterPlus 1.10.0 | Matt Wilkerson | OK | OK | OK |
| convert 1.34.0 | Yee Hwa (Jean) Yang | OK | OK | OK |
| copa 1.26.0 | James W. MacDonald | OK | OK | OK |
| Cormotif 1.4.0 | Yingying Wei | OK | OK | OK |
| CorMut 1.0.0 | Zhenpeng Li | OK | OK | OK |
| coRNAi 1.8.0 | Elin Axelsson | OK | OK | OK |
| CORREP 1.24.0 | Dongxiao Zhu | OK | OK | OK |
| cosmo 1.24.0 | Oliver Bembom | ERROR | skipped | skipped |
| cosmoGUI 1.24.0 | Oliver Bembom | OK | OK | OK |
| cqn 1.4.0 | Kasper Daniel Hansen | OK | OK | OK |
| CRImage 1.6.1 | Henrik Failmezger | OK | OK | OK |
| crlmm 1.16.9 | Benilton S Carvalho , Robert Scharpf , Matt Ritchie | OK | OK | OK |
| CSAR 1.10.0 | Jose M Muino | OK | OK | OK |
| ctc 1.32.0 | Antoine Lucas | OK | OK | OK |
| cummeRbund 2.0.0 | Loyal A. Goff | OK | OK | OK |
| cycle 1.12.0 | Matthias Futschik | OK | OK | OK |
|
| D A B C [D] E F G H I J K L M N O P Q R S T U V W X Y Z |
| daMA 1.30.0 | Jobst Landgrebe | OK | OK | OK |
| DART 1.4.0 | Katherine Lawler | OK | OK | OK |
| DAVIDQuery 1.18.0 | Roger Day | OK | OK | OK |
| DBChIP 1.2.0 | Kun Liang | OK | OK | OK |
| ddCt 1.12.0 | Jitao David Zhang | OK | OK | OK |
| ddgraph 1.2.0 | Robert Stojnic | OK | OK | OK |
| DECIPHER 1.4.0 | Erik Wright | OK | OK | OK |
| DeconRNASeq 1.0.0 | Ting Gong | OK | OK | OK |
| DEDS 1.32.0 | Yuanyuan Xiao | OK | OK | OK |
| deepSNV 1.4.0 | Moritz Gerstung | OK | OK | OK |
| DEGraph 1.10.0 | Laurent Jacob | OK | OK | OK |
| DEGseq 1.12.0 | Likun Wang | OK | OK | OK |
| DESeq 1.10.1 | Simon Anders | OK | OK | OK |
| DEXSeq 1.4.0 | Alejandro Reyes | OK | OK | OK |
| DFP 1.16.0 | Rodrigo Alvarez-Glez | OK | OK | OK |
| DiffBind 1.4.2 | Rory Stark | OK | OK | OK |
| diffGeneAnalysis 1.40.0 | Choudary Jagarlamudi | OK | OK | OK |
| DirichletMultinomial 1.0.0 | Martin Morgan | OK | OK | OK |
| dks 1.4.0 | Jeffrey T. Leek | OK | OK | OK |
| DNAcopy 1.32.0 | Venkatraman E. Seshan | OK | OK | OK |
| domainsignatures 1.18.0 | Florian Hahne | OK | OK | OK |
| DOSE 1.4.0 | Guangchuang Yu | OK | OK | OK |
| DSS 1.0.0 | Hao Wu | OK | OK | OK |
| DTA 2.4.0 | Bjoern Schwalb | OK | OK | OK |
| dualKS 1.18.0 | Eric J. Kort | OK | OK | OK |
| dyebias 1.16.0 | Philip Lijnzaad | OK | OK | OK |
| DynDoc 1.36.0 | Bioconductor Package Maintainer | OK | OK | OK |
|
| E A B C D [E] F G H I J K L M N O P Q R S T U V W X Y Z |
| EasyqpcR 1.2.0 | Le Pape Sylvain | OK | OK | OK |
| easyRNASeq 1.4.2 | Nicolas Delhomme | OK | OK | OK |
| EBarrays 2.22.0 | Ming Yuan | OK | OK | OK |
| EBcoexpress 1.2.0 | John A. Dawson | OK | OK | OK |
| EBImage 4.0.0 | Gregoire Pau | OK | OK | OK |
| ecolitk 1.30.1 | Laurent Gautier | OK | OK | OK |
| EDASeq 1.4.0 | Davide Risso | OK | OK | OK |
| edgeR 3.0.8 | Mark Robinson , Davis McCarthy , Yunshun Chen , Gordon Smyth | OK | OK | OK |
| eisa 1.10.0 | Gabor Csardi | OK | OK | OK |
| ENVISIONQuery 1.6.0 | Alex Lisovich , Roger Day | OK | OK | OK |
| ExiMiR 2.0.0 | Sylvain Gubian | OK | OK | OK |
| exomeCopy 1.4.4 | Michael Love | OK | OK | OK |
| explorase 1.22.0 | Michael Lawrence | OK | OK | OK |
| ExpressionView 1.10.1 | Gabor Csardi | OK | OK | OK |
| externalVector 1.24.0 | Bioconductor Package Maintainer | OK | OK | OK |
|
| F A B C D E [F] G H I J K L M N O P Q R S T U V W X Y Z |
| fabia 2.4.0 | Sepp Hochreiter | OK | OK | OK |
| factDesign 1.34.1 | Denise Scholtens | OK | OK | OK |
| farms 1.10.0 | Djork-Arne Clevert | OK | OK | OK |
| fastseg 1.4.0 | Guenter Klambauer | OK | OK | OK |
| fdrame 1.30.0 | Effi Kenigsberg | OK | OK | OK |
| ffpe 1.2.0 | Levi Waldron | OK | OK | OK |
| flagme 1.14.0 | Mark Robinson | OK | OK | OK |
| flowClust 2.16.0 | Raphael Gottardo | OK | OK | OK |
| flowCore 1.24.2 | M.Jiang | OK | OK | OK |
| flowFlowJo 1.16.0 | John J. Gosink | OK | OK | OK |
| flowFP 1.16.0 | Herb Holyst | OK | OK | OK |
| flowMeans 1.10.0 | Nima Aghaeepour | OK | OK | OK |
| flowMerge 2.6.0 | Greg Finak | OK | OK | OK |
| flowPeaks 1.0.0 | Yongchao Ge | OK | OK | OK |
| flowPhyto 1.10.0 | David M. Schruth | OK | OK | OK |
| flowPlots 1.6.0 | N. Hawkins | OK | OK | OK |
| flowQ 1.18.0 | Mike Jiang | OK | OK | OK |
| flowQB 1.0.1 | Faysal El Khettabi | OK | OK | OK |
| flowStats 1.16.0 | Greg Finak and Mike Jiang | OK | OK | OK |
| flowTrans 1.10.0 | Greg Finak | OK | OK | OK |
| flowType 1.4.0 | Nima Aghaeepour | OK | OK | OK |
| flowUtils 1.18.0 | Nishant Gopalakrishnan | OK | OK | OK |
| flowViz 1.22.0 | Mike Jiang | OK | OK | OK |
| flowWorkspace 1.4.0 | Greg Finak | OK | OK | OK |
| fmcsR 1.0.5 | ChemmineR Team | OK | OK | OK |
| frma 1.10.0 | Matthew N. McCall | OK | OK | OK |
| frmaTools 1.10.0 | Matthew N. McCall | OK | OK | OK |
| FunciSNP 1.1.8 | Simon G. Coetzee | OK | WARNINGS | OK |
|
| G A B C D E F [G] H I J K L M N O P Q R S T U V W X Y Z |
| gaga 2.4.0 | David Rossell | OK | OK | OK |
| gage 2.8.0 | Weijun Luo | OK | OK | OK |
| gaggle 1.26.0 | Christopher Bare | OK | OK | OK |
| gaia 2.2.0 | S. Morganella | OK | OK | OK |
| gCMAP 1.1.7 | Thomas Sandmann | N O T S U P P O R T E D |
| gcrma 2.30.0 | Z. Wu | OK | WARNINGS | OK |
| genArise 1.34.0 | IFC Development Team | OK | OK | OK |
| gene2pathway 2.12.0 | Holger Froehlich | ERROR | skipped | skipped |
| GeneAnswers 1.16.0 | Gang Feng , Pan Du and Tian Xia | OK | OK | OK |
| GeneExpressionSignature 1.4.0 | Yang Cao | OK | OK | OK |
| genefilter 1.40.0 | Bioconductor Package Maintainer | OK | OK | OK |
| genefu 1.8.0 | Benjamin Haibe-Kains , Markus Schroeder | OK | OK | OK |
| GeneGA 1.8.0 | Zhenpeng Li | N O T S U P P O R T E D |
| GeneGroupAnalysis 1.4.0 | Alejandro Quiroz-Zarate | OK | OK | OK |
| GeneMeta 1.30.1 | Bioconductor Package Maintainer | OK | OK | OK |
| GeneNetworkBuilder 1.0.1 | Jianhong Ou | OK | OK | OK |
| geneplotter 1.36.0 | Bioconductor Package Maintainer | OK | OK | OK |
| geneRecommender 1.30.0 | Greg Hather | OK | OK | OK |
| GeneRegionScan 1.14.0 | Lasse Folkersen | OK | OK | OK |
| GeneSelectMMD 2.2.0 | Weiliang Qiu | OK | OK | OK |
| GeneSelector 2.8.0 | Martin Slawski | OK | OK | OK |
| GeneticsDesign 1.26.0 | The R Genetics Project | OK | OK | OK |
| GeneticsPed 1.20.0 | David Henderson | OK | OK | OK |
| genoCN 1.10.0 | Wei Sun | OK | OK | OK |
| GenomeGraphs 1.18.0 | Steffen Durinck | OK | OK | OK |
| genomeIntervals 1.14.0 | Julien Gagneur | OK | OK | OK |
| genomes 2.4.0 | Chris Stubben | OK | OK | OK |
| GenomicFeatures 1.10.2 | Bioconductor Package Maintainer | OK | OK | OK |
| GenomicRanges 1.10.7 | Bioconductor Package Maintainer | OK | WARNINGS | OK |
| Genominator 1.12.0 | James Bullard | OK | OK | OK |
| genoset 1.10.1 | Peter M. Haverty | OK | OK | OK |
| GEOmetadb 1.18.0 | Jack Zhu | OK | OK | OK |
| GEOquery 2.24.1 | Sean Davis | OK | OK | OK |
| GEOsubmission 1.10.0 | Alexandre Kuhn | OK | OK | OK |
| GEWIST 1.2.0 | Wei Q. Deng | OK | OK | OK |
| GGBase 3.20.0 | VJ Carey | OK | OK | OK |
| ggbio 1.6.6 | Tengfei Yin | OK | WARNINGS | OK |
| GGtools 4.6.2 | VJ Carey | OK | OK | OK |
| girafe 1.10.1 | J. Toedling | OK | WARNINGS | OK |
| GLAD 2.20.0 | Philippe Hupe | OK | OK | OK |
| GlobalAncova 3.26.0 | Manuela Hummel | OK | OK | OK |
| globaltest 5.12.0 | Jelle Goeman | OK | OK | OK |
| gmapR 1.0.0 | Cory Barr | N O T S U P P O R T E D |
| GOFunction 1.4.0 | Zheng Guo | OK | OK | OK |
| goProfiles 1.20.0 | Alex Sanchez | OK | OK | OK |
| GOSemSim 1.16.1 | Guangchuang Yu | OK | OK | OK |
| goseq 1.10.0 | Matthew Young , Nadia Davidson | OK | OK | OK |
| GOstats 2.24.0 | Bioconductor Package Maintainer | OK | OK | OK |
| goTools 1.32.0 | Agnes Paquet | OK | OK | OK |
| gpls 1.30.0 | Bioconductor Package Maintainer | OK | OK | OK |
| gprege 1.2.0 | Alfredo A. Kalaitzis | OK | OK | OK |
| graph 1.36.2 | Bioconductor Package Maintainer | OK | WARNINGS | OK |
| GraphAlignment 1.20.0 | Joern P. Meier | OK | OK | OK |
| GraphAT 1.30.0 | Thomas LaFramboise | OK | OK | OK |
| graphite 1.4.0 | Gabriele Sales | OK | OK | OK |
| GRENITS 1.10.0 | Edward Morrissey | OK | OK | OK |
| GSEABase 1.20.2 | Bioconductor Package Maintainer | OK | OK | OK |
| GSEAlm 1.18.0 | Assaf Oron | OK | OK | OK |
| GSRI 2.6.0 | Julian Gehring | OK | OK | OK |
| GSVA 1.6.6 | Justin Guinney | OK | OK | OK |
| Gviz 1.2.1 | Florian Hahne | OK | OK | OK |
| gwascat 1.2.1 | VJ Carey | OK | OK | OK |
| GWASTools 1.4.2 | Stephanie M. Gogarten | OK | OK | OK |
|
| H A B C D E F G [H] I J K L M N O P Q R S T U V W X Y Z |
| hapFabia 1.0.6 | Sepp Hochreiter | OK | OK | OK |
| Harshlight 1.30.0 | Maurizio Pellegrino | OK | OK | OK |
| Heatplus 2.4.0 | Alexander Ploner | OK | OK | OK |
| HELP 1.16.1 | Reid F. Thompson | OK | OK | OK |
| HEM 1.30.0 | HyungJun Cho | OK | OK | OK |
| HilbertVis 1.16.0 | Simon Anders | OK | OK | OK |
| HilbertVisGUI 1.16.0 | Simon Anders | OK | WARNINGS | OK |
| HiTC 1.2.0 | Nicolas Servant | OK | OK | OK |
| HMMcopy 1.0.0 | Daniel Lai , Gavin Ha , Sohrab Shah | OK | WARNINGS | OK |
| hopach 2.18.0 | Katherine S. Pollard | OK | OK | OK |
| hpar 1.0.1 | Laurent Gatto | OK | OK | OK |
| HTqPCR 1.12.0 | Heidi Dvinge | OK | OK | OK |
| HTSanalyzeR 2.10.0 | Xin Wang | OK | OK | OK |
| HTSeqGenie 1.0.0 | Gregoire Pau | N O T S U P P O R T E D |
| htSeqTools 1.4.0 | Oscar Reina | OK | WARNINGS | OK |
| HybridMTest 1.2.0 | Demba Fofana | OK | OK | OK |
| hyperdraw 1.10.0 | Paul Murrell | OK | OK | OK |
| hypergraph 1.30.0 | Bioconductor Package Maintainer | OK | OK | OK |
|
| I A B C D E F G H [I] J K L M N O P Q R S T U V W X Y Z |
| iASeq 1.2.0 | Yingying Wei | OK | OK | OK |
| iBBiG 1.2.0 | Aedin Culhane | OK | OK | OK |
| ibh 1.6.0 | Kircicegi Korkmaz | OK | OK | OK |
| Icens 1.30.0 | Bioconductor Package Maintainer | OK | OK | OK |
| iChip 1.12.0 | Qianxing Mo | OK | OK | OK |
| idiogram 1.34.0 | Karl J. Dykema | OK | OK | OK |
| IdMappingAnalysis 1.2.1 | Alex Lisovich , Roger Day | OK | OK | OK |
| IdMappingRetrieval 1.4.0 | Alex Lisovich , Roger Day | OK | OK | OK |
| iFlow 2.10.0 | Kyongryun Lee | N O T S U P P O R T E D |
| imageHTS 1.8.0 | Gregoire Pau | OK | OK | OK |
| impute 1.32.0 | Balasubramanian Narasimhan | OK | OK | OK |
| inSilicoDb 1.7.4 | Jonatan Taminau , David Steenhoff | OK | OK | OK |
| inSilicoMerging 1.2.3 | Jonatan Taminau , Stijn Meganck , Cosmin Lazar | OK | OK | OK |
| inveRsion 1.6.0 | Alejandro Caceres | OK | OK | OK |
| iontree 1.4.0 | Mingshu Cao | OK | OK | OK |
| iPAC 1.0.0 | Gregory Ryslik | OK | OK | OK |
| IPPD 1.6.0 | Martin Slawski | OK | OK | OK |
| IRanges 1.16.6 | Bioconductor Package Maintainer | OK | WARNINGS | OK |
| iSeq 1.10.0 | Qianxing Mo | OK | OK | OK |
| isobar 1.4.0 | Florian P Breitwieser | OK | OK | OK |
| IsoGeneGUI 1.14.0 | Setia Pramana | OK | OK | OK |
| ITALICS 2.18.0 | Guillem Rigaill | OK | OK | OK |
| iterativeBMA 1.16.0 | Ka Yee Yeung | OK | OK | OK |
| iterativeBMAsurv 1.16.0 | Ka Yee Yeung | OK | OK | OK |
|
| J A B C D E F G H I [J] K L M N O P Q R S T U V W X Y Z |
| joda 1.6.0 | Ewa Szczurek | OK | OK | OK |
|
| K A B C D E F G H I J [K] L M N O P Q R S T U V W X Y Z |
| KCsmart 2.16.0 | Jorma de Ronde | OK | OK | OK |
| KEGGgraph 1.14.0 | Jitao David Zhang | OK | OK | OK |
| keggorthology 2.10.0 | VJ Carey | OK | OK | OK |
| KEGGprofile 1.0.0 | Shilin Zhao | OK | OK | OK |
| KEGGSOAP 1.32.1 | Bioconductor Package Maintainer | OK | OK | OK |
|
| L A B C D E F G H I J K [L] M N O P Q R S T U V W X Y Z |
| lapmix 1.24.0 | Yann Ruffieux | OK | OK | OK |
| LBE 1.26.0 | Cyril Dalmasso | OK | OK | OK |
| les 1.8.0 | Julian Gehring | OK | OK | OK |
| limma 3.14.4 | Gordon Smyth | OK | WARNINGS | OK |
| limmaGUI 1.34.0 | Keith Satterley | OK | OK | OK |
| LiquidAssociation 1.12.0 | Yen-Yi Ho | OK | OK | OK |
| lmdme 1.0.0 | Cristobal Fresno | OK | OK | OK |
| LMGene 2.14.0 | Blythe Durbin-Johnson | OK | OK | OK |
| logicFS 1.28.1 | Holger Schwender | OK | OK | OK |
| logitT 1.16.0 | Tobias Guennel | OK | OK | OK |
| lol 1.6.0 | Yinyin Yuan | OK | OK | OK |
| LPE 1.32.0 | Nitin Jain | OK | OK | OK |
| LPEadj 1.18.0 | Carl Murie | OK | OK | OK |
| lumi 2.10.0 | Pan Du | OK | OK | OK |
| LVSmiRNA 1.8.0 | Stefano Calza | OK | WARNINGS | OK |
|
| M A B C D E F G H I J K L [M] N O P Q R S T U V W X Y Z |
| maanova 1.28.0 | Keith Sheppard | OK | WARNINGS | OK |
| macat 1.32.0 | Joern Toedling | OK | OK | OK |
| maCorrPlot 1.28.0 | Alexander Ploner | OK | OK | OK |
| maDB 1.30.0 | Johannes Rainer | N O T S U P P O R T E D |
| made4 1.32.0 | Aedin Culhane | OK | OK | OK |
| maigesPack 1.22.0 | Gustavo H. Esteves | OK | OK | OK |
| makecdfenv 1.36.0 | James W. MacDonald | OK | WARNINGS | OK |
| MANOR 1.30.0 | Pierre Neuvial | OK | OK | OK |
| manta 1.4.0 | David M. Schruth | OK | OK | OK |
| MantelCorr 1.28.0 | Brian Steinmeyer | OK | OK | OK |
| marray 1.36.0 | Yee Hwa (Jean) Yang | OK | OK | OK |
| maSigPro 1.30.0 | Maria Jose Nueda | OK | OK | OK |
| maskBAD 1.2.0 | Michael Dannemann | OK | OK | OK |
| MassArray 1.10.0 | Reid F. Thompson | OK | OK | OK |
| MassSpecWavelet 1.24.0 | Pan Du | OK | OK | OK |
| matchBox 1.0.0 | Luigi Marchionni | OK | OK | OK |
| MBCB 1.12.0 | Jeff Allen | OK | OK | OK |
| mBPCR 1.12.0 | P.M.V. Rancoita | OK | OK | OK |
| mcaGUI 1.6.0 | Wade K. Copeland | OK | OK | OK |
| MCRestimate 2.14.0 | Marc Johannes | OK | OK | OK |
| mdqc 1.20.0 | Gabriela Cohen-Freue | OK | OK | OK |
| MeasurementError.cor 1.30.0 | Beiying Ding | OK | OK | OK |
| MEDIPS 1.8.0 | Lukas Chavez | OK | OK | OK |
| MEDME 1.18.0 | Mattia Pelizzola | OK | OK | OK |
| MergeMaid 2.30.0 | Xiaogang Zhong | OK | OK | OK |
| metaArray 1.36.0 | Hyungwon Choi | OK | OK | OK |
| metahdep 1.16.0 | John R. Stevens | OK | OK | OK |
| methVisual 1.10.0 | Arie Zackay | OK | OK | OK |
| methyAnalysis 1.0.0 | Pan Du | OK | OK | OK |
| methylumi 2.4.0 | Sean Davis | OK | OK | OK |
| Mfuzz 2.16.1 | Matthias Futschik | OK | OK | OK |
| mgsa 1.6.0 | Sebastian Bauer | OK | OK | OK |
| MiChip 1.12.0 | Jonathon Blake | OK | OK | OK |
| microRNA 1.16.0 | "James F. Reid" | OK | OK | OK |
| minet 3.12.0 | Patrick E. Meyer | OK | OK | OK |
| minfi 1.4.0 | Kasper Daniel Hansen | OK | OK | OK |
| MinimumDistance 1.2.4 | Robert B Scharpf | OK | WARNINGS | OK |
| MiPP 1.30.0 | Sukwoo Kim | OK | OK | OK |
| MiRaGE 1.0.0 | Y-h. Taguchi | OK | OK | OK |
| miRNApath 1.18.0 | James M. Ward | OK | OK | OK |
| MLInterfaces 1.38.1 | V. Carey | OK | OK | OK |
| MLP 1.6.0 | Tobias Verbeke | OK | OK | OK |
| MmPalateMiRNA 1.6.0 | Guy Brock | OK | OK | OK |
| mosaics 1.6.0 | Dongjun Chung | OK | OK | OK |
| MotifDb 1.0.0 | Paul Shannon | OK | OK | OK |
| motifRG 1.2.0 | Zizhen Yao | OK | OK | OK |
| motifStack 1.0.4 | Jianhong Ou | OK | OK | OK |
| MotIV 1.14.0 | Eloi Mercier , Raphael Gottardo | OK | OK | OK |
| MSnbase 1.6.2 | Laurent Gatto | OK | OK | OK |
| Mulcom 1.8.0 | Claudio Isella | OK | OK | OK |
| multiscan 1.18.0 | Mizanur Khondoker | OK | OK | OK |
| multtest 2.14.0 | Katherine S. Pollard | OK | OK | OK |
| MVCClass 1.32.0 | Elizabeth Whalen | OK | OK | OK |
| mzR 1.4.6 | Bernd Fischer | OK | OK | OK |
|
| N A B C D E F G H I J K L M [N] O P Q R S T U V W X Y Z |
| NarrowPeaks 1.2.0 | Pedro Madrigal | OK | OK | OK |
| ncdfFlow 1.4.3 | M. Jiang | OK | ERROR | OK |
| NCIgraph 1.6.0 | Laurent Jacob | OK | OK | OK |
| nem 2.34.0 | Holger Froehlich | OK | OK | OK |
| netresponse 1.10.0 | Leo Lahti | OK | WARNINGS | OK |
| networkBMA 1.0.0 | Chris Fraley | OK | OK | OK |
| nnNorm 2.22.0 | Adi Laurentiu Tarca | OK | OK | OK |
| NOISeq 1.1.5 | Sonia Tarazona | OK | WARNINGS | OK |
| NormqPCR 1.4.0 | James Perkins | OK | OK | OK |
| NTW 1.8.0 | Yuanhua Liu | OK | OK | OK |
| nucleR 1.6.0 | Oscar Flores | OK | OK | OK |
| nudge 1.24.0 | N. Dean | OK | OK | OK |
| NuPoP 1.8.0 | Ji-Ping Wang | OK | OK | OK |
|
| O A B C D E F G H I J K L M N [O] P Q R S T U V W X Y Z |
| occugene 1.18.0 | Oliver Will | OK | OK | OK |
| OCplus 1.32.0 | Alexander Ploner | OK | OK | OK |
| oligo 1.22.0 | Benilton Carvalho | OK | WARNINGS | OK |
| oligoClasses 1.20.0 | Benilton Carvalho and Robert Scharpf | OK | OK | OK |
| OLIN 1.36.0 | Matthias Futschik | OK | WARNINGS | OK |
| OLINgui 1.32.1 | Matthias Futschik | OK | OK | OK |
| oneChannelGUI 1.24.0 | Raffaele A Calogero | OK | OK | OK |
| ontoCAT 1.10.0 | Natalja Kurbatova | OK | OK | OK |
| OrderedList 1.30.0 | Claudio Lottaz | OK | OK | OK |
| OrganismDbi 1.0.3 | Biocore Data Team | OK | OK | OK |
| OSAT 1.6.0 | Li Yan | OK | OK | OK |
| OTUbase 1.8.0 | Daniel Beck | OK | OK | OK |
| OutlierD 1.22.0 | Sukwoo Kim | OK | OK | OK |
|
| P A B C D E F G H I J K L M N O [P] Q R S T U V W X Y Z |
| PADOG 1.0.0 | Adi Laurentiu Tarca | OK | OK | OK |
| PAnnBuilder 1.22.0 | Li Hong | OK | OK | OK |
| panp 1.28.1 | Peter Warren | OK | OK | OK |
| PANR 1.4.0 | Xin Wang | OK | OK | OK |
| parody 1.16.0 | VJ Carey | OK | OK | OK |
| pathRender 1.26.0 | Li Long | OK | OK | OK |
| pcaGoPromoter 1.2.0 | Morten Hansen | OK | OK | OK |
| pcaMethods 1.48.0 | Henning Redestig | OK | OK | OK |
| pcot2 1.26.0 | Sarah Song | OK | OK | OK |
| PCpheno 1.20.0 | Nolwenn Le Meur | OK | OK | OK |
| pdInfoBuilder 1.22.0 | Benilton Carvalho | OK | WARNINGS | OK |
| pdmclass 1.30.0 | James W. MacDonald | OK | OK | OK |
| PGSEA 1.32.0 | Karl Dykema | OK | OK | OK |
| pgUtils 1.30.0 | Johannes Rainer | N O T S U P P O R T E D |
| phenoDist 1.6.0 | Xian Zhang | OK | OK | OK |
| phenoTest 1.6.0 | Evarist Planet | OK | OK | OK |
| phyloseq 1.2.1 | Paul J. McMurdie | OK | OK | OK |
| pickgene 1.30.0 | Brian S. Yandell | OK | OK | OK |
| PICS 2.2.0 | Renan Sauteraud | OK | OK | OK |
| PING 2.2.0 | Renan Sauteraud | OK | OK | OK |
| pint 1.10.0 | Olli-Pekka Huovilainen | OK | OK | OK |
| pkgDepTools 1.24.0 | Seth Falcon | OK | OK | OK |
| plateCore 1.16.0 | Errol Strain | OK | OK | OK |
| plgem 1.30.0 | Norman Pavelka | OK | OK | OK |
| plier 1.28.0 | Crispin Miller | OK | OK | OK |
| PLPE 1.18.0 | Soo-heang Eo | OK | OK | OK |
| plw 1.18.0 | Magnus Astrand | OK | OK | OK |
| ppiStats 1.24.0 | Tony Chiang | OK | OK | OK |
| prada 1.34.0 | Florian Hahne | OK | OK | OK |
| PREDA 1.4.0 | Francesco Ferrari | OK | OK | OK |
| predictionet 1.4.0 | Benjamin Haibe-Kains , Catharina Olsen | N O T S U P P O R T E D |
| preprocessCore 1.20.0 | Benjamin Milo Bolstad | OK | WARNINGS | OK |
| PROcess 1.34.0 | Xiaochun Li | OK | OK | OK |
| procoil 1.8.0 | Ulrich Bodenhofer | OK | OK | OK |
| PROMISE 1.10.0 | Stan Pounds , Xueyuan Cao | OK | OK | OK |
| puma 3.0.0 | Richard Pearson | OK | WARNINGS | OK |
| pvac 1.6.0 | Jun Lu , Pierre R. Bushel | OK | OK | OK |
| PWMEnrich 1.2.0 | Robert Stojnic | ERROR | skipped | skipped |
|
| Q A B C D E F G H I J K L M N O P [Q] R S T U V W X Y Z |
| qpcrNorm 1.16.0 | Jessica Mar | OK | OK | OK |
| qpgraph 1.14.4 | Robert Castelo | OK | OK | OK |
| qrqc 1.12.0 | Vince Buffalo | OK | OK | OK |
| QUALIFIER 1.2.0 | Mike Jiang | OK | OK | OK |
| quantsmooth 1.24.0 | Jan Oosting | OK | OK | OK |
| qvalue 1.32.0 | John D. Storey | OK | OK | OK |
|
| R A B C D E F G H I J K L M N O P Q [R] S T U V W X Y Z |
| r3Cseq 1.4.0 | Supat Thongjuea | OK | WARNINGS | OK |
| R453Plus1Toolbox 1.8.1 | Hans-Ulrich Klein | OK | OK | OK |
| rama 1.32.0 | Raphael Gottardo | OK | OK | OK |
| RamiGO 1.4.0 | Markus Schroeder | OK | OK | OK |
| randPack 1.4.0 | Robert Gentleman | OK | OK | OK |
| RankProd 2.30.0 | Fangxin Hong | OK | OK | OK |
| RbcBook1 1.26.0 | Vince Carey | OK | OK | OK |
| RBGL 1.34.0 | Bioconductor Package Maintainer | OK | OK | OK |
| RBioinf 1.18.1 | Robert Gentleman | OK | OK | OK |
| rbsurv 2.16.0 | Soo-heang Eo | OK | OK | OK |
| Rcade 1.0.0 | Jonathan Cairns | OK | OK | OK |
| RCASPAR 1.4.0 | Douaa Mugahid , Lars Kaderali | OK | OK | OK |
| RchyOptimyx 1.2.0 | Adrin Jalali , Nima Aghaeepour | OK | OK | OK |
| RCytoscape 1.8.2 | Paul Shannon | OK | OK | OK |
| Rdisop 1.18.0 | Steffen Neumann | OK | OK | OK |
| RDRToolbox 1.8.0 | Christoph Bartenhagen | OK | OK | OK |
| ReactomePA 1.2.1 | Guangchuang Yu | OK | OK | OK |
| ReadqPCR 1.4.0 | James Perkins | OK | OK | OK |
| reb 1.36.0 | Karl J. Dykema | OK | OK | OK |
| RedeR 1.6.1 | Mauro Castro | OK | OK | OK |
| REDseq 1.4.0 | Lihua Julie Zhu | OK | OK | OK |
| RefPlus 1.28.0 | Kai-Ming Chang | OK | OK | OK |
| Repitools 1.4.2 | Mark Robinson | OK | OK | OK |
| ReportingTools 1.0.0 | Jason A. Hackney | OK | OK | OK |
| ReQON 1.4.0 | Christopher Cabanski | OK | OK | OK |
| Resourcerer 1.32.0 | Jianhua Zhang | OK | OK | OK |
| rGADEM 2.6.0 | Arnaud Droit | OK | OK | OK |
| RGalaxy 1.0.0 | Bioconductor Package Maintainer | OK | OK | OK |
| Rgraphviz 2.2.1 | Kasper Daniel Hansen | OK | WARNINGS | OK |
| rhdf5 2.2.0 | Bernd Fischer | OK | OK | OK |
| rHVDM 1.24.0 | Martino Barenco | OK | OK | OK |
| Ringo 1.22.0 | J. Toedling | OK | WARNINGS | OK |
| Risa 1.0.0 | Alejandra Gonzalez-Beltran, ISA Team | OK | OK | OK |
| RLMM 1.20.0 | Nusrat Rabbee | OK | OK | OK |
| Rmagpie 1.14.0 | Camille Maumet | OK | OK | OK |
| RMAPPER 1.8.0 | Heike Sichtig , Alberto Riva | OK | OK | OK |
| RMassBank 1.0.0 | Michael Stravs, Emma Schymanski | ERROR | skipped | skipped |
| rMAT 3.8.0 | Arnaud Droit and Raphael Gottardo | ERROR | skipped | skipped |
| RmiR 1.14.0 | Francesco Favero | OK | OK | OK |
| RNAinteract 1.6.0 | Bernd Fischer | OK | OK | OK |
| RNAither 2.6.0 | Nora Rieber | OK | OK | OK |
| rnaSeqMap 2.12.0 | Michal Okoniewski | N O T S U P P O R T E D |
| ROC 1.34.0 | Vince Carey | OK | OK | OK |
| Rolexa 1.14.0 | Jacques Rougemont | OK | OK | OK |
| rols 1.0.2 | Laurent Gatto | OK | OK | OK |
| RPA 1.14.0 | Leo Lahti | OK | OK | OK |
| RpsiXML 1.18.1 | Jitao David Zhang | OK | OK | OK |
| rqubic 1.4.0 | Jitao David Zhang | OK | OK | OK |
| Rsamtools 1.10.2 | Bioconductor Package Maintainer | OK | OK | OK |
| rsbml 2.16.0 | Michael Lawrence | OK | OK | OK |
| rSFFreader 0.6.0 | Matt Settles | N O T S U P P O R T E D |
| Rsubread 1.8.2 | Wei Shi | N O T S U P P O R T E D |
| RTCA 1.10.0 | Jitao David Zhang | OK | OK | OK |
| RTopper 1.4.1 | Luigi Marchionni | OK | OK | OK |
| rtracklayer 1.18.2 | Michael Lawrence | OK | OK | OK |
| Rtreemix 1.20.0 | Jasmina Bogojeska | OK | WARNINGS | OK |
| RWebServices 1.22.0 | Martin Morgan | N O T S U P P O R T E D |
|
| S A B C D E F G H I J K L M N O P Q R [S] T U V W X Y Z |
| safe 2.18.0 | William T. Barry | OK | OK | OK |
| sagenhaft 1.28.0 | Tim Beissbarth | OK | OK | OK |
| SAGx 1.32.0 | Per Broberg, | OK | OK | OK |
| SamSPECTRAL 1.12.0 | Habil Zare | OK | WARNINGS | OK |
| SBMLR 1.54.0 | Tomas Radivoyevitch | OK | OK | OK |
| SCAN.UPC 1.0.0 | Stephen R. Piccolo | OK | OK | OK |
| ScISI 1.30.0 | Tony Chiang | OK | OK | OK |
| segmentSeq 1.10.1 | Thomas J. Hardcastle | OK | OK | OK |
| seqbias 1.6.0 | Daniel Jones | OK | OK | OK |
| seqLogo 1.24.0 | Oliver Bembom | OK | OK | OK |
| ShortRead 1.16.4 | Bioconductor Package Maintainer | OK | OK | OK |
| sigaR 1.2.1 | Wessel N. van Wieringen | OK | OK | OK |
| siggenes 1.32.0 | Holger Schwender | OK | OK | OK |
| sigPathway 1.26.0 | Weil Lai | OK | OK | OK |
| SIM 1.28.2 | Renee X. de Menezes | OK | OK | OK |
| simpleaffy 2.34.0 | Crispin Miller | OK | OK | OK |
| sizepower 1.28.0 | Weiliang Qiu | OK | OK | OK |
| SJava 0.84.0 | Martin Morgan | N O T S U P P O R T E D |
| SLGI 1.18.0 | Nolwenn Le Meur | OK | OK | OK |
| SLqPCR 1.24.0 | Matthias Kohl | OK | OK | OK |
| SMAP 1.22.0 | Robin Andersson | OK | OK | OK |
| snapCGH 1.28.0 | John Marioni | OK | OK | OK |
| snm 1.6.0 | Brig Mecham | OK | OK | OK |
| SNPchip 2.4.0 | Robert Scharpf | OK | OK | OK |
| snpStats 1.8.2 | David Clayton | OK | OK | OK |
| spade 1.6.0 | Michael Linderman | OK | OK | OK |
| SpeCond 1.12.0 | Florence Cavalli | OK | OK | OK |
| SPIA 2.8.0 | Adi Laurentiu Tarca | OK | OK | OK |
| spikeLI 2.18.0 | Enrico Carlon | OK | WARNINGS | OK |
| spkTools 1.14.0 | Matthew N McCall | OK | OK | OK |
| splicegear 1.30.0 | Laurent Gautier | OK | OK | OK |
| splots 1.24.0 | Wolfgang Huber | OK | OK | OK |
| spotSegmentation 1.32.0 | Chris Fraley | OK | OK | OK |
| SQUADD 1.8.0 | Martial Sankar | OK | OK | OK |
| SRAdb 1.12.1 | Jack Zhu | OK | OK | OK |
| sscore 1.30.0 | Richard Kennedy | OK | OK | OK |
| ssize 1.32.0 | Gregory R. Warnes | OK | OK | OK |
| SSPA 1.14.2 | Maarten van Iterson | OK | OK | OK |
| staRank 1.0.0 | Juliane Siebourg | OK | OK | OK |
| Starr 1.14.1 | Benedikt Zacher | OK | OK | OK |
| stepNorm 1.30.0 | Yuanyuan Xiao | OK | OK | OK |
| stepwiseCM 1.4.0 | Askar Obulkasim | OK | OK | OK |
| Streamer 1.4.0 | Martin Morgan | OK | OK | OK |
| survcomp 1.8.1 | Benjamin Haibe-Kains , Markus Schroeder , Catharina Olsen | OK | OK | OK |
| sva 3.4.0 | Jeffrey T. Leek | OK | OK | OK |
| synapter 1.0.1 | Laurent Gatto | OK | OK | OK |
|
| T A B C D E F G H I J K L M N O P Q R S [T] U V W X Y Z |
| TargetSearch 1.14.1 | Alvaro Cuadros-Inostroza | OK | OK | OK |
| TDARACNE 1.8.0 | Zoppoli Pietro | OK | OK | OK |
| TEQC 2.6.0 | Manuela Hummel | OK | OK | OK |
| ternarynet 1.2.0 | Matthew N. McCall | OK | OK | OK |
| tigre 1.12.0 | Antti Honkela | OK | OK | OK |
| tilingArray 1.36.0 | Zhenyu Xu | OK | OK | OK |
| timecourse 1.30.0 | Yu Chuan Tai | OK | OK | OK |
| tkWidgets 1.36.0 | J. Zhang | OK | OK | OK |
| topGO 2.10.0 | Adrian Alexa | OK | OK | OK |
| TransView 1.0.7 | Julius Muller | OK | OK | OK |
| triform 1.0.0 | Tony HÃ¥ndstad Developer | OK | OK | OK |
| trigger 1.4.0 | John D. Storey | OK | OK | OK |
| tspair 1.16.0 | Jeffrey T. Leek | OK | OK | OK |
| TSSi 1.4.0 | Julian Gehring | OK | OK | OK |
| TurboNorm 1.6.2 | Maarten van Iterson | OK | OK | OK |
| tweeDEseq 1.4.1 | Juan R Gonzalez | OK | OK | OK |
| twilight 1.34.0 | Stefanie Scheid | OK | OK | OK |
| TypeInfo 1.24.0 | Duncan Temple Lang | OK | OK | OK |
|
| V A B C D E F G H I J K L M N O P Q R S T U [V] W X Y Z |
| VanillaICE 1.20.3 | Robert Scharpf | OK | WARNINGS | OK |
| VariantAnnotation 1.4.12 | Valerie Obenchain | OK | OK | OK |
| VariantTools 1.0.1 | Michael Lawrence | N O T S U P P O R T E D |
| vbmp 1.26.0 | Nicola Lama | OK | OK | OK |
| Vega 1.6.0 | Sandro Morganella | OK | OK | OK |
| VegaMC 2.2.0 | Sandro Morganella | OK | OK | OK |
| virtualArray 1.2.1 | Andreas Heider | OK | OK | OK |
| vsn 3.26.0 | Wolfgang Huber | OK | OK | OK |
|
| W A B C D E F G H I J K L M N O P Q R S T U V [W] X Y Z |
| waveTiling 1.0.0 | Kristof De Beuf | OK | OK | OK |
| weaver 1.24.0 | Seth Falcon | OK | OK | OK |
| webbioc 1.30.0 | Colin A. Smith | OK | OK | OK |
| widgetTools 1.36.0 | Jianhua Zhang | OK | OK | OK |
|
| X A B C D E F G H I J K L M N O P Q R S T U V W [X] Y Z |
| xcms 1.34.0 | Ralf Tautenhahn | OK | OK | OK |
| XDE 2.4.1 | Robert Scharpf | OK | OK | OK |
| xmapbridge 1.16.0 | Tim Yates | OK | OK | OK |
| xmapcore 1.12.0 | Tim Yates | N O T S U P P O R T E D |
| xps 1.18.1 | Christian Stratowa | N O T S U P P O R T E D |
|
| Y A B C D E F G H I J K L M N O P Q R S T U V W X [Y] Z |
| yaqcaffy 1.18.0 | Laurent Gatto | OK | OK | OK |
|
| Z A B C D E F G H I J K L M N O P Q R S T U V W X Y [Z] |
| zlibbioc 1.4.0 | Bioconductor Package Maintainer | OK | OK | OK |