| EBcoexpress 1.2.0 John A. Dawson
 
 | Snapshot Date: 2013-03-24 16:21:20 -0700 (Sun, 24 Mar 2013) |  | URL: https://hedgehog.fhcrc.org/bioconductor/branches/RELEASE_2_11/madman/Rpacks/EBcoexpress |  | Last Changed Rev: 70050 / Revision: 74773 |  | Last Changed Date: 2012-10-01 15:16:24 -0700 (Mon, 01 Oct 2012) | 
 | lamb1 | Linux (openSUSE 12.1) / x86_64 | ERROR | skipped |  | 
| moscato1 | Windows Server 2008 R2 Enterprise SP1 (64-bit) / x64 | OK | OK | [ OK ] | 
| perceval | Mac OS X Leopard (10.5.8) / i386 | OK | OK | OK | 
install for i386
* installing *source* package 'EBcoexpress' ...
** libs
gcc -m32 -I"D:/biocbld/BBS-2˜1.11-/R/include" -DNDEBUG     -I"d:/RCompile/CRANpkg/extralibs64/local/include"     -O3 -Wall  -std=gnu99 -mtune=core2 -c EBcoexpress.c -o EBcoexpress.o
EBcoexpress.c: In function 'bwmcCworker':
EBcoexpress.c:74:7: warning: suggest parentheses around comparison in operand of '|' [-Wparentheses]
gcc -m32 -shared -s -static-libgcc -o EBcoexpress.dll tmp.def EBcoexpress.o -Ld:/RCompile/CRANpkg/extralibs64/local/lib/i386 -Ld:/RCompile/CRANpkg/extralibs64/local/lib -LD:/biocbld/BBS-2˜1.11-/R/bin/i386 -lR
installing to D:/biocbld/bbs-2.11-bioc/meat/EBcoexpress.buildbin-libdir/EBcoexpress/libs/i386
** R
** data
** demo
** inst
** preparing package for lazy loading
** help
*** installing help indices
** building package indices
** installing vignettes
   'EBcoexpressVignette.Rnw' 
** testing if installed package can be loaded
install for x64
* installing *source* package 'EBcoexpress' ...
** libs
gcc -m64 -I"D:/biocbld/BBS-2˜1.11-/R/include" -DNDEBUG     -I"d:/RCompile/CRANpkg/extralibs64/local/include"     -O2 -Wall  -std=gnu99 -mtune=core2 -c EBcoexpress.c -o EBcoexpress.o
EBcoexpress.c: In function 'bwmcCworker':
EBcoexpress.c:74:7: warning: suggest parentheses around comparison in operand of '|' [-Wparentheses]
gcc -m64 -shared -s -static-libgcc -o EBcoexpress.dll tmp.def EBcoexpress.o -Ld:/RCompile/CRANpkg/extralibs64/local/lib/x64 -Ld:/RCompile/CRANpkg/extralibs64/local/lib -LD:/biocbld/BBS-2˜1.11-/R/bin/x64 -lR
installing to D:/biocbld/bbs-2.11-bioc/meat/EBcoexpress.buildbin-libdir/EBcoexpress/libs/x64
** testing if installed package can be loaded
* MD5 sums
packaged installation of 'EBcoexpress' as EBcoexpress_1.2.0.zip
* DONE (EBcoexpress)