GenomicFeatures 1.10.2 Bioconductor Package Maintainer
 | Snapshot Date: 2013-03-24 16:21:20 -0700 (Sun, 24 Mar 2013) |  | URL: https://hedgehog.fhcrc.org/bioconductor/branches/RELEASE_2_11/madman/Rpacks/GenomicFeatures |  | Last Changed Rev: 73739 / Revision: 74773 |  | Last Changed Date: 2013-02-25 13:12:15 -0800 (Mon, 25 Feb 2013) |  
  | lamb1  | Linux (openSUSE 12.1) / x86_64  |  OK  |  OK  |  | 
| moscato1  | Windows Server 2008 R2 Enterprise SP1 (64-bit) / x64  |  OK  | [ OK ] |  OK  | 
| perceval  | Mac OS X Leopard (10.5.8) / i386  |  OK  |  OK  |  OK  | 
* using log directory 'D:/biocbld/bbs-2.11-bioc/meat/GenomicFeatures.Rcheck'
* using R version 2.15.3 (2013-03-01)
* using platform: i386-w64-mingw32 (32-bit)
* using session charset: ISO8859-1
* using option '--no-vignettes'
* checking for file 'GenomicFeatures/DESCRIPTION' ... OK
* this is package 'GenomicFeatures' version '1.10.2'
* checking package namespace information ... OK
* checking package dependencies ... OK
* checking if this is a source package ... OK
* checking if there is a namespace ... OK
* checking whether package 'GenomicFeatures' can be installed ... OK
* checking installed package size ... OK
* checking package directory ... OK
* checking for portable file names ... OK
* checking DESCRIPTION meta-information ... OK
* checking top-level files ... OK
* checking for left-over files ... OK
* checking index information ... OK
* checking package subdirectories ... OK
* checking R files for non-ASCII characters ... OK
* checking R files for syntax errors ... OK
* loading checks for arch 'i386'
** checking whether the package can be loaded ... OK
** checking whether the package can be loaded with stated dependencies ... OK
** checking whether the package can be unloaded cleanly ... OK
** checking whether the namespace can be loaded with stated dependencies ... OK
** checking whether the namespace can be unloaded cleanly ... OK
* loading checks for arch 'x64'
** checking whether the package can be loaded ... OK
** checking whether the package can be loaded with stated dependencies ... OK
** checking whether the package can be unloaded cleanly ... OK
** checking whether the namespace can be loaded with stated dependencies ... OK
** checking whether the namespace can be unloaded cleanly ... OK
* checking for unstated dependencies in R code ... OK
* checking S3 generic/method consistency ... OK
* checking replacement functions ... OK
* checking foreign function calls ... OK
* checking R code for possible problems ... NOTE
.setseqnameStyle: no visible binding for global variable 'txdb'
* checking Rd files ... OK
* checking Rd metadata ... OK
* checking Rd cross-references ... OK
* checking for missing documentation entries ... OK
* checking for code/documentation mismatches ... OK
* checking Rd \usage sections ... OK
* checking Rd contents ... OK
* checking for unstated dependencies in examples ... OK
* checking installed files from 'inst/doc' ... OK
* checking examples ...
** running examples for arch 'i386' ... OK
Examples with CPU or elapsed time > 5s
                               user system elapsed
extractTranscriptsFromGenome 101.18   5.89  110.08
makeFeatureDbFromUCSC          6.83   0.19   22.36
makeTranscriptDbFromUCSC       3.32   0.09   12.37
makeTranscriptDbFromBiomart    2.14   0.03   24.41
** running examples for arch 'x64' ... OK
Examples with CPU or elapsed time > 5s
                              user system elapsed
extractTranscriptsFromGenome 93.69   5.98   99.68
makeFeatureDbFromUCSC         7.62   0.23   23.07
makeTranscriptDbFromUCSC      3.64   0.01   10.66
makeTranscriptDbFromBiomart   2.45   0.07   24.31
* checking for unstated dependencies in tests ... OK
* checking tests ...
** running tests for arch 'i386'
  Running 'GenomicFeatures_unit_tests.R'
 OK
** running tests for arch 'x64'
  Running 'GenomicFeatures_unit_tests.R'
 OK
* checking for unstated dependencies in vignettes ... OK
* checking package vignettes in 'inst/doc' ... OK
* checking running R code from vignettes ... SKIPPED
* checking re-building of vignettes ... SKIPPED
* checking PDF version of manual ... OK
NOTE: There was 1 note.
See
  'D:/biocbld/bbs-2.11-bioc/meat/GenomicFeatures.Rcheck/00check.log'
for details.
 
install for i386
* installing *source* package 'GenomicFeatures' ...
** R
** inst
** preparing package for lazy loading
** help
*** installing help indices
** building package indices
** installing vignettes
   'GenomicFeatures.Rnw' 
** testing if installed package can be loaded
install for x64
* installing *source* package 'GenomicFeatures' ...
** testing if installed package can be loaded
* MD5 sums
packaged installation of 'GenomicFeatures' as GenomicFeatures_1.10.2.zip
* DONE (GenomicFeatures)