RefPlus 1.28.0 Kai-Ming Chang
 | Snapshot Date: 2013-03-24 16:21:20 -0700 (Sun, 24 Mar 2013) |  | URL: https://hedgehog.fhcrc.org/bioconductor/branches/RELEASE_2_11/madman/Rpacks/RefPlus |  | Last Changed Rev: 70050 / Revision: 74773 |  | Last Changed Date: 2012-10-01 15:16:24 -0700 (Mon, 01 Oct 2012) |  
  | lamb1  | Linux (openSUSE 12.1) / x86_64  |  OK  |  OK  |  | 
| moscato1  | Windows Server 2008 R2 Enterprise SP1 (64-bit) / x64  |  OK  | [ OK ] |  OK  | 
| perceval  | Mac OS X Leopard (10.5.8) / i386  |  OK  |  OK  |  OK  | 
* using log directory 'D:/biocbld/bbs-2.11-bioc/meat/RefPlus.Rcheck'
* using R version 2.15.3 (2013-03-01)
* using platform: i386-w64-mingw32 (32-bit)
* using session charset: ISO8859-1
* using option '--no-vignettes'
* checking for file 'RefPlus/DESCRIPTION' ... OK
* checking extension type ... Package
* this is package 'RefPlus' version '1.28.0'
* checking package namespace information ... OK
* checking package dependencies ... OK
* checking if this is a source package ... OK
* checking if there is a namespace ... OK
* checking whether package 'RefPlus' can be installed ... OK
* checking installed package size ... OK
* checking package directory ... OK
* checking for portable file names ... OK
* checking DESCRIPTION meta-information ... OK
* checking top-level files ... OK
* checking for left-over files ... OK
* checking index information ... OK
* checking package subdirectories ... OK
* checking R files for non-ASCII characters ... OK
* checking R files for syntax errors ... OK
* loading checks for arch 'i386'
** checking whether the package can be loaded ... OK
** checking whether the package can be loaded with stated dependencies ... OK
** checking whether the package can be unloaded cleanly ... OK
** checking whether the namespace can be loaded with stated dependencies ... OK
** checking whether the namespace can be unloaded cleanly ... OK
* loading checks for arch 'x64'
** checking whether the package can be loaded ... OK
** checking whether the package can be loaded with stated dependencies ... OK
** checking whether the package can be unloaded cleanly ... OK
** checking whether the namespace can be loaded with stated dependencies ... OK
** checking whether the namespace can be unloaded cleanly ... OK
* checking for unstated dependencies in R code ... OK
* checking S3 generic/method consistency ... OK
* checking replacement functions ... OK
* checking foreign function calls ... OK
* checking R code for possible problems ... OK
* checking Rd files ... NOTE
prepare_Rd: colMedians.Rd:19: Dropping empty section \references
prepare_Rd: rmaref.predict.Rd:29-30: Dropping empty section \examples
* checking Rd metadata ... OK
* checking Rd cross-references ... OK
* checking for missing documentation entries ... OK
* checking for code/documentation mismatches ... OK
* checking Rd \usage sections ... OK
* checking Rd contents ... OK
* checking for unstated dependencies in examples ... OK
* checking installed files from 'inst/doc' ... OK
* checking examples ...
** running examples for arch 'i386' ... OK
Examples with CPU or elapsed time > 5s
                 user system elapsed
RefPlus-package 23.03   0.70   23.79
rmaplus         16.05   0.46   16.51
rma.para        10.15   0.36   10.60
** running examples for arch 'x64' ... OK
Examples with CPU or elapsed time > 5s
                 user system elapsed
RefPlus-package 22.60   0.75   23.39
rmaplus         19.76   0.41   20.19
rma.para         9.80   0.24   10.04
* checking for unstated dependencies in vignettes ... OK
* checking package vignettes in 'inst/doc' ... OK
* checking running R code from vignettes ... SKIPPED
* checking re-building of vignettes ... SKIPPED
* checking PDF version of manual ... OK
NOTE: There was 1 note.
See
  'D:/biocbld/bbs-2.11-bioc/meat/RefPlus.Rcheck/00check.log'
for details.
 
install for i386
* installing *source* package 'RefPlus' ...
** R
** inst
** preparing package for lazy loading
** help
*** installing help indices
** building package indices
** installing vignettes
   'RefPlus.Rnw' 
** testing if installed package can be loaded
install for x64
* installing *source* package 'RefPlus' ...
** testing if installed package can be loaded
* MD5 sums
packaged installation of 'RefPlus' as RefPlus_1.28.0.zip
* DONE (RefPlus)