| Back to the "Multiple platform build/check report" | A [B] C D E F G H I J K L M N O P Q R S T U V W X Y Z |
| Package 69/609 | Hostname | OS / Arch | BUILD | CHECK | BUILD BIN | ||||
| BiocInstaller 1.8.3 Bioconductor Package Maintainer
| lamb1 | Linux (openSUSE 12.1) / x86_64 | OK | OK | |||||
| moscato1 | Windows Server 2008 R2 Enterprise SP1 (64-bit) / x64 | [ OK ] | OK | OK | |||||
| perceval | Mac OS X Leopard (10.5.8) / i386 | OK | OK | OK |
| Package: BiocInstaller |
| Version: 1.8.3 |
| Command: chmod a+r BiocInstaller -R && D:\biocbld\bbs-2.11-bioc\R\bin\R.exe CMD build --keep-empty-dirs --no-resave-data BiocInstaller |
| StartedAt: 2013-03-24 22:51:14 -0700 (Sun, 24 Mar 2013) |
| EndedAt: 2013-03-24 22:51:24 -0700 (Sun, 24 Mar 2013) |
| EllapsedTime: 9.7 seconds |
| RetCode: 0 |
| Status: OK |
| PackageFile: BiocInstaller_1.8.3.tar.gz |
| PackageFileSize: 11.59 KiB |
* checking for file 'BiocInstaller/DESCRIPTION' ... OK * preparing 'BiocInstaller': * checking DESCRIPTION meta-information ... OK * checking for LF line-endings in source and make files * checking for empty or unneeded directories * building 'BiocInstaller_1.8.3.tar.gz'