RchyOptimyx 1.2.0 Adrin Jalali , Nima Aghaeepour
Snapshot Date: 2013-03-24 16:21:20 -0700 (Sun, 24 Mar 2013) | URL: https://hedgehog.fhcrc.org/bioconductor/branches/RELEASE_2_11/madman/Rpacks/RchyOptimyx | Last Changed Rev: 70050 / Revision: 74773 | Last Changed Date: 2012-10-01 15:16:24 -0700 (Mon, 01 Oct 2012) |
| lamb1 | Linux (openSUSE 12.1) / x86_64 | OK | OK | |
moscato1 | Windows Server 2008 R2 Enterprise SP1 (64-bit) / x64 | OK | OK | [ OK ] |
perceval | Mac OS X Leopard (10.5.8) / i386 | OK | OK | OK |
install for i386
* installing *source* package 'RchyOptimyx' ...
** libs
g++ -m32 -I"D:/biocbld/BBS-2˜1.11-/R/include" -DNDEBUG -I"d:/RCompile/CRANpkg/extralibs64/local/include" -O2 -Wall -mtune=core2 -c RchyOptimyx.cpp -o RchyOptimyx.o
g++ -m32 -I"D:/biocbld/BBS-2˜1.11-/R/include" -DNDEBUG -I"d:/RCompile/CRANpkg/extralibs64/local/include" -O2 -Wall -mtune=core2 -c dataRead.cpp -o dataRead.o
dataRead.cpp: In function 'void readPvals(const char*, const char*, double*, int*, char**, int&, char**)':
dataRead.cpp:52:8: warning: variable 'ltmp' set but not used [-Wunused-but-set-variable]
g++ -m32 -I"D:/biocbld/BBS-2˜1.11-/R/include" -DNDEBUG -I"d:/RCompile/CRANpkg/extralibs64/local/include" -O2 -Wall -mtune=core2 -c mystring.cpp -o mystring.o
g++ -m32 -I"D:/biocbld/BBS-2˜1.11-/R/include" -DNDEBUG -I"d:/RCompile/CRANpkg/extralibs64/local/include" -O2 -Wall -mtune=core2 -c numberGenerator.cpp -o numberGenerator.o
g++ -m32 -shared -s -static-libgcc -o RchyOptimyx.dll tmp.def RchyOptimyx.o dataRead.o mystring.o numberGenerator.o -Ld:/RCompile/CRANpkg/extralibs64/local/lib/i386 -Ld:/RCompile/CRANpkg/extralibs64/local/lib -LD:/biocbld/BBS-2˜1.11-/R/bin/i386 -lR
installing to D:/biocbld/bbs-2.11-bioc/meat/RchyOptimyx.buildbin-libdir/RchyOptimyx/libs/i386
** R
** data
** inst
** preparing package for lazy loading
Creating a generic function for 'summary' from package 'base' in package 'RchyOptimyx'
Creating a new generic function for 'merge' in package 'RchyOptimyx'
** help
*** installing help indices
** building package indices
** installing vignettes
'RchyOptimyx.Rnw'
** testing if installed package can be loaded
install for x64
* installing *source* package 'RchyOptimyx' ...
** libs
g++ -m64 -I"D:/biocbld/BBS-2˜1.11-/R/include" -DNDEBUG -I"d:/RCompile/CRANpkg/extralibs64/local/include" -O2 -Wall -mtune=core2 -c RchyOptimyx.cpp -o RchyOptimyx.o
g++ -m64 -I"D:/biocbld/BBS-2˜1.11-/R/include" -DNDEBUG -I"d:/RCompile/CRANpkg/extralibs64/local/include" -O2 -Wall -mtune=core2 -c dataRead.cpp -o dataRead.o
dataRead.cpp: In function 'void readPvals(const char*, const char*, double*, int*, char**, int&, char**)':
dataRead.cpp:52:8: warning: variable 'ltmp' set but not used [-Wunused-but-set-variable]
g++ -m64 -I"D:/biocbld/BBS-2˜1.11-/R/include" -DNDEBUG -I"d:/RCompile/CRANpkg/extralibs64/local/include" -O2 -Wall -mtune=core2 -c mystring.cpp -o mystring.o
g++ -m64 -I"D:/biocbld/BBS-2˜1.11-/R/include" -DNDEBUG -I"d:/RCompile/CRANpkg/extralibs64/local/include" -O2 -Wall -mtune=core2 -c numberGenerator.cpp -o numberGenerator.o
g++ -m64 -shared -s -static-libgcc -o RchyOptimyx.dll tmp.def RchyOptimyx.o dataRead.o mystring.o numberGenerator.o -Ld:/RCompile/CRANpkg/extralibs64/local/lib/x64 -Ld:/RCompile/CRANpkg/extralibs64/local/lib -LD:/biocbld/BBS-2˜1.11-/R/bin/x64 -lR
installing to D:/biocbld/bbs-2.11-bioc/meat/RchyOptimyx.buildbin-libdir/RchyOptimyx/libs/x64
** testing if installed package can be loaded
* MD5 sums
packaged installation of 'RchyOptimyx' as RchyOptimyx_1.2.0.zip
* DONE (RchyOptimyx)