| a4 1.6.1 Tobias Verbeke
 
 | Snapshot Date: 2013-03-24 16:21:20 -0700 (Sun, 24 Mar 2013) |  | URL: https://hedgehog.fhcrc.org/bioconductor/branches/RELEASE_2_11/madman/Rpacks/a4 |  | Last Changed Rev: 70286 / Revision: 74773 |  | Last Changed Date: 2012-10-08 13:36:40 -0700 (Mon, 08 Oct 2012) | 
 | lamb1 | Linux (openSUSE 12.1) / x86_64 | OK | OK |  | 
| moscato1 | Windows Server 2008 R2 Enterprise SP1 (64-bit) / x64 | OK | OK | [ OK ] | 
| perceval | Mac OS X Leopard (10.5.8) / i386 | OK | OK | OK | 
install for i386
* installing *source* package 'a4' ...
** R
** inst
** preparing package for lazy loading
** help
No man pages found in package  'a4' 
*** installing help indices
** building package indices
** installing vignettes
   'a4vignette.Rnw' 
** testing if installed package can be loaded
install for x64
* installing *source* package 'a4' ...
** testing if installed package can be loaded
* MD5 sums
packaged installation of 'a4' as a4_1.6.1.zip
* DONE (a4)