Back to Multiple platform build/check report for BioC 3.22:   simplified   long
[A]BCDEFGHIJKLMNOPQRSTUVWXYZ

This page was generated on 2025-11-05 12:39 -0500 (Wed, 05 Nov 2025).

HostnameOSArch (*)R versionInstalled pkgs
nebbiolo2Linux (Ubuntu 24.04.3 LTS)x86_644.5.1 Patched (2025-08-23 r88802) -- "Great Square Root" 4902
kjohnson3macOS 13.7.7 Venturaarm644.5.1 Patched (2025-09-10 r88807) -- "Great Square Root" 4638
Click on any hostname to see more info about the system (e.g. compilers)      (*) as reported by 'uname -p', except on Windows and Mac OS X

All results for package AnnotationDbi


To the developers/maintainers of the AnnotationDbi package:
- Allow up to 24 hours (and sometimes 48 hours) for your latest push to git@git.bioconductor.org:packages/AnnotationDbi.git to reflect on this report. See Troubleshooting Build Report for more information.
- Use the following Renviron settings to reproduce errors and warnings.
- If 'R CMD check' started to fail recently on the Linux builder(s) over a missing dependency, add the missing dependency to 'Suggests:' in your DESCRIPTION file. See Renviron.bioc for more information.

raw results

Package 74/2361HostnameOS / ArchINSTALLBUILDCHECKBUILD BIN
AnnotationDbi 1.72.0  (landing page)
Bioconductor Package Maintainer
Snapshot Date: 2025-11-04 13:45 -0500 (Tue, 04 Nov 2025)
git_url: https://git.bioconductor.org/packages/AnnotationDbi
git_branch: RELEASE_3_22
git_last_commit: ffdaf5d
git_last_commit_date: 2025-10-29 09:58:44 -0500 (Wed, 29 Oct 2025)
nebbiolo2Linux (Ubuntu 24.04.3 LTS) / x86_64  OK    OK    OK  UNNEEDED, same version is already published
kjohnson3macOS 13.7.7 Ventura / arm64  OK    OK    OK    OK  UNNEEDED, same version is already published



Results for Bioconductor software packages that depend directly on package AnnotationDbi

QUICK STATSOS / ArchINSTALLBUILDCHECKBUILD BIN
nebbiolo2Linux (Ubuntu 24.04.3 LTS) / x86_64
01192
04189
11231145
kjohnson3macOS 13.7.7 Ventura / arm64
01192
15187
01230145
00187
Package 1/193HostnameOS / ArchINSTALLBUILDCHECKBUILD BIN
adSplit 1.80.0  (landing page)
Claudio Lottaz
git_last_commit: 0efcd35
git_last_commit_date: 2025-10-29 09:57:38 -0500
nebbiolo2Linux (Ubuntu 24.04.3 LTS) / x86_64  OK    OK    OK  UNNEEDED, same version is already published
kjohnson3macOS 13.7.7 Ventura / arm64  OK    OK    OK    OK  UNNEEDED, same version is already published
Package 2/193HostnameOS / ArchINSTALLBUILDCHECKBUILD BIN
affycoretools 1.82.0  (landing page)
James W. MacDonald
git_last_commit: c96a089
git_last_commit_date: 2025-10-29 09:57:11 -0500
nebbiolo2Linux (Ubuntu 24.04.3 LTS) / x86_64  OK    OK    OK  UNNEEDED, same version is already published
kjohnson3macOS 13.7.7 Ventura / arm64  OK    OK    OK    OK  UNNEEDED, same version is already published
Package 3/193HostnameOS / ArchINSTALLBUILDCHECKBUILD BIN
affylmGUI 1.84.0  (landing page)
Gordon Smyth
git_last_commit: cb9ab7b
git_last_commit_date: 2025-10-29 09:54:46 -0500
nebbiolo2Linux (Ubuntu 24.04.3 LTS) / x86_64  OK    OK    OK  UNNEEDED, same version is already published
kjohnson3macOS 13.7.7 Ventura / arm64  OK    OK    OK    OK  UNNEEDED, same version is already published
Package 4/193HostnameOS / ArchINSTALLBUILDCHECKBUILD BIN
AllelicImbalance 1.48.0  (landing page)
Jesper R Gadin
git_last_commit: 556446f
git_last_commit_date: 2025-10-29 10:16:36 -0500
nebbiolo2Linux (Ubuntu 24.04.3 LTS) / x86_64  OK    OK    OK  UNNEEDED, same version is already published
kjohnson3macOS 13.7.7 Ventura / arm64  OK    OK    OK    OK  UNNEEDED, same version is already published
Package 5/193HostnameOS / ArchINSTALLBUILDCHECKBUILD BIN
annaffy 1.82.0  (landing page)
Colin A. Smith
git_last_commit: 897daa0
git_last_commit_date: 2025-10-29 09:53:40 -0500
nebbiolo2Linux (Ubuntu 24.04.3 LTS) / x86_64  OK    OK    WARNINGS  UNNEEDED, same version is already published
kjohnson3macOS 13.7.7 Ventura / arm64  OK    OK    WARNINGS    OK  UNNEEDED, same version is already published
Package 6/193HostnameOS / ArchINSTALLBUILDCHECKBUILD BIN
annotate 1.88.0  (landing page)
Bioconductor Package Maintainer
git_last_commit: bc0d5a0
git_last_commit_date: 2025-10-29 09:23:46 -0500
nebbiolo2Linux (Ubuntu 24.04.3 LTS) / x86_64  OK    OK    OK  UNNEEDED, same version is already published
kjohnson3macOS 13.7.7 Ventura / arm64  OK    OK    OK    OK  UNNEEDED, same version is already published
Package 7/193HostnameOS / ArchINSTALLBUILDCHECKBUILD BIN
AnnotationForge 1.52.0  (landing page)
Bioconductor Package Maintainer
git_last_commit: c5f7358
git_last_commit_date: 2025-10-29 10:11:26 -0500
nebbiolo2Linux (Ubuntu 24.04.3 LTS) / x86_64  OK    OK    OK  UNNEEDED, same version is already published
kjohnson3macOS 13.7.7 Ventura / arm64  OK    OK    OK    OK  UNNEEDED, same version is already published
Package 8/193HostnameOS / ArchINSTALLBUILDCHECKBUILD BIN
AnnotationHub 4.0.0  (landing page)
Bioconductor Package Maintainer
git_last_commit: e27e804
git_last_commit_date: 2025-10-29 10:14:23 -0500
nebbiolo2Linux (Ubuntu 24.04.3 LTS) / x86_64  OK    OK    OK  UNNEEDED, same version is already published
kjohnson3macOS 13.7.7 Ventura / arm64  OK    OK    OK    OK  UNNEEDED, same version is already published
Package 9/193HostnameOS / ArchINSTALLBUILDCHECKBUILD BIN
AnnotationHubData 1.40.0  (landing page)
Bioconductor Package Maintainer
git_last_commit: 077effd
git_last_commit_date: 2025-10-29 10:27:35 -0500
nebbiolo2Linux (Ubuntu 24.04.3 LTS) / x86_64  OK    OK    WARNINGS  UNNEEDED, same version is already published
kjohnson3macOS 13.7.7 Ventura / arm64  OK    OK    WARNINGS    OK  UNNEEDED, same version is already published
Package 10/193HostnameOS / ArchINSTALLBUILDCHECKBUILD BIN
annotatr 1.36.0  (landing page)
Raymond G. Cavalcante
git_last_commit: 6850c77
git_last_commit_date: 2025-10-29 10:35:13 -0500
nebbiolo2Linux (Ubuntu 24.04.3 LTS) / x86_64  OK    OK    OK  UNNEEDED, same version is already published
kjohnson3macOS 13.7.7 Ventura / arm64  OK    OK    OK    OK  UNNEEDED, same version is already published
Package 11/193HostnameOS / ArchINSTALLBUILDCHECKBUILD BIN
artMS 1.28.0  (landing page)
David Jimenez-Morales
git_last_commit: 9313c4c
git_last_commit_date: 2025-10-29 10:48:43 -0500
nebbiolo2Linux (Ubuntu 24.04.3 LTS) / x86_64  OK    OK    OK  UNNEEDED, same version is already published
kjohnson3macOS 13.7.7 Ventura / arm64  OK    OK    OK    OK  UNNEEDED, same version is already published
Package 12/193HostnameOS / ArchINSTALLBUILDCHECKBUILD BIN
ASpli 2.20.0  (landing page)
Ariel Chernomoretz
git_last_commit: 3c6d496
git_last_commit_date: 2025-10-29 10:33:32 -0500
nebbiolo2Linux (Ubuntu 24.04.3 LTS) / x86_64  OK    OK    WARNINGS  UNNEEDED, same version is already published
kjohnson3macOS 13.7.7 Ventura / arm64  OK    OK    WARNINGS    OK  UNNEEDED, same version is already published
Package 13/193HostnameOS / ArchINSTALLBUILDCHECKBUILD BIN
attract 1.62.0  (landing page)
Samuel Zimmerman
git_last_commit: c4f9ff4
git_last_commit_date: 2025-10-29 10:05:14 -0500
nebbiolo2Linux (Ubuntu 24.04.3 LTS) / x86_64  OK    OK    OK  UNNEEDED, same version is already published
kjohnson3macOS 13.7.7 Ventura / arm64  OK    OK    OK    OK  UNNEEDED, same version is already published
Package 14/193HostnameOS / ArchINSTALLBUILDCHECKBUILD BIN
beadarray 2.60.0  (landing page)
Mark Dunning
git_last_commit: 7b5bb0d
git_last_commit_date: 2025-10-29 09:57:32 -0500
nebbiolo2Linux (Ubuntu 24.04.3 LTS) / x86_64  OK    OK    ERROR  
kjohnson3macOS 13.7.7 Ventura / arm64  OK    OK    ERROR    OK  
Package 15/193HostnameOS / ArchINSTALLBUILDCHECKBUILD BIN
BgeeCall 1.26.0  (landing page)
Julien Wollbrett
git_last_commit: 0d3bcb0
git_last_commit_date: 2025-10-29 10:56:16 -0500
nebbiolo2Linux (Ubuntu 24.04.3 LTS) / x86_64  OK    OK    OK  UNNEEDED, same version is already published
kjohnson3macOS 13.7.7 Ventura / arm64  OK    OK    OK    OK  UNNEEDED, same version is already published
Package 16/193HostnameOS / ArchINSTALLBUILDCHECKBUILD BIN
bioCancer 1.38.0  (landing page)
Karim Mezhoud
git_last_commit: 7997387
git_last_commit_date: 2025-10-29 10:32:26 -0500
nebbiolo2Linux (Ubuntu 24.04.3 LTS) / x86_64  OK    OK    OK  UNNEEDED, same version is already published
kjohnson3macOS 13.7.7 Ventura / arm64  OK    OK    OK    OK  UNNEEDED, same version is already published
Package 17/193HostnameOS / ArchINSTALLBUILDCHECKBUILD BIN
BiocSet 1.24.0  (landing page)
Kayla Morrell
git_last_commit: f0c8b16
git_last_commit_date: 2025-10-29 10:55:47 -0500
nebbiolo2Linux (Ubuntu 24.04.3 LTS) / x86_64  OK    OK    OK  UNNEEDED, same version is already published
kjohnson3macOS 13.7.7 Ventura / arm64  OK    OK    OK    OK  UNNEEDED, same version is already published
Package 18/193HostnameOS / ArchINSTALLBUILDCHECKBUILD BIN
biomaRt 2.66.0  (landing page)
Hugo Gruson
git_last_commit: 6757ed1
git_last_commit_date: 2025-10-29 09:56:01 -0500
nebbiolo2Linux (Ubuntu 24.04.3 LTS) / x86_64  OK    OK    OK  UNNEEDED, same version is already published
kjohnson3macOS 13.7.7 Ventura / arm64  OK    OK    OK    OK  UNNEEDED, same version is already published
Package 19/193HostnameOS / ArchINSTALLBUILDCHECKBUILD BIN
BioNAR 1.12.0  (landing page)
Anatoly Sorokin
git_last_commit: a683d4b
git_last_commit_date: 2025-10-29 11:19:29 -0500
nebbiolo2Linux (Ubuntu 24.04.3 LTS) / x86_64  OK    OK    ERROR  
kjohnson3macOS 13.7.7 Ventura / arm64  OK    OK    ERROR    OK  
Package 20/193HostnameOS / ArchINSTALLBUILDCHECKBUILD BIN
BioNet 1.70.0  (landing page)
Marcus Dittrich
git_last_commit: 4ac64e0
git_last_commit_date: 2025-10-29 10:05:29 -0500
nebbiolo2Linux (Ubuntu 24.04.3 LTS) / x86_64  OK    OK    OK  UNNEEDED, same version is already published
kjohnson3macOS 13.7.7 Ventura / arm64  OK    OK    OK    OK  UNNEEDED, same version is already published
Package 21/193HostnameOS / ArchINSTALLBUILDCHECKBUILD BIN
biovizBase 1.58.0  (landing page)
Michael Lawrence
git_last_commit: 1f6087b
git_last_commit_date: 2025-10-29 10:09:04 -0500
nebbiolo2Linux (Ubuntu 24.04.3 LTS) / x86_64  OK    OK    WARNINGS  UNNEEDED, same version is already published
kjohnson3macOS 13.7.7 Ventura / arm64  OK    OK    WARNINGS    OK  UNNEEDED, same version is already published
Package 22/193HostnameOS / ArchINSTALLBUILDCHECKBUILD BIN
bumphunter 1.52.0  (landing page)
Tamilselvi Guharaj
git_last_commit: 2f99897
git_last_commit_date: 2025-10-29 10:13:01 -0500
nebbiolo2Linux (Ubuntu 24.04.3 LTS) / x86_64  OK    OK    OK  UNNEEDED, same version is already published
kjohnson3macOS 13.7.7 Ventura / arm64  OK    OK    OK    OK  UNNEEDED, same version is already published
Package 23/193HostnameOS / ArchINSTALLBUILDCHECKBUILD BIN
BUSpaRse 1.24.0  (landing page)
Lambda Moses
git_last_commit: 757e3e4
git_last_commit_date: 2025-10-29 10:53:52 -0500
nebbiolo2Linux (Ubuntu 24.04.3 LTS) / x86_64  OK    OK    OK  UNNEEDED, same version is already published
kjohnson3macOS 13.7.7 Ventura / arm64  OK    OK    OK    OK  UNNEEDED, same version is already published
Package 24/193HostnameOS / ArchINSTALLBUILDCHECKBUILD BIN
Category 2.76.0  (landing page)
Bioconductor Package Maintainer
git_last_commit: df2c742
git_last_commit_date: 2025-10-29 09:56:37 -0500
nebbiolo2Linux (Ubuntu 24.04.3 LTS) / x86_64  OK    OK    OK  UNNEEDED, same version is already published
kjohnson3macOS 13.7.7 Ventura / arm64  OK    OK    OK    OK  UNNEEDED, same version is already published
Package 25/193HostnameOS / ArchINSTALLBUILDCHECKBUILD BIN
categoryCompare 1.54.0  (landing page)
Robert M. Flight
git_last_commit: 3381da0
git_last_commit_date: 2025-10-29 10:11:00 -0500
nebbiolo2Linux (Ubuntu 24.04.3 LTS) / x86_64  OK    OK    OK  UNNEEDED, same version is already published
kjohnson3macOS 13.7.7 Ventura / arm64  OK    OK    OK    OK  UNNEEDED, same version is already published
Package 26/193HostnameOS / ArchINSTALLBUILDCHECKBUILD BIN
ccmap 1.36.0  (landing page)
Alex Pickering
git_last_commit: dd71043
git_last_commit_date: 2025-10-29 10:32:54 -0500
nebbiolo2Linux (Ubuntu 24.04.3 LTS) / x86_64  OK    ERROR  skipped
kjohnson3macOS 13.7.7 Ventura / arm64  OK    ERROR  skippedskipped
Package 27/193HostnameOS / ArchINSTALLBUILDCHECKBUILD BIN
cellity 1.38.0  (landing page)
Tomislav Ilicic
git_last_commit: e41648e
git_last_commit_date: 2025-10-29 10:30:11 -0500
nebbiolo2Linux (Ubuntu 24.04.3 LTS) / x86_64  OK    OK    OK  UNNEEDED, same version is already published
kjohnson3macOS 13.7.7 Ventura / arm64  OK    OK    OK    OK  UNNEEDED, same version is already published
Package 28/193HostnameOS / ArchINSTALLBUILDCHECKBUILD BIN
chimeraviz 1.36.0  (landing page)
Stian Lågstad
git_last_commit: 36b8261
git_last_commit_date: 2025-10-29 10:35:50 -0500
nebbiolo2Linux (Ubuntu 24.04.3 LTS) / x86_64  OK    OK    OK  UNNEEDED, same version is already published
kjohnson3macOS 13.7.7 Ventura / arm64  OK    OK    OK    OK  UNNEEDED, same version is already published
Package 29/193HostnameOS / ArchINSTALLBUILDCHECKBUILD BIN
chipenrich 2.34.0  (landing page)
Kai Wang
git_last_commit: a610787
git_last_commit_date: 2025-10-29 10:16:16 -0500
nebbiolo2Linux (Ubuntu 24.04.3 LTS) / x86_64  OK    OK    OK  UNNEEDED, same version is already published
kjohnson3macOS 13.7.7 Ventura / arm64  OK    OK    OK    OK  UNNEEDED, same version is already published
Package 30/193HostnameOS / ArchINSTALLBUILDCHECKBUILD BIN
ChIPpeakAnno 3.44.0  (landing page)
Jianhong Ou
git_last_commit: 2b855fa
git_last_commit_date: 2025-10-29 10:03:18 -0500
nebbiolo2Linux (Ubuntu 24.04.3 LTS) / x86_64  OK    OK    OK  UNNEEDED, same version is already published
kjohnson3macOS 13.7.7 Ventura / arm64  OK    OK    OK    OK  UNNEEDED, same version is already published
Package 31/193HostnameOS / ArchINSTALLBUILDCHECKBUILD BIN
ChIPseeker 1.46.1  (landing page)
Guangchuang Yu
git_last_commit: c9031f6
git_last_commit_date: 2025-11-04 09:21:39 -0500
nebbiolo2Linux (Ubuntu 24.04.3 LTS) / x86_64  OK    OK    OK  YES
kjohnson3macOS 13.7.7 Ventura / arm64  OK    OK    OK    OK  YES
Package 32/193HostnameOS / ArchINSTALLBUILDCHECKBUILD BIN
ChromHeatMap 1.64.0  (landing page)
Tim F. Rayner
git_last_commit: 3e0a547
git_last_commit_date: 2025-10-29 10:03:49 -0500
nebbiolo2Linux (Ubuntu 24.04.3 LTS) / x86_64  OK    OK    OK  UNNEEDED, same version is already published
kjohnson3macOS 13.7.7 Ventura / arm64  OK    OK    OK    OK  UNNEEDED, same version is already published
Package 33/193HostnameOS / ArchINSTALLBUILDCHECKBUILD BIN
clusterProfiler 4.18.1  (landing page)
Guangchuang Yu
git_last_commit: f02a64b
git_last_commit_date: 2025-11-01 10:51:50 -0500
nebbiolo2Linux (Ubuntu 24.04.3 LTS) / x86_64  OK    OK    OK  UNNEEDED, same version is already published
kjohnson3macOS 13.7.7 Ventura / arm64  OK    OK    OK    OK  UNNEEDED, same version is already published
Package 34/193HostnameOS / ArchINSTALLBUILDCHECKBUILD BIN
CoCiteStats 1.82.0  (landing page)
Bioconductor Package Maintainer
git_last_commit: e8750e6
git_last_commit_date: 2025-10-29 09:55:52 -0500
nebbiolo2Linux (Ubuntu 24.04.3 LTS) / x86_64  OK    OK    OK  UNNEEDED, same version is already published
kjohnson3macOS 13.7.7 Ventura / arm64  OK    OK    OK    OK  UNNEEDED, same version is already published
Package 35/193HostnameOS / ArchINSTALLBUILDCHECKBUILD BIN
Cogito 1.16.0  (landing page)
Annika Bürger
git_last_commit: 2320bbf
git_last_commit_date: 2025-10-29 11:13:02 -0500
nebbiolo2Linux (Ubuntu 24.04.3 LTS) / x86_64  OK    OK    OK  UNNEEDED, same version is already published
kjohnson3macOS 13.7.7 Ventura / arm64  OK    OK    OK    OK  UNNEEDED, same version is already published
Package 36/193HostnameOS / ArchINSTALLBUILDCHECKBUILD BIN
compEpiTools 1.44.0  (landing page)
Mattia Furlan
git_last_commit: 75ae4a8
git_last_commit_date: 2025-10-29 10:20:59 -0500
nebbiolo2Linux (Ubuntu 24.04.3 LTS) / x86_64  OK    OK    OK  UNNEEDED, same version is already published
kjohnson3macOS 13.7.7 Ventura / arm64  OK    OK    OK    OK  UNNEEDED, same version is already published
Package 37/193HostnameOS / ArchINSTALLBUILDCHECKBUILD BIN
consensusDE 1.28.0  (landing page)
Ashley J. Waardenberg
git_last_commit: 7c6b138
git_last_commit_date: 2025-10-29 10:48:35 -0500
nebbiolo2Linux (Ubuntu 24.04.3 LTS) / x86_64  OK    OK    OK  UNNEEDED, same version is already published
kjohnson3macOS 13.7.7 Ventura / arm64  OK    OK    OK    OK  UNNEEDED, same version is already published
Package 38/193HostnameOS / ArchINSTALLBUILDCHECKBUILD BIN
CoSIA 1.10.0  (landing page)
Amanda D. Clark
git_last_commit: c3a78d6
git_last_commit_date: 2025-10-29 11:32:24 -0500
nebbiolo2Linux (Ubuntu 24.04.3 LTS) / x86_64  OK    OK    TIMEOUT  
kjohnson3macOS 13.7.7 Ventura / arm64  OK    OK    OK    OK  UNNEEDED, same version is already published
Package 39/193HostnameOS / ArchINSTALLBUILDCHECKBUILD BIN
crisprDesign 1.12.0  (landing page)
Jean-Philippe Fortin
git_last_commit: 143c0ce
git_last_commit_date: 2025-10-29 11:17:54 -0500
nebbiolo2Linux (Ubuntu 24.04.3 LTS) / x86_64  OK    OK    OK  UNNEEDED, same version is already published
kjohnson3macOS 13.7.7 Ventura / arm64  OK    OK    OK    OK  UNNEEDED, same version is already published
Package 40/193HostnameOS / ArchINSTALLBUILDCHECKBUILD BIN
CrispRVariants 1.38.0  (landing page)
Helen Lindsay
git_last_commit: d78780f
git_last_commit_date: 2025-10-29 10:29:17 -0500
nebbiolo2Linux (Ubuntu 24.04.3 LTS) / x86_64  OK    OK    WARNINGS  UNNEEDED, same version is already published
kjohnson3macOS 13.7.7 Ventura / arm64  OK    OK    WARNINGS    OK  UNNEEDED, same version is already published
Package 41/193HostnameOS / ArchINSTALLBUILDCHECKBUILD BIN
cTRAP 1.28.0  (landing page)
Nuno Saraiva-Agostinho
git_last_commit: 216e3fc
git_last_commit_date: 2025-10-29 10:48:28 -0500
nebbiolo2Linux (Ubuntu 24.04.3 LTS) / x86_64  OK    OK    OK  UNNEEDED, same version is already published
kjohnson3macOS 13.7.7 Ventura / arm64  OK    OK    OK    OK  UNNEEDED, same version is already published
Package 42/193HostnameOS / ArchINSTALLBUILDCHECKBUILD BIN
customProDB 1.50.0  (landing page)
Xiaojing Wang
git_last_commit: e4b2f17
git_last_commit_date: 2025-10-29 10:15:09 -0500
nebbiolo2Linux (Ubuntu 24.04.3 LTS) / x86_64  OK    OK    ERROR  
kjohnson3macOS 13.7.7 Ventura / arm64  OK    OK    ERROR    OK  
Package 43/193HostnameOS / ArchINSTALLBUILDCHECKBUILD BIN
Damsel 1.6.0  (landing page)
Caitlin Page
git_last_commit: a70f6d8
git_last_commit_date: 2025-10-29 11:29:38 -0500
nebbiolo2Linux (Ubuntu 24.04.3 LTS) / x86_64  OK    OK    WARNINGS  UNNEEDED, same version is already published
kjohnson3macOS 13.7.7 Ventura / arm64  OK    OK    WARNINGS    OK  UNNEEDED, same version is already published
Package 44/193HostnameOS / ArchINSTALLBUILDCHECKBUILD BIN
debrowser 1.38.0  (landing page)
Alper Kucukural
git_last_commit: 5dcc10b
git_last_commit_date: 2025-10-29 10:30:54 -0500
nebbiolo2Linux (Ubuntu 24.04.3 LTS) / x86_64  OK    OK    OK  UNNEEDED, same version is already published
kjohnson3macOS 13.7.7 Ventura / arm64  OK    OK    OK    OK  UNNEEDED, same version is already published
Package 45/193HostnameOS / ArchINSTALLBUILDCHECKBUILD BIN
derfinder 1.44.0  (landing page)
Leonardo Collado-Torres
git_last_commit: 7fd222b
git_last_commit_date: 2025-10-29 10:21:48 -0500
nebbiolo2Linux (Ubuntu 24.04.3 LTS) / x86_64  OK    OK    OK  UNNEEDED, same version is already published
kjohnson3macOS 13.7.7 Ventura / arm64  OK    OK    OK    OK  UNNEEDED, same version is already published
Package 46/193HostnameOS / ArchINSTALLBUILDCHECKBUILD BIN
DEXSeq 1.56.0  (landing page)
Alejandro Reyes
git_last_commit: 0f430e0
git_last_commit_date: 2025-10-29 10:07:54 -0500
nebbiolo2Linux (Ubuntu 24.04.3 LTS) / x86_64  OK    OK    OK  UNNEEDED, same version is already published
kjohnson3macOS 13.7.7 Ventura / arm64  OK    OK    OK    OK  UNNEEDED, same version is already published
Package 47/193HostnameOS / ArchINSTALLBUILDCHECKBUILD BIN
dmGsea 1.0.1  (landing page)
Zongli Xu
git_last_commit: 8ba045b
git_last_commit_date: 2025-10-31 09:46:15 -0500
nebbiolo2Linux (Ubuntu 24.04.3 LTS) / x86_64  OK    OK    OK  UNNEEDED, same version is already published
kjohnson3macOS 13.7.7 Ventura / arm64  OK    OK    OK    OK  UNNEEDED, same version is already published
Package 48/193HostnameOS / ArchINSTALLBUILDCHECKBUILD BIN
DominoEffect 1.30.0  (landing page)
Marija Buljan , Peter Blattmann
git_last_commit: 6694070
git_last_commit_date: 2025-10-29 10:43:24 -0500
nebbiolo2Linux (Ubuntu 24.04.3 LTS) / x86_64  OK    OK    OK  UNNEEDED, same version is already published
kjohnson3macOS 13.7.7 Ventura / arm64  OK    OK    OK    OK  UNNEEDED, same version is already published
Package 49/193HostnameOS / ArchINSTALLBUILDCHECKBUILD BIN
DOSE 4.4.0  (landing page)
Guangchuang Yu
git_last_commit: 963047a
git_last_commit_date: 2025-10-29 10:07:51 -0500
nebbiolo2Linux (Ubuntu 24.04.3 LTS) / x86_64  OK    OK    OK  UNNEEDED, same version is already published
kjohnson3macOS 13.7.7 Ventura / arm64  OK    OK    OK    OK  UNNEEDED, same version is already published
Package 50/193HostnameOS / ArchINSTALLBUILDCHECKBUILD BIN
doubletrouble 1.10.0  (landing page)
Fabrício Almeida-Silva
git_last_commit: 555edc5
git_last_commit_date: 2025-10-29 11:20:05 -0500
nebbiolo2Linux (Ubuntu 24.04.3 LTS) / x86_64  OK    OK    OK  UNNEEDED, same version is already published
kjohnson3macOS 13.7.7 Ventura / arm64  OK    OK    OK    OK  UNNEEDED, same version is already published
Package 51/193HostnameOS / ArchINSTALLBUILDCHECKBUILD BIN
EasyCellType 1.12.0  (landing page)
Ruoxing Li
git_last_commit: 27aa7b2
git_last_commit_date: 2025-10-29 11:18:20 -0500
nebbiolo2Linux (Ubuntu 24.04.3 LTS) / x86_64  OK    OK    OK  UNNEEDED, same version is already published
kjohnson3macOS 13.7.7 Ventura / arm64  OK    OK    OK    OK  UNNEEDED, same version is already published
Package 52/193HostnameOS / ArchINSTALLBUILDCHECKBUILD BIN
EDASeq 2.44.0  (landing page)
Davide Risso
git_last_commit: e7a4a13
git_last_commit_date: 2025-10-29 10:08:53 -0500
nebbiolo2Linux (Ubuntu 24.04.3 LTS) / x86_64  OK    OK    OK  UNNEEDED, same version is already published
kjohnson3macOS 13.7.7 Ventura / arm64  OK    OK    OK    OK  UNNEEDED, same version is already published
Package 53/193HostnameOS / ArchINSTALLBUILDCHECKBUILD BIN
EGSEA 1.38.0  (landing page)
Monther Alhamdoosh
git_last_commit: 1a8a161
git_last_commit_date: 2025-10-29 10:32:11 -0500
nebbiolo2Linux (Ubuntu 24.04.3 LTS) / x86_64  OK    OK    OK  UNNEEDED, same version is already published
kjohnson3macOS 13.7.7 Ventura / arm64  OK    OK    OK    OK  UNNEEDED, same version is already published
Package 54/193HostnameOS / ArchINSTALLBUILDCHECKBUILD BIN
EnrichmentBrowser 2.40.0  (landing page)
Ludwig Geistlinger
git_last_commit: 2118f0c
git_last_commit_date: 2025-10-29 10:21:30 -0500
nebbiolo2Linux (Ubuntu 24.04.3 LTS) / x86_64  OK    OK    OK  UNNEEDED, same version is already published
kjohnson3macOS 13.7.7 Ventura / arm64  OK    OK    OK    OK  UNNEEDED, same version is already published
Package 55/193HostnameOS / ArchINSTALLBUILDCHECKBUILD BIN
ensembldb 2.34.0  (landing page)
Johannes Rainer
git_last_commit: a13967b
git_last_commit_date: 2025-10-29 10:24:50 -0500
nebbiolo2Linux (Ubuntu 24.04.3 LTS) / x86_64  OK    OK    OK  UNNEEDED, same version is already published
kjohnson3macOS 13.7.7 Ventura / arm64  OK    OK    OK    OK  UNNEEDED, same version is already published
Package 56/193HostnameOS / ArchINSTALLBUILDCHECKBUILD BIN
EpiMix 1.12.0  (landing page)
Yuanning Zheng
git_last_commit: 36341ff
git_last_commit_date: 2025-10-29 11:17:43 -0500
nebbiolo2Linux (Ubuntu 24.04.3 LTS) / x86_64  OK    OK    OK  UNNEEDED, same version is already published
kjohnson3macOS 13.7.7 Ventura / arm64  OK    OK    OK    OK  UNNEEDED, same version is already published
Package 57/193HostnameOS / ArchINSTALLBUILDCHECKBUILD BIN
epimutacions 1.14.0  (landing page)
Dolors Pelegri-Siso
git_last_commit: b56f6f9
git_last_commit_date: 2025-10-29 11:16:20 -0500
nebbiolo2Linux (Ubuntu 24.04.3 LTS) / x86_64  OK    OK    OK  UNNEEDED, same version is already published
kjohnson3macOS 13.7.7 Ventura / arm64  OK    OK    OK    OK  UNNEEDED, same version is already published
Package 58/193HostnameOS / ArchINSTALLBUILDCHECKBUILD BIN
EpiTxDb 1.22.0  (landing page)
Felix G.M. Ernst
git_last_commit: 54a3d69
git_last_commit_date: 2025-10-29 10:57:35 -0500
nebbiolo2Linux (Ubuntu 24.04.3 LTS) / x86_64  OK    OK    OK  UNNEEDED, same version is already published
kjohnson3macOS 13.7.7 Ventura / arm64  OK    OK    OK    OK  UNNEEDED, same version is already published
Package 59/193HostnameOS / ArchINSTALLBUILDCHECKBUILD BIN
esATAC 1.32.0  (landing page)
Zheng Wei
git_last_commit: 6d7ce39
git_last_commit_date: 2025-10-29 10:42:12 -0500
nebbiolo2Linux (Ubuntu 24.04.3 LTS) / x86_64  OK    OK    OK  UNNEEDED, same version is already published
kjohnson3macOS 13.7.7 Ventura / arm64  OK    OK    OK    OK  UNNEEDED, same version is already published
Package 60/193HostnameOS / ArchINSTALLBUILDCHECKBUILD BIN
FRASER 2.6.0  (landing page)
Christian Mertes
git_last_commit: b8faec2
git_last_commit_date: 2025-10-29 10:58:54 -0500
nebbiolo2Linux (Ubuntu 24.04.3 LTS) / x86_64  OK    OK    OK  UNNEEDED, same version is already published
kjohnson3macOS 13.7.7 Ventura / arm64  OK    OK    OK    OK  UNNEEDED, same version is already published
Package 61/193HostnameOS / ArchINSTALLBUILDCHECKBUILD BIN
funOmics 1.4.0  (landing page)
Elisa Gomez de Lope
git_last_commit: 534915d
git_last_commit_date: 2025-10-29 11:30:40 -0500
nebbiolo2Linux (Ubuntu 24.04.3 LTS) / x86_64  OK    OK    OK  UNNEEDED, same version is already published
kjohnson3macOS 13.7.7 Ventura / arm64  OK    OK    OK    OK  UNNEEDED, same version is already published
Package 62/193HostnameOS / ArchINSTALLBUILDCHECKBUILD BIN
GA4GHshiny 1.32.0  (landing page)
Welliton Souza
git_last_commit: 8463ac1
git_last_commit_date: 2025-10-29 10:38:44 -0500
nebbiolo2Linux (Ubuntu 24.04.3 LTS) / x86_64  OK    OK    OK  UNNEEDED, same version is already published
kjohnson3macOS 13.7.7 Ventura / arm64  OK    OK    OK    OK  UNNEEDED, same version is already published
Package 63/193HostnameOS / ArchINSTALLBUILDCHECKBUILD BIN
gage 2.60.0  (landing page)
Weijun Luo
git_last_commit: 9b2c4d0
git_last_commit_date: 2025-10-29 10:05:53 -0500
nebbiolo2Linux (Ubuntu 24.04.3 LTS) / x86_64  OK    OK    WARNINGS  UNNEEDED, same version is already published
kjohnson3macOS 13.7.7 Ventura / arm64  OK    OK    WARNINGS    OK  UNNEEDED, same version is already published
Package 64/193HostnameOS / ArchINSTALLBUILDCHECKBUILD BIN
gDNAx 1.8.0  (landing page)
Robert Castelo
git_last_commit: b09db45
git_last_commit_date: 2025-10-29 11:24:57 -0500
nebbiolo2Linux (Ubuntu 24.04.3 LTS) / x86_64  OK    OK    OK  UNNEEDED, same version is already published
kjohnson3macOS 13.7.7 Ventura / arm64  OK    OK    OK    OK  UNNEEDED, same version is already published
Package 65/193HostnameOS / ArchINSTALLBUILDCHECKBUILD BIN
genefilter 1.92.0  (landing page)
Bioconductor Package Maintainer
git_last_commit: b24c1ba
git_last_commit_date: 2025-10-29 09:41:48 -0500
nebbiolo2Linux (Ubuntu 24.04.3 LTS) / x86_64  OK    OK    WARNINGS  UNNEEDED, same version is already published
kjohnson3macOS 13.7.7 Ventura / arm64  OK    OK    WARNINGS    OK  UNNEEDED, same version is already published
Package 66/193HostnameOS / ArchINSTALLBUILDCHECKBUILD BIN
geneplotter 1.88.0  (landing page)
Bioconductor Package Maintainer
git_last_commit: 35e1fe9
git_last_commit_date: 2025-10-29 09:41:50 -0500
nebbiolo2Linux (Ubuntu 24.04.3 LTS) / x86_64  OK    OK    OK  UNNEEDED, same version is already published
kjohnson3macOS 13.7.7 Ventura / arm64  OK    OK    OK    OK  UNNEEDED, same version is already published
Package 67/193HostnameOS / ArchINSTALLBUILDCHECKBUILD BIN
GeneTonic 3.4.0  (landing page)
Federico Marini
git_last_commit: 21785a1
git_last_commit_date: 2025-10-29 10:56:40 -0500
nebbiolo2Linux (Ubuntu 24.04.3 LTS) / x86_64  OK    OK    ERROR  
kjohnson3macOS 13.7.7 Ventura / arm64  OK    OK    ERROR    OK  
Package 68/193HostnameOS / ArchINSTALLBUILDCHECKBUILD BIN
geneXtendeR 1.36.0  (landing page)
Bohdan Khomtchouk
git_last_commit: d65d2af
git_last_commit_date: 2025-10-29 10:34:47 -0500
nebbiolo2Linux (Ubuntu 24.04.3 LTS) / x86_64  OK    OK    WARNINGS  UNNEEDED, same version is already published
kjohnson3macOS 13.7.7 Ventura / arm64  OK    OK    WARNINGS    OK  UNNEEDED, same version is already published
Package 69/193HostnameOS / ArchINSTALLBUILDCHECKBUILD BIN
GenomicFeatures 1.62.0  (landing page)
H. Pagès
git_last_commit: f4dfd41
git_last_commit_date: 2025-10-29 14:16:45 -0500
nebbiolo2Linux (Ubuntu 24.04.3 LTS) / x86_64  OK    OK    OK  UNNEEDED, same version is already published
kjohnson3macOS 13.7.7 Ventura / arm64  OK    OK    OK    OK  UNNEEDED, same version is already published
Package 70/193HostnameOS / ArchINSTALLBUILDCHECKBUILD BIN
GenomicInteractionNodes 1.14.0  (landing page)
Jianhong Ou
git_last_commit: d3ee518
git_last_commit_date: 2025-10-29 11:16:22 -0500
nebbiolo2Linux (Ubuntu 24.04.3 LTS) / x86_64  OK    OK    OK  UNNEEDED, same version is already published
kjohnson3macOS 13.7.7 Ventura / arm64  OK    OK    OK    OK  UNNEEDED, same version is already published
Package 71/193HostnameOS / ArchINSTALLBUILDCHECKBUILD BIN
GenVisR 1.42.0  (landing page)
Zachary Skidmore
git_last_commit: aa50f04
git_last_commit_date: 2025-10-29 10:29:36 -0500
nebbiolo2Linux (Ubuntu 24.04.3 LTS) / x86_64  OK    OK    ERROR  
kjohnson3macOS 13.7.7 Ventura / arm64  OK    OK    ERROR    OK  
Package 72/193HostnameOS / ArchINSTALLBUILDCHECKBUILD BIN
ggbio 1.58.0  (landing page)
Michael Lawrence
git_last_commit: 678f10e
git_last_commit_date: 2025-10-29 10:09:27 -0500
nebbiolo2Linux (Ubuntu 24.04.3 LTS) / x86_64  OK    OK    WARNINGS  UNNEEDED, same version is already published
kjohnson3macOS 13.7.7 Ventura / arm64  OK    OK    WARNINGS    OK  UNNEEDED, same version is already published
Package 73/193HostnameOS / ArchINSTALLBUILDCHECKBUILD BIN
gINTomics 1.6.0  (landing page)
Angelo Velle
git_last_commit: d433a6d
git_last_commit_date: 2025-10-29 11:30:01 -0500
nebbiolo2Linux (Ubuntu 24.04.3 LTS) / x86_64  OK    OK    OK  NO, package depends on 'OmnipathR' which is not available
kjohnson3macOS 13.7.7 Ventura / arm64  OK    OK    OK    OK  NO, package depends on 'OmnipathR' which is not available
Package 74/193HostnameOS / ArchINSTALLBUILDCHECKBUILD BIN
GlobalAncova 4.28.0  (landing page)
Manuela Hummel
git_last_commit: 99efd2a
git_last_commit_date: 2025-10-29 09:57:03 -0500
nebbiolo2Linux (Ubuntu 24.04.3 LTS) / x86_64  OK    OK    WARNINGS  UNNEEDED, same version is already published
kjohnson3macOS 13.7.7 Ventura / arm64  OK    OK    WARNINGS    OK  UNNEEDED, same version is already published
Package 75/193HostnameOS / ArchINSTALLBUILDCHECKBUILD BIN
globaltest 5.64.0  (landing page)
Jelle Goeman
git_last_commit: 81b15c8
git_last_commit_date: 2025-10-29 09:55:12 -0500
nebbiolo2Linux (Ubuntu 24.04.3 LTS) / x86_64  OK    OK    OK  UNNEEDED, same version is already published
kjohnson3macOS 13.7.7 Ventura / arm64  OK    TIMEOUT  skippedskipped
Package 76/193HostnameOS / ArchINSTALLBUILDCHECKBUILD BIN
GmicR 1.24.0  (landing page)
Richard Virgen-Slane
git_last_commit: a9a4b5a
git_last_commit_date: 2025-10-29 10:54:40 -0500
nebbiolo2Linux (Ubuntu 24.04.3 LTS) / x86_64  OK    OK    WARNINGS  UNNEEDED, same version is already published
kjohnson3macOS 13.7.7 Ventura / arm64  OK    OK    WARNINGS    OK  UNNEEDED, same version is already published
Package 77/193HostnameOS / ArchINSTALLBUILDCHECKBUILD BIN
goatea 1.0.0  (landing page)
Maurits Unkel
git_last_commit: c7a7b1e
git_last_commit_date: 2025-10-29 11:37:58 -0500
nebbiolo2Linux (Ubuntu 24.04.3 LTS) / x86_64  OK    ERROR  skipped
kjohnson3macOS 13.7.7 Ventura / arm64  OK    ERROR  skippedskipped
Package 78/193HostnameOS / ArchINSTALLBUILDCHECKBUILD BIN
GOfuncR 1.30.0  (landing page)
Steffi Grote
git_last_commit: e9544dc
git_last_commit_date: 2025-10-29 10:42:27 -0500
nebbiolo2Linux (Ubuntu 24.04.3 LTS) / x86_64  OK    OK    OK  UNNEEDED, same version is already published
kjohnson3macOS 13.7.7 Ventura / arm64  OK    OK    OK    OK  UNNEEDED, same version is already published
Package 79/193HostnameOS / ArchINSTALLBUILDCHECKBUILD BIN
GOpro 1.36.0  (landing page)
Lidia Chrabaszcz
git_last_commit: e5ba5d5
git_last_commit_date: 2025-10-29 10:34:40 -0500
nebbiolo2Linux (Ubuntu 24.04.3 LTS) / x86_64  OK    OK    OK  UNNEEDED, same version is already published
kjohnson3macOS 13.7.7 Ventura / arm64  OK    OK    OK    OK  UNNEEDED, same version is already published
Package 80/193HostnameOS / ArchINSTALLBUILDCHECKBUILD BIN
goProfiles 1.72.0  (landing page)
Alex Sanchez
git_last_commit: 88f7e33
git_last_commit_date: 2025-10-29 10:00:32 -0500
nebbiolo2Linux (Ubuntu 24.04.3 LTS) / x86_64  OK    OK    OK  UNNEEDED, same version is already published
kjohnson3macOS 13.7.7 Ventura / arm64  OK    OK    OK    OK  UNNEEDED, same version is already published
Package 81/193HostnameOS / ArchINSTALLBUILDCHECKBUILD BIN
GOSemSim 2.36.0  (landing page)
Guangchuang Yu
git_last_commit: c1bf5c5
git_last_commit_date: 2025-10-29 10:02:04 -0500
nebbiolo2Linux (Ubuntu 24.04.3 LTS) / x86_64  OK    OK    OK  UNNEEDED, same version is already published
kjohnson3macOS 13.7.7 Ventura / arm64  OK    OK    OK    OK  UNNEEDED, same version is already published
Package 82/193HostnameOS / ArchINSTALLBUILDCHECKBUILD BIN
goseq 1.62.0  (landing page)
Federico Marini
git_last_commit: e3ed9b9
git_last_commit_date: 2025-10-29 10:04:46 -0500
nebbiolo2Linux (Ubuntu 24.04.3 LTS) / x86_64  OK    OK    OK  UNNEEDED, same version is already published
kjohnson3macOS 13.7.7 Ventura / arm64  OK    OK    OK    OK  UNNEEDED, same version is already published
Package 83/193HostnameOS / ArchINSTALLBUILDCHECKBUILD BIN
goSTAG 1.34.0  (landing page)
Brian D. Bennett
git_last_commit: 805c363
git_last_commit_date: 2025-10-29 10:36:31 -0500
nebbiolo2Linux (Ubuntu 24.04.3 LTS) / x86_64  OK    OK    OK  UNNEEDED, same version is already published
kjohnson3macOS 13.7.7 Ventura / arm64  OK    OK    OK    OK  UNNEEDED, same version is already published
Package 84/193HostnameOS / ArchINSTALLBUILDCHECKBUILD BIN
GOstats 2.76.0  (landing page)
Bioconductor Package Maintainer
git_last_commit: 7c7bec8
git_last_commit_date: 2025-10-29 09:55:01 -0500
nebbiolo2Linux (Ubuntu 24.04.3 LTS) / x86_64  OK    OK    OK  UNNEEDED, same version is already published
kjohnson3macOS 13.7.7 Ventura / arm64  OK    OK    OK    OK  UNNEEDED, same version is already published
Package 85/193HostnameOS / ArchINSTALLBUILDCHECKBUILD BIN
goTools 1.84.0  (landing page)
Agnes Paquet
git_last_commit: 93f27cc
git_last_commit_date: 2025-10-29 09:54:43 -0500
nebbiolo2Linux (Ubuntu 24.04.3 LTS) / x86_64  OK    OK    OK  UNNEEDED, same version is already published
kjohnson3macOS 13.7.7 Ventura / arm64  OK    OK    OK    OK  UNNEEDED, same version is already published
Package 86/193HostnameOS / ArchINSTALLBUILDCHECKBUILD BIN
graphite 1.56.0  (landing page)
Gabriele Sales
git_last_commit: d5cf402
git_last_commit_date: 2025-10-29 10:08:39 -0500
nebbiolo2Linux (Ubuntu 24.04.3 LTS) / x86_64  OK    OK    ERROR  
kjohnson3macOS 13.7.7 Ventura / arm64  OK    OK    OK    OK  UNNEEDED, same version is already published
Package 87/193HostnameOS / ArchINSTALLBUILDCHECKBUILD BIN
GSEABase 1.72.0  (landing page)
Bioconductor Package Maintainer
git_last_commit: 8f4e176
git_last_commit_date: 2025-10-29 09:59:33 -0500
nebbiolo2Linux (Ubuntu 24.04.3 LTS) / x86_64  OK    OK    OK  UNNEEDED, same version is already published
kjohnson3macOS 13.7.7 Ventura / arm64  OK    OK    OK    OK  UNNEEDED, same version is already published
Package 88/193HostnameOS / ArchINSTALLBUILDCHECKBUILD BIN
GSEABenchmarkeR 1.30.0  (landing page)
Ludwig Geistlinger
git_last_commit: 7ab14b8
git_last_commit_date: 2025-10-29 10:44:06 -0500
nebbiolo2Linux (Ubuntu 24.04.3 LTS) / x86_64  OK    OK    OK  UNNEEDED, same version is already published
kjohnson3macOS 13.7.7 Ventura / arm64  OK    OK    OK    OK  UNNEEDED, same version is already published
Package 89/193HostnameOS / ArchINSTALLBUILDCHECKBUILD BIN
GSReg 1.44.0  (landing page)
Bahman Afsari , Elana J. Fertig
git_last_commit: 142159e
git_last_commit_date: 2025-10-29 10:20:24 -0500
nebbiolo2Linux (Ubuntu 24.04.3 LTS) / x86_64  OK    OK    WARNINGS  UNNEEDED, same version is already published
kjohnson3macOS 13.7.7 Ventura / arm64  OK    OK    WARNINGS    OK  UNNEEDED, same version is already published
Package 90/193HostnameOS / ArchINSTALLBUILDCHECKBUILD BIN
Guitar 2.26.0  (landing page)
Jia Meng
git_last_commit: 4c03ea8
git_last_commit_date: 2025-10-29 10:27:57 -0500
nebbiolo2Linux (Ubuntu 24.04.3 LTS) / x86_64  OK    OK    OK  UNNEEDED, same version is already published
kjohnson3macOS 13.7.7 Ventura / arm64  OK    OK    OK    OK  UNNEEDED, same version is already published
Package 91/193HostnameOS / ArchINSTALLBUILDCHECKBUILD BIN
Gviz 1.54.0  (landing page)
Robert Ivanek
git_last_commit: 05ebfa6
git_last_commit_date: 2025-10-29 10:10:17 -0500
nebbiolo2Linux (Ubuntu 24.04.3 LTS) / x86_64  OK    OK    OK  UNNEEDED, same version is already published
kjohnson3macOS 13.7.7 Ventura / arm64  OK    OK    OK    OK  UNNEEDED, same version is already published
Package 92/193HostnameOS / ArchINSTALLBUILDCHECKBUILD BIN
gwascat 2.42.0  (landing page)
VJ Carey
git_last_commit: 5ae3745
git_last_commit_date: 2025-10-29 10:10:23 -0500
nebbiolo2Linux (Ubuntu 24.04.3 LTS) / x86_64  OK    OK    OK  UNNEEDED, same version is already published
kjohnson3macOS 13.7.7 Ventura / arm64  OK    OK    OK    OK  UNNEEDED, same version is already published
Package 93/193HostnameOS / ArchINSTALLBUILDCHECKBUILD BIN
ideal 2.4.0  (landing page)
Federico Marini
git_last_commit: ed2684d
git_last_commit_date: 2025-10-29 10:38:28 -0500
nebbiolo2Linux (Ubuntu 24.04.3 LTS) / x86_64  OK    OK    OK  UNNEEDED, same version is already published
kjohnson3macOS 13.7.7 Ventura / arm64  OK    OK    OK    OK  UNNEEDED, same version is already published
Package 94/193HostnameOS / ArchINSTALLBUILDCHECKBUILD BIN
IMAS 1.34.0  (landing page)
Seonggyun Han
git_last_commit: ec268ac
git_last_commit_date: 2025-10-29 10:38:10 -0500
nebbiolo2Linux (Ubuntu 24.04.3 LTS) / x86_64  OK    ERROR  skipped
kjohnson3macOS 13.7.7 Ventura / arm64  OK    ERROR  skippedskipped
Package 95/193HostnameOS / ArchINSTALLBUILDCHECKBUILD BIN
InPAS 2.18.0  (landing page)
Jianhong Ou
git_last_commit: b015763
git_last_commit_date: 2025-10-29 10:24:45 -0500
nebbiolo2Linux (Ubuntu 24.04.3 LTS) / x86_64  OK    OK    WARNINGS  UNNEEDED, same version is already published
kjohnson3macOS 13.7.7 Ventura / arm64  OK    OK    WARNINGS    OK  UNNEEDED, same version is already published
Package 96/193HostnameOS / ArchINSTALLBUILDCHECKBUILD BIN
interactiveDisplay 1.48.0  (landing page)
Bioconductor Package Maintainer
git_last_commit: a68c9ad
git_last_commit_date: 2025-10-29 10:17:08 -0500
nebbiolo2Linux (Ubuntu 24.04.3 LTS) / x86_64  OK    OK    OK  UNNEEDED, same version is already published
kjohnson3macOS 13.7.7 Ventura / arm64  OK    OK    OK    OK  UNNEEDED, same version is already published
Package 97/193HostnameOS / ArchINSTALLBUILDCHECKBUILD BIN
ipdDb 1.28.0  (landing page)
Steffen Klasberg
git_last_commit: 3758ef6
git_last_commit_date: 2025-10-29 10:46:13 -0500
nebbiolo2Linux (Ubuntu 24.04.3 LTS) / x86_64  OK    OK    OK  UNNEEDED, same version is already published
kjohnson3macOS 13.7.7 Ventura / arm64  OK    OK    OK    OK  UNNEEDED, same version is already published
Package 98/193HostnameOS / ArchINSTALLBUILDCHECKBUILD BIN
isomiRs 1.38.0  (landing page)
Lorena Pantano
git_last_commit: c30a378
git_last_commit_date: 2025-10-29 10:31:12 -0500
nebbiolo2Linux (Ubuntu 24.04.3 LTS) / x86_64  OK    OK    ERROR  
kjohnson3macOS 13.7.7 Ventura / arm64  OK    OK    ERROR    OK  
Package 99/193HostnameOS / ArchINSTALLBUILDCHECKBUILD BIN
IVAS 2.30.0  (landing page)
Seonggyun Han
git_last_commit: 5aaa72a
git_last_commit_date: 2025-10-29 10:23:46 -0500
nebbiolo2Linux (Ubuntu 24.04.3 LTS) / x86_64  OK    OK    WARNINGS  UNNEEDED, same version is already published
kjohnson3macOS 13.7.7 Ventura / arm64  OK    OK    WARNINGS    OK  UNNEEDED, same version is already published
Package 100/193HostnameOS / ArchINSTALLBUILDCHECKBUILD BIN
karyoploteR 1.36.0  (landing page)
Bernat Gel
git_last_commit: 50652ef
git_last_commit_date: 2025-10-29 10:36:38 -0500
nebbiolo2Linux (Ubuntu 24.04.3 LTS) / x86_64  OK    OK    OK  UNNEEDED, same version is already published
kjohnson3macOS 13.7.7 Ventura / arm64  OK    OK    OK    OK  UNNEEDED, same version is already published
Package 101/193HostnameOS / ArchINSTALLBUILDCHECKBUILD BIN
KEGGlincs 1.36.0  (landing page)
Shana White , Mario Medvedovic
git_last_commit: d01fd07
git_last_commit_date: 2025-10-29 10:34:49 -0500
nebbiolo2Linux (Ubuntu 24.04.3 LTS) / x86_64  OK    OK    OK  UNNEEDED, same version is already published
kjohnson3macOS 13.7.7 Ventura / arm64  OK    OK    OK    OK  UNNEEDED, same version is already published
Package 102/193HostnameOS / ArchINSTALLBUILDCHECKBUILD BIN
keggorthology 2.62.0  (landing page)
VJ Carey
git_last_commit: 5b39ffd
git_last_commit_date: 2025-10-29 09:59:39 -0500
nebbiolo2Linux (Ubuntu 24.04.3 LTS) / x86_64  OK    OK    OK  UNNEEDED, same version is already published
kjohnson3macOS 13.7.7 Ventura / arm64  OK    OK    OK    OK  UNNEEDED, same version is already published
Package 103/193HostnameOS / ArchINSTALLBUILDCHECKBUILD BIN
linkSet 1.0.0  (landing page)
Gilbert Han
git_last_commit: e983433
git_last_commit_date: 2025-10-29 11:37:12 -0500
nebbiolo2Linux (Ubuntu 24.04.3 LTS) / x86_64  OK    OK    WARNINGS  UNNEEDED, same version is already published
kjohnson3macOS 13.7.7 Ventura / arm64  OK    ERROR  skippedskipped
Package 104/193HostnameOS / ArchINSTALLBUILDCHECKBUILD BIN
LRBaseDbi 2.20.0  (landing page)
Koki Tsuyuzaki
git_last_commit: 5edc0aa
git_last_commit_date: 2025-10-29 10:46:33 -0500
nebbiolo2Linux (Ubuntu 24.04.3 LTS) / x86_64  OK    OK    OK  UNNEEDED, same version is already published
kjohnson3macOS 13.7.7 Ventura / arm64  OK    OK    OK    OK  UNNEEDED, same version is already published
Package 105/193HostnameOS / ArchINSTALLBUILDCHECKBUILD BIN
lumi 2.62.0  (landing page)
Lei Huang
git_last_commit: 1123e59
git_last_commit_date: 2025-10-29 09:58:49 -0500
nebbiolo2Linux (Ubuntu 24.04.3 LTS) / x86_64  OK    OK    WARNINGS  UNNEEDED, same version is already published
kjohnson3macOS 13.7.7 Ventura / arm64  OK    OK    WARNINGS    OK  UNNEEDED, same version is already published
Package 106/193HostnameOS / ArchINSTALLBUILDCHECKBUILD BIN
magpie 1.10.0  (landing page)
Daoyu Duan
git_last_commit: 0afc3bf
git_last_commit_date: 2025-10-29 11:21:48 -0500
nebbiolo2Linux (Ubuntu 24.04.3 LTS) / x86_64  OK    OK    WARNINGS  UNNEEDED, same version is already published
kjohnson3macOS 13.7.7 Ventura / arm64  OK    OK    WARNINGS    OK  UNNEEDED, same version is already published
Package 107/193HostnameOS / ArchINSTALLBUILDCHECKBUILD BIN
maPredictDSC 1.48.0  (landing page)
Adi Laurentiu Tarca
git_last_commit: 27c85a2
git_last_commit_date: 2025-10-29 10:15:22 -0500
nebbiolo2Linux (Ubuntu 24.04.3 LTS) / x86_64  OK    OK    OK  UNNEEDED, same version is already published
kjohnson3macOS 13.7.7 Ventura / arm64  OK    OK    OK    OK  UNNEEDED, same version is already published
Package 108/193HostnameOS / ArchINSTALLBUILDCHECKBUILD BIN
mastR 1.10.0  (landing page)
Jinjin Chen
git_last_commit: 2cd82fb
git_last_commit_date: 2025-10-29 11:22:48 -0500
nebbiolo2Linux (Ubuntu 24.04.3 LTS) / x86_64  OK    OK    OK  UNNEEDED, same version is already published
kjohnson3macOS 13.7.7 Ventura / arm64  OK    OK    OK    OK  UNNEEDED, same version is already published
Package 109/193HostnameOS / ArchINSTALLBUILDCHECKBUILD BIN
MCbiclust 1.34.0  (landing page)
Robert Bentham
git_last_commit: 68eea3e
git_last_commit_date: 2025-10-29 10:36:44 -0500
nebbiolo2Linux (Ubuntu 24.04.3 LTS) / x86_64  OK    OK    OK  UNNEEDED, same version is already published
kjohnson3macOS 13.7.7 Ventura / arm64  OK    OK    OK    OK  UNNEEDED, same version is already published
Package 110/193HostnameOS / ArchINSTALLBUILDCHECKBUILD BIN
MeSHDbi 1.46.0  (landing page)
Koki Tsuyuzaki
git_last_commit: 4b20d70
git_last_commit_date: 2025-10-29 10:19:20 -0500
nebbiolo2Linux (Ubuntu 24.04.3 LTS) / x86_64  OK    OK    OK  UNNEEDED, same version is already published
kjohnson3macOS 13.7.7 Ventura / arm64  OK    OK    OK    OK  UNNEEDED, same version is already published
Package 111/193HostnameOS / ArchINSTALLBUILDCHECKBUILD BIN
meshes 1.36.0  (landing page)
Guangchuang Yu
git_last_commit: 6d7a37c
git_last_commit_date: 2025-10-29 10:35:16 -0500
nebbiolo2Linux (Ubuntu 24.04.3 LTS) / x86_64  OK    OK    OK  UNNEEDED, same version is already published
kjohnson3macOS 13.7.7 Ventura / arm64  OK    OK    OK    OK  UNNEEDED, same version is already published
Package 112/193HostnameOS / ArchINSTALLBUILDCHECKBUILD BIN
MesKit 1.20.0  (landing page)
Mengni Liu
git_last_commit: 8a34315
git_last_commit_date: 2025-10-29 11:01:00 -0500
nebbiolo2Linux (Ubuntu 24.04.3 LTS) / x86_64  OK    OK    WARNINGS  UNNEEDED, same version is already published
kjohnson3macOS 13.7.7 Ventura / arm64  OK    OK    WARNINGS    OK  UNNEEDED, same version is already published
Package 113/193HostnameOS / ArchINSTALLBUILDCHECKBUILD BIN
MetaboSignal 1.40.0  (landing page)
Andrea Rodriguez-Martinez
git_last_commit: 4db76ce
git_last_commit_date: 2025-10-29 10:34:11 -0500
nebbiolo2Linux (Ubuntu 24.04.3 LTS) / x86_64  OK    OK    OK  UNNEEDED, same version is already published
kjohnson3macOS 13.7.7 Ventura / arm64  OK    OK    OK    OK  UNNEEDED, same version is already published
Package 114/193HostnameOS / ArchINSTALLBUILDCHECKBUILD BIN
methylGSA 1.28.0  (landing page)
Xu Ren
git_last_commit: 66c5dc9
git_last_commit_date: 2025-10-29 10:46:15 -0500
nebbiolo2Linux (Ubuntu 24.04.3 LTS) / x86_64  OK    OK    OK  UNNEEDED, same version is already published
kjohnson3macOS 13.7.7 Ventura / arm64  OK    OK    OK    OK  UNNEEDED, same version is already published
Package 115/193HostnameOS / ArchINSTALLBUILDCHECKBUILD BIN
methylumi 2.56.0  (landing page)
Sean Davis
git_last_commit: baf2fdd
git_last_commit_date: 2025-10-29 10:02:53 -0500
nebbiolo2Linux (Ubuntu 24.04.3 LTS) / x86_64  OK    OK    OK  UNNEEDED, same version is already published
kjohnson3macOS 13.7.7 Ventura / arm64  OK    OK    OK    OK  UNNEEDED, same version is already published
Package 116/193HostnameOS / ArchINSTALLBUILDCHECKBUILD BIN
MGFM 1.44.0  (landing page)
Khadija El Amrani
git_last_commit: 3775829
git_last_commit_date: 2025-10-29 10:21:39 -0500
nebbiolo2Linux (Ubuntu 24.04.3 LTS) / x86_64  OK    OK    OK  UNNEEDED, same version is already published
kjohnson3macOS 13.7.7 Ventura / arm64  OK    OK    OK    OK  UNNEEDED, same version is already published
Package 117/193HostnameOS / ArchINSTALLBUILDCHECKBUILD BIN
MineICA 1.50.0  (landing page)
Anne Biton
git_last_commit: dc9c2eb
git_last_commit_date: 2025-10-29 10:13:40 -0500
nebbiolo2Linux (Ubuntu 24.04.3 LTS) / x86_64  OK    OK    ERROR  
kjohnson3macOS 13.7.7 Ventura / arm64  OK    OK    ERROR    OK  
Package 118/193HostnameOS / ArchINSTALLBUILDCHECKBUILD BIN
MiRaGE 1.52.0  (landing page)
Y-h. Taguchi
git_last_commit: e04e687
git_last_commit_date: 2025-10-29 10:11:09 -0500
nebbiolo2Linux (Ubuntu 24.04.3 LTS) / x86_64  OK    OK    WARNINGS  UNNEEDED, same version is already published
kjohnson3macOS 13.7.7 Ventura / arm64  OK    OK    WARNINGS    OK  UNNEEDED, same version is already published
Package 119/193HostnameOS / ArchINSTALLBUILDCHECKBUILD BIN
mirIntegrator 1.40.0  (landing page)
Diana Diaz
git_last_commit: 1bd2140
git_last_commit_date: 2025-10-29 10:26:26 -0500
nebbiolo2Linux (Ubuntu 24.04.3 LTS) / x86_64  OK    OK    OK  UNNEEDED, same version is already published
kjohnson3macOS 13.7.7 Ventura / arm64  OK    OK    OK    OK  UNNEEDED, same version is already published
Package 120/193HostnameOS / ArchINSTALLBUILDCHECKBUILD BIN
MIRit 1.6.0  (landing page)
Jacopo Ronchi
git_last_commit: 2274523
git_last_commit_date: 2025-10-29 11:27:39 -0500
nebbiolo2Linux (Ubuntu 24.04.3 LTS) / x86_64  OK    OK    OK  UNNEEDED, same version is already published
kjohnson3macOS 13.7.7 Ventura / arm64  OK    OK    OK    OK  UNNEEDED, same version is already published
Package 121/193HostnameOS / ArchINSTALLBUILDCHECKBUILD BIN
miRNAmeConverter 1.38.0  (landing page)
Stefan J. Haunsberger
git_last_commit: 8422462
git_last_commit_date: 2025-10-29 10:30:37 -0500
nebbiolo2Linux (Ubuntu 24.04.3 LTS) / x86_64  OK    OK    WARNINGS  UNNEEDED, same version is already published
kjohnson3macOS 13.7.7 Ventura / arm64  OK    OK    WARNINGS    OK  UNNEEDED, same version is already published
Package 122/193HostnameOS / ArchINSTALLBUILDCHECKBUILD BIN
miRNAtap 1.44.0  (landing page)
T. Ian Simpson
git_last_commit: 96a79bc
git_last_commit_date: 2025-10-29 10:20:45 -0500
nebbiolo2Linux (Ubuntu 24.04.3 LTS) / x86_64  OK    OK    OK  UNNEEDED, same version is already published
kjohnson3macOS 13.7.7 Ventura / arm64  OK    OK    OK    OK  UNNEEDED, same version is already published
Package 123/193HostnameOS / ArchINSTALLBUILDCHECKBUILD BIN
missMethyl 1.44.0  (landing page)
Belinda Phipson
git_last_commit: 3ca88f7
git_last_commit_date: 2025-10-29 10:20:32 -0500
nebbiolo2Linux (Ubuntu 24.04.3 LTS) / x86_64  OK    OK    WARNINGS  UNNEEDED, same version is already published
kjohnson3macOS 13.7.7 Ventura / arm64  OK    OK    WARNINGS    OK  UNNEEDED, same version is already published
Package 124/193HostnameOS / ArchINSTALLBUILDCHECKBUILD BIN
mitology 1.2.0  (landing page)
Stefania Pirrotta
git_last_commit: 6e9b360
git_last_commit_date: 2025-10-29 11:36:14 -0500
nebbiolo2Linux (Ubuntu 24.04.3 LTS) / x86_64  OK    OK    OK  UNNEEDED, same version is already published
kjohnson3macOS 13.7.7 Ventura / arm64  OK    OK    OK    OK  UNNEEDED, same version is already published
Package 125/193HostnameOS / ArchINSTALLBUILDCHECKBUILD BIN
MLP 1.58.0  (landing page)
Tobias Verbeke
git_last_commit: 10c7161
git_last_commit_date: 2025-10-29 10:06:15 -0500
nebbiolo2Linux (Ubuntu 24.04.3 LTS) / x86_64  OK    OK    OK  UNNEEDED, same version is already published
kjohnson3macOS 13.7.7 Ventura / arm64  OK    OK    ERROR    OK  
Package 126/193HostnameOS / ArchINSTALLBUILDCHECKBUILD BIN
MOSClip 1.4.0  (landing page)
Paolo Martini
git_last_commit: b231f21
git_last_commit_date: 2025-10-29 11:32:56 -0500
nebbiolo2Linux (Ubuntu 24.04.3 LTS) / x86_64  OK    OK    OK  UNNEEDED, same version is already published
kjohnson3macOS 13.7.7 Ventura / arm64  OK    OK    OK    OK  UNNEEDED, same version is already published
Package 127/193HostnameOS / ArchINSTALLBUILDCHECKBUILD BIN
mosdef 1.6.0  (landing page)
Federico Marini
git_last_commit: b5bb63e
git_last_commit_date: 2025-10-29 11:29:58 -0500
nebbiolo2Linux (Ubuntu 24.04.3 LTS) / x86_64  OK    OK    OK  UNNEEDED, same version is already published
kjohnson3macOS 13.7.7 Ventura / arm64  OK    OK    OK    OK  UNNEEDED, same version is already published
Package 128/193HostnameOS / ArchINSTALLBUILDCHECKBUILD BIN
MSnID 1.44.0  (landing page)
Vlad Petyuk
git_last_commit: 80a4b14
git_last_commit_date: 2025-10-29 10:21:36 -0500
nebbiolo2Linux (Ubuntu 24.04.3 LTS) / x86_64  OK    OK    OK  UNNEEDED, same version is already published
kjohnson3macOS 13.7.7 Ventura / arm64  OK    OK    ERROR    OK  
Package 129/193HostnameOS / ArchINSTALLBUILDCHECKBUILD BIN
multiGSEA 1.20.0  (landing page)
Sebastian Canzler
git_last_commit: 89609e9
git_last_commit_date: 2025-10-29 11:00:17 -0500
nebbiolo2Linux (Ubuntu 24.04.3 LTS) / x86_64  OK    OK    OK  UNNEEDED, same version is already published
kjohnson3macOS 13.7.7 Ventura / arm64  OK    OK    OK    OK  UNNEEDED, same version is already published
Package 130/193HostnameOS / ArchINSTALLBUILDCHECKBUILD BIN
multiMiR 1.32.0  (landing page)
Spencer Mahaffey
git_last_commit: 0cd565e
git_last_commit_date: 2025-10-29 10:40:52 -0500
nebbiolo2Linux (Ubuntu 24.04.3 LTS) / x86_64  OK    OK    OK  UNNEEDED, same version is already published
kjohnson3macOS 13.7.7 Ventura / arm64  OK    OK    OK    OK  UNNEEDED, same version is already published
Package 131/193HostnameOS / ArchINSTALLBUILDCHECKBUILD BIN
NanoMethViz 3.6.0  (landing page)
Shian Su
git_last_commit: 836d7c6
git_last_commit_date: 2025-10-29 11:04:08 -0500
nebbiolo2Linux (Ubuntu 24.04.3 LTS) / x86_64  OK    OK    OK  UNNEEDED, same version is already published
kjohnson3macOS 13.7.7 Ventura / arm64  OK    OK    OK    OK  UNNEEDED, same version is already published
Package 132/193HostnameOS / ArchINSTALLBUILDCHECKBUILD BIN
NetSAM 1.50.0  (landing page)
Zhiao Shi
git_last_commit: 61a9843
git_last_commit_date: 2025-10-29 10:15:12 -0500
nebbiolo2Linux (Ubuntu 24.04.3 LTS) / x86_64  OK    OK    OK  UNNEEDED, same version is already published
kjohnson3macOS 13.7.7 Ventura / arm64  OK    OK    OK    OK  UNNEEDED, same version is already published
Package 133/193HostnameOS / ArchINSTALLBUILDCHECKBUILD BIN
netZooR 1.14.0  (landing page)
Marouen Ben Guebila
git_last_commit: 5f3b18e
git_last_commit_date: 2025-10-29 11:14:04 -0500
nebbiolo2Linux (Ubuntu 24.04.3 LTS) / x86_64  ERROR    ERROR  skipped
kjohnson3macOS 13.7.7 Ventura / arm64  ERROR    ERROR  skippedskipped
Package 134/193HostnameOS / ArchINSTALLBUILDCHECKBUILD BIN
NoRCE 1.22.0  (landing page)
Gulden Olgun
git_last_commit: 355a24c
git_last_commit_date: 2025-10-29 10:57:38 -0500
nebbiolo2Linux (Ubuntu 24.04.3 LTS) / x86_64  OK    OK    OK  UNNEEDED, same version is already published
kjohnson3macOS 13.7.7 Ventura / arm64  OK    OK    OK    OK  UNNEEDED, same version is already published
Package 135/193HostnameOS / ArchINSTALLBUILDCHECKBUILD BIN
ORFik 1.30.0  (landing page)
Haakon Tjeldnes
git_last_commit: b860267
git_last_commit_date: 2025-10-29 10:45:22 -0500
nebbiolo2Linux (Ubuntu 24.04.3 LTS) / x86_64  OK    OK    OK  UNNEEDED, same version is already published
kjohnson3macOS 13.7.7 Ventura / arm64  OK    OK    OK    OK  UNNEEDED, same version is already published
Package 136/193HostnameOS / ArchINSTALLBUILDCHECKBUILD BIN
Organism.dplyr 1.38.0  (landing page)
Martin Morgan
git_last_commit: d022acf
git_last_commit_date: 2025-10-29 10:37:10 -0500
nebbiolo2Linux (Ubuntu 24.04.3 LTS) / x86_64  OK    OK    ERROR  
kjohnson3macOS 13.7.7 Ventura / arm64  OK    OK    ERROR    OK  
Package 137/193HostnameOS / ArchINSTALLBUILDCHECKBUILD BIN
OrganismDbi 1.52.0  (landing page)
Bioconductor Package Maintainer
git_last_commit: bd13a8e
git_last_commit_date: 2025-10-29 10:12:00 -0500
nebbiolo2Linux (Ubuntu 24.04.3 LTS) / x86_64  OK    OK    OK  UNNEEDED, same version is already published
kjohnson3macOS 13.7.7 Ventura / arm64  OK    OK    OK    OK  UNNEEDED, same version is already published
Package 138/193HostnameOS / ArchINSTALLBUILDCHECKBUILD BIN
OutSplice 1.10.0  (landing page)
Theresa Guo
git_last_commit: 394473e
git_last_commit_date: 2025-10-29 11:23:03 -0500
nebbiolo2Linux (Ubuntu 24.04.3 LTS) / x86_64  OK    OK    OK  UNNEEDED, same version is already published
kjohnson3macOS 13.7.7 Ventura / arm64  OK    OK    OK    OK  UNNEEDED, same version is already published
Package 139/193HostnameOS / ArchINSTALLBUILDCHECKBUILD BIN
PADOG 1.52.0  (landing page)
Adi L. Tarca
git_last_commit: 08a7421
git_last_commit_date: 2025-10-29 10:11:37 -0500
nebbiolo2Linux (Ubuntu 24.04.3 LTS) / x86_64  OK    OK    OK  UNNEEDED, same version is already published
kjohnson3macOS 13.7.7 Ventura / arm64  OK    OK    OK    OK  UNNEEDED, same version is already published
Package 140/193HostnameOS / ArchINSTALLBUILDCHECKBUILD BIN
pathRender 1.78.0  (landing page)
Vince Carey
git_last_commit: 4ea6df8
git_last_commit_date: 2025-10-29 09:57:23 -0500
nebbiolo2Linux (Ubuntu 24.04.3 LTS) / x86_64  OK    OK    OK  UNNEEDED, same version is already published
kjohnson3macOS 13.7.7 Ventura / arm64  OK    OK    OK    OK  UNNEEDED, same version is already published
Package 141/193HostnameOS / ArchINSTALLBUILDCHECKBUILD BIN
pathview 1.50.0  (landing page)
Weijun Luo
git_last_commit: 5efd147
git_last_commit_date: 2025-10-29 10:14:01 -0500
nebbiolo2Linux (Ubuntu 24.04.3 LTS) / x86_64  OK    OK    WARNINGS  UNNEEDED, same version is already published
kjohnson3macOS 13.7.7 Ventura / arm64  OK    OK    WARNINGS    OK  UNNEEDED, same version is already published
Package 142/193HostnameOS / ArchINSTALLBUILDCHECKBUILD BIN
pcaExplorer 3.4.0  (landing page)
Federico Marini
git_last_commit: 5b76435
git_last_commit_date: 2025-10-29 10:31:39 -0500
nebbiolo2Linux (Ubuntu 24.04.3 LTS) / x86_64  OK    OK    OK  UNNEEDED, same version is already published
kjohnson3macOS 13.7.7 Ventura / arm64  OK    OK    OK    OK  UNNEEDED, same version is already published
Package 143/193HostnameOS / ArchINSTALLBUILDCHECKBUILD BIN
phantasus 1.30.0  (landing page)
Alexey Sergushichev
git_last_commit: 7182df1
git_last_commit_date: 2025-10-29 10:44:01 -0500
nebbiolo2Linux (Ubuntu 24.04.3 LTS) / x86_64  OK    OK    ERROR  
kjohnson3macOS 13.7.7 Ventura / arm64  OK    OK    OK    OK  UNNEEDED, same version is already published
Package 144/193HostnameOS / ArchINSTALLBUILDCHECKBUILD BIN
phenoTest 1.58.0  (landing page)
Evarist Planet
git_last_commit: 25bf541
git_last_commit_date: 2025-10-29 10:06:30 -0500
nebbiolo2Linux (Ubuntu 24.04.3 LTS) / x86_64  OK    OK    OK  UNNEEDED, same version is already published
kjohnson3macOS 13.7.7 Ventura / arm64  OK    OK    OK    OK  UNNEEDED, same version is already published
Package 145/193HostnameOS / ArchINSTALLBUILDCHECKBUILD BIN
proActiv 1.20.0  (landing page)
Joseph Lee
git_last_commit: 69c3302
git_last_commit_date: 2025-10-29 11:02:09 -0500
nebbiolo2Linux (Ubuntu 24.04.3 LTS) / x86_64  OK    OK    OK  UNNEEDED, same version is already published
kjohnson3macOS 13.7.7 Ventura / arm64  OK    OK    OK    OK  UNNEEDED, same version is already published
Package 146/193HostnameOS / ArchINSTALLBUILDCHECKBUILD BIN
proBAMr 1.44.0  (landing page)
Xiaojing Wang
git_last_commit: 90383eb
git_last_commit_date: 2025-10-29 10:22:01 -0500
nebbiolo2Linux (Ubuntu 24.04.3 LTS) / x86_64  OK    OK    OK  UNNEEDED, same version is already published
kjohnson3macOS 13.7.7 Ventura / arm64  OK    OK    OK    OK  UNNEEDED, same version is already published
Package 147/193HostnameOS / ArchINSTALLBUILDCHECKBUILD BIN
psichomics 1.36.0  (landing page)
Nuno Saraiva-Agostinho
git_last_commit: 7123c18
git_last_commit_date: 2025-10-29 10:35:05 -0500
nebbiolo2Linux (Ubuntu 24.04.3 LTS) / x86_64  OK    OK    OK  UNNEEDED, same version is already published
kjohnson3macOS 13.7.7 Ventura / arm64  OK    OK    OK    OK  UNNEEDED, same version is already published
Package 148/193HostnameOS / ArchINSTALLBUILDCHECKBUILD BIN
qpgraph 2.44.0  (landing page)
Robert Castelo
git_last_commit: 7de7e0c
git_last_commit_date: 2025-10-29 10:02:10 -0500
nebbiolo2Linux (Ubuntu 24.04.3 LTS) / x86_64  OK    OK    OK  UNNEEDED, same version is already published
kjohnson3macOS 13.7.7 Ventura / arm64  OK    OK    OK    OK  UNNEEDED, same version is already published
Package 149/193HostnameOS / ArchINSTALLBUILDCHECKBUILD BIN
QuasR 1.50.0  (landing page)
Michael Stadler
git_last_commit: 3274f2d
git_last_commit_date: 2025-10-29 10:13:16 -0500
nebbiolo2Linux (Ubuntu 24.04.3 LTS) / x86_64  OK    OK    WARNINGS  UNNEEDED, same version is already published
kjohnson3macOS 13.7.7 Ventura / arm64  OK    OK    WARNINGS    OK  UNNEEDED, same version is already published
Package 150/193HostnameOS / ArchINSTALLBUILDCHECKBUILD BIN
RAIDS 1.8.0  (landing page)
Pascal Belleau
git_last_commit: 4c9a678
git_last_commit_date: 2025-10-29 11:25:36 -0500
nebbiolo2Linux (Ubuntu 24.04.3 LTS) / x86_64  OK    OK    OK  UNNEEDED, same version is already published
kjohnson3macOS 13.7.7 Ventura / arm64  OK    OK    OK    OK  UNNEEDED, same version is already published
Package 151/193HostnameOS / ArchINSTALLBUILDCHECKBUILD BIN
rCGH 1.40.0  (landing page)
Frederic Commo
git_last_commit: 2a97521
git_last_commit_date: 2025-10-29 10:26:46 -0500
nebbiolo2Linux (Ubuntu 24.04.3 LTS) / x86_64  OK    OK    OK  UNNEEDED, same version is already published
kjohnson3macOS 13.7.7 Ventura / arm64  OK    OK    OK    OK  UNNEEDED, same version is already published
Package 152/193HostnameOS / ArchINSTALLBUILDCHECKBUILD BIN
ReactomePA 1.54.0  (landing page)
Guangchuang Yu
git_last_commit: 36f3c2f
git_last_commit_date: 2025-10-29 10:10:37 -0500
nebbiolo2Linux (Ubuntu 24.04.3 LTS) / x86_64  OK    OK    OK  UNNEEDED, same version is already published
kjohnson3macOS 13.7.7 Ventura / arm64  OK    OK    OK    OK  UNNEEDED, same version is already published
Package 153/193HostnameOS / ArchINSTALLBUILDCHECKBUILD BIN
REDseq 1.56.0  (landing page)
Lihua Julie Zhu
git_last_commit: 872f291
git_last_commit_date: 2025-10-29 10:07:45 -0500
nebbiolo2Linux (Ubuntu 24.04.3 LTS) / x86_64  OK    OK    OK  UNNEEDED, same version is already published
kjohnson3macOS 13.7.7 Ventura / arm64  OK    OK    OK    OK  UNNEEDED, same version is already published
Package 154/193HostnameOS / ArchINSTALLBUILDCHECKBUILD BIN
regutools 1.22.0  (landing page)
Joselyn Chavez
git_last_commit: f94aecc
git_last_commit_date: 2025-10-29 10:59:10 -0500
nebbiolo2Linux (Ubuntu 24.04.3 LTS) / x86_64  OK    OK    OK  UNNEEDED, same version is already published
kjohnson3macOS 13.7.7 Ventura / arm64  OK    OK    OK    OK  UNNEEDED, same version is already published
Package 155/193HostnameOS / ArchINSTALLBUILDCHECKBUILD BIN
ReportingTools 2.50.0  (landing page)
Jason A. Hackney , Gabriel Becker
git_last_commit: 9a53d36
git_last_commit_date: 2025-10-29 10:12:14 -0500
nebbiolo2Linux (Ubuntu 24.04.3 LTS) / x86_64  OK    OK    OK  UNNEEDED, same version is already published
kjohnson3macOS 13.7.7 Ventura / arm64  OK    OK    OK    OK  UNNEEDED, same version is already published
Package 156/193HostnameOS / ArchINSTALLBUILDCHECKBUILD BIN
RFLOMICS 1.2.0  (landing page)
Nadia Bessoltane
git_last_commit: cb2ef8a
git_last_commit_date: 2025-10-29 11:35:35 -0500
nebbiolo2Linux (Ubuntu 24.04.3 LTS) / x86_64  OK    OK    OK  UNNEEDED, same version is already published
kjohnson3macOS 13.7.7 Ventura / arm64  OK    OK    OK    OK  NO, package depends on 'MOFA2' which is only available as a source package that needs compilation
Package 157/193HostnameOS / ArchINSTALLBUILDCHECKBUILD BIN
rGREAT 2.12.0  (landing page)
Zuguang Gu
git_last_commit: 6107cdf
git_last_commit_date: 2025-10-29 10:23:59 -0500
nebbiolo2Linux (Ubuntu 24.04.3 LTS) / x86_64  OK    OK    ERROR  
kjohnson3macOS 13.7.7 Ventura / arm64  OK    OK    ERROR    OK  
Package 158/193HostnameOS / ArchINSTALLBUILDCHECKBUILD BIN
rgsepd 1.42.0  (landing page)
Karl Stamm
git_last_commit: c033fd6
git_last_commit_date: 2025-10-29 10:23:22 -0500
nebbiolo2Linux (Ubuntu 24.04.3 LTS) / x86_64  OK    OK    OK  UNNEEDED, same version is already published
kjohnson3macOS 13.7.7 Ventura / arm64  OK    OK    OK    OK  UNNEEDED, same version is already published
Package 159/193HostnameOS / ArchINSTALLBUILDCHECKBUILD BIN
ribosomeProfilingQC 1.22.0  (landing page)
Jianhong Ou
git_last_commit: d8ce3bd
git_last_commit_date: 2025-10-29 10:57:03 -0500
nebbiolo2Linux (Ubuntu 24.04.3 LTS) / x86_64  OK    OK    OK  UNNEEDED, same version is already published
kjohnson3macOS 13.7.7 Ventura / arm64  OK    OK    OK    OK  UNNEEDED, same version is already published
Package 160/193HostnameOS / ArchINSTALLBUILDCHECKBUILD BIN
RNAAgeCalc 1.22.0  (landing page)
Xu Ren
git_last_commit: 5d0a53a
git_last_commit_date: 2025-10-29 10:57:30 -0500
nebbiolo2Linux (Ubuntu 24.04.3 LTS) / x86_64  OK    OK    OK  UNNEEDED, same version is already published
kjohnson3macOS 13.7.7 Ventura / arm64  OK    OK    OK    OK  UNNEEDED, same version is already published
Package 161/193HostnameOS / ArchINSTALLBUILDCHECKBUILD BIN
rrvgo 1.22.0  (landing page)
Sergi Sayols
git_last_commit: 76f2f43
git_last_commit_date: 2025-10-29 10:57:06 -0500
nebbiolo2Linux (Ubuntu 24.04.3 LTS) / x86_64  OK    OK    OK  UNNEEDED, same version is already published
kjohnson3macOS 13.7.7 Ventura / arm64  OK    OK    OK    OK  UNNEEDED, same version is already published
Package 162/193HostnameOS / ArchINSTALLBUILDCHECKBUILD BIN
rTRM 1.48.0  (landing page)
Diego Diez
git_last_commit: f220f64
git_last_commit_date: 2025-10-29 10:15:20 -0500
nebbiolo2Linux (Ubuntu 24.04.3 LTS) / x86_64  OK    OK    OK  UNNEEDED, same version is already published
kjohnson3macOS 13.7.7 Ventura / arm64  OK    OK    OK    OK  UNNEEDED, same version is already published
Package 163/193HostnameOS / ArchINSTALLBUILDCHECKBUILD BIN
safe 3.50.0  (landing page)
Ludwig Geistlinger
git_last_commit: 299aa5c
git_last_commit_date: 2025-10-29 09:56:10 -0500
nebbiolo2Linux (Ubuntu 24.04.3 LTS) / x86_64  OK    OK    OK  UNNEEDED, same version is already published
kjohnson3macOS 13.7.7 Ventura / arm64  OK    OK    OK    OK  UNNEEDED, same version is already published
Package 164/193HostnameOS / ArchINSTALLBUILDCHECKBUILD BIN
SBGNview 1.24.0  (landing page)
Weijun Luo
git_last_commit: b8c78f1
git_last_commit_date: 2025-10-29 10:52:54 -0500
nebbiolo2Linux (Ubuntu 24.04.3 LTS) / x86_64  OK    OK    OK  UNNEEDED, same version is already published
kjohnson3macOS 13.7.7 Ventura / arm64  OK    OK    OK    OK  UNNEEDED, same version is already published
Package 165/193HostnameOS / ArchINSTALLBUILDCHECKBUILD BIN
scanMiRApp 1.16.0  (landing page)
Pierre-Luc Germain
git_last_commit: bd87b89
git_last_commit_date: 2025-10-29 11:11:11 -0500
nebbiolo2Linux (Ubuntu 24.04.3 LTS) / x86_64  OK    OK    OK  UNNEEDED, same version is already published
kjohnson3macOS 13.7.7 Ventura / arm64  OK    OK    OK    OK  UNNEEDED, same version is already published
Package 166/193HostnameOS / ArchINSTALLBUILDCHECKBUILD BIN
scPipe 2.10.0  (landing page)
Shian Su
git_last_commit: c021029
git_last_commit_date: 2025-10-29 10:41:31 -0500
nebbiolo2Linux (Ubuntu 24.04.3 LTS) / x86_64  OK    OK    OK  UNNEEDED, same version is already published
kjohnson3macOS 13.7.7 Ventura / arm64  OK    OK    OK    OK  UNNEEDED, same version is already published
Package 167/193HostnameOS / ArchINSTALLBUILDCHECKBUILD BIN
scruff 1.28.0  (landing page)
Zhe Wang
git_last_commit: 085152e
git_last_commit_date: 2025-10-29 10:46:27 -0500
nebbiolo2Linux (Ubuntu 24.04.3 LTS) / x86_64  OK    OK    OK  UNNEEDED, same version is already published
kjohnson3macOS 13.7.7 Ventura / arm64  OK    OK    OK    OK  UNNEEDED, same version is already published
Package 168/193HostnameOS / ArchINSTALLBUILDCHECKBUILD BIN
scTensor 2.20.0  (landing page)
Koki Tsuyuzaki
git_last_commit: 11f50bb
git_last_commit_date: 2025-10-29 10:49:00 -0500
nebbiolo2Linux (Ubuntu 24.04.3 LTS) / x86_64  OK    OK    WARNINGS  UNNEEDED, same version is already published
kjohnson3macOS 13.7.7 Ventura / arm64  OK    OK    WARNINGS    OK  UNNEEDED, same version is already published
Package 169/193HostnameOS / ArchINSTALLBUILDCHECKBUILD BIN
SemDist 1.44.0  (landing page)
Ian Gonzalez
git_last_commit: d765069
git_last_commit_date: 2025-10-29 10:20:53 -0500
nebbiolo2Linux (Ubuntu 24.04.3 LTS) / x86_64  OK    OK    OK  UNNEEDED, same version is already published
kjohnson3macOS 13.7.7 Ventura / arm64  OK    OK    OK    OK  UNNEEDED, same version is already published
Package 170/193HostnameOS / ArchINSTALLBUILDCHECKBUILD BIN
SGSeq 1.44.0  (landing page)
Leonard Goldstein
git_last_commit: 2a90d1b
git_last_commit_date: 2025-10-29 10:22:27 -0500
nebbiolo2Linux (Ubuntu 24.04.3 LTS) / x86_64  OK    OK    OK  UNNEEDED, same version is already published
kjohnson3macOS 13.7.7 Ventura / arm64  OK    OK    OK    OK  UNNEEDED, same version is already published
Package 171/193HostnameOS / ArchINSTALLBUILDCHECKBUILD BIN
signatureSearch 1.24.0  (landing page)
Brendan Gongol
git_last_commit: ce6ab95
git_last_commit_date: 2025-10-29 10:55:44 -0500
nebbiolo2Linux (Ubuntu 24.04.3 LTS) / x86_64  OK    OK    OK  UNNEEDED, same version is already published
kjohnson3macOS 13.7.7 Ventura / arm64  OK    OK    OK    OK  UNNEEDED, same version is already published
Package 172/193HostnameOS / ArchINSTALLBUILDCHECKBUILD BIN
signifinder 1.12.0  (landing page)
Stefania Pirrotta
git_last_commit: 4cc4ec4
git_last_commit_date: 2025-10-29 11:19:34 -0500
nebbiolo2Linux (Ubuntu 24.04.3 LTS) / x86_64  OK    OK    OK  UNNEEDED, same version is already published
kjohnson3macOS 13.7.7 Ventura / arm64  OK    OK    OK    OK  UNNEEDED, same version is already published
Package 173/193HostnameOS / ArchINSTALLBUILDCHECKBUILD BIN
simplifyEnrichment 2.4.0  (landing page)
Zuguang Gu
git_last_commit: 366f2df
git_last_commit_date: 2025-10-29 10:59:50 -0500
nebbiolo2Linux (Ubuntu 24.04.3 LTS) / x86_64  OK    OK    OK  UNNEEDED, same version is already published
kjohnson3macOS 13.7.7 Ventura / arm64  OK    OK    OK    OK  UNNEEDED, same version is already published
Package 174/193HostnameOS / ArchINSTALLBUILDCHECKBUILD BIN
SMITE 1.38.0  (landing page)
Neil Ari Wijetunga
git_last_commit: 184b926
git_last_commit_date: 2025-10-29 10:29:51 -0500
nebbiolo2Linux (Ubuntu 24.04.3 LTS) / x86_64  OK    OK    OK  UNNEEDED, same version is already published
kjohnson3macOS 13.7.7 Ventura / arm64  OK    OK    OK    OK  UNNEEDED, same version is already published
Package 175/193HostnameOS / ArchINSTALLBUILDCHECKBUILD BIN
SPICEY 1.0.0  (landing page)
Georgina Fuentes-Páez
git_last_commit: 625bc2e
git_last_commit_date: 2025-10-29 11:37:52 -0500
nebbiolo2Linux (Ubuntu 24.04.3 LTS) / x86_64  OK    OK    OK  UNNEEDED, same version is already published
kjohnson3macOS 13.7.7 Ventura / arm64  OK    OK    OK    OK  UNNEEDED, same version is already published
Package 176/193HostnameOS / ArchINSTALLBUILDCHECKBUILD BIN
SubCellBarCode 1.26.0  (landing page)
Taner Arslan
git_last_commit: 97a1a22
git_last_commit_date: 2025-10-29 10:52:15 -0500
nebbiolo2Linux (Ubuntu 24.04.3 LTS) / x86_64  OK    OK    WARNINGS  UNNEEDED, same version is already published
kjohnson3macOS 13.7.7 Ventura / arm64  OK    OK    WARNINGS    OK  UNNEEDED, same version is already published
Package 177/193HostnameOS / ArchINSTALLBUILDCHECKBUILD BIN
SVMDO 1.10.0  (landing page)
Mustafa Erhan Ozer
git_last_commit: 86871da
git_last_commit_date: 2025-10-29 11:23:08 -0500
nebbiolo2Linux (Ubuntu 24.04.3 LTS) / x86_64  OK    OK    OK  UNNEEDED, same version is already published
kjohnson3macOS 13.7.7 Ventura / arm64  OK    OK    OK    OK  UNNEEDED, same version is already published
Package 178/193HostnameOS / ArchINSTALLBUILDCHECKBUILD BIN
TCGAutils 1.30.0  (landing page)
Marcel Ramos
git_last_commit: 4195bdf
git_last_commit_date: 2025-10-29 10:45:09 -0500
nebbiolo2Linux (Ubuntu 24.04.3 LTS) / x86_64  OK    OK    ERROR  
kjohnson3macOS 13.7.7 Ventura / arm64  OK    OK    ERROR    OK  
Package 179/193HostnameOS / ArchINSTALLBUILDCHECKBUILD BIN
tenXplore 1.32.0  (landing page)
VJ Carey
git_last_commit: e8cff89
git_last_commit_date: 2025-10-29 10:42:05 -0500
nebbiolo2Linux (Ubuntu 24.04.3 LTS) / x86_64  OK    OK    OK  UNNEEDED, same version is already published
kjohnson3macOS 13.7.7 Ventura / arm64  OK    OK    OK    OK  UNNEEDED, same version is already published
Package 180/193HostnameOS / ArchINSTALLBUILDCHECKBUILD BIN
TFutils 1.30.0  (landing page)
Vincent Carey
git_last_commit: fc98f4d
git_last_commit_date: 2025-10-29 10:44:40 -0500
nebbiolo2Linux (Ubuntu 24.04.3 LTS) / x86_64  OK    OK    OK  UNNEEDED, same version is already published
kjohnson3macOS 13.7.7 Ventura / arm64  OK    OK    OK    OK  UNNEEDED, same version is already published
Package 181/193HostnameOS / ArchINSTALLBUILDCHECKBUILD BIN
tigre 1.64.0  (landing page)
Antti Honkela
git_last_commit: 0b46268
git_last_commit_date: 2025-10-29 10:04:43 -0500
nebbiolo2Linux (Ubuntu 24.04.3 LTS) / x86_64  OK    OK    OK  UNNEEDED, same version is already published
kjohnson3macOS 13.7.7 Ventura / arm64  OK    OK    OK    OK  UNNEEDED, same version is already published
Package 182/193HostnameOS / ArchINSTALLBUILDCHECKBUILD BIN
topGO 2.62.0  (landing page)
Federico Marini
git_last_commit: 07c1375
git_last_commit_date: 2025-10-29 09:59:04 -0500
nebbiolo2Linux (Ubuntu 24.04.3 LTS) / x86_64  OK    OK    WARNINGS  UNNEEDED, same version is already published
kjohnson3macOS 13.7.7 Ventura / arm64  OK    OK    WARNINGS    OK  UNNEEDED, same version is already published
Package 183/193HostnameOS / ArchINSTALLBUILDCHECKBUILD BIN
trackViewer 1.46.0  (landing page)
Jianhong Ou
git_last_commit: 7f9ba3a
git_last_commit_date: 2025-10-29 10:17:52 -0500
nebbiolo2Linux (Ubuntu 24.04.3 LTS) / x86_64  OK    OK    OK  UNNEEDED, same version is already published
kjohnson3macOS 13.7.7 Ventura / arm64  OK    OK    OK    OK  UNNEEDED, same version is already published
Package 184/193HostnameOS / ArchINSTALLBUILDCHECKBUILD BIN
TRESS 1.16.0  (landing page)
Zhenxing Guo
git_last_commit: b61dd31
git_last_commit_date: 2025-10-29 11:12:49 -0500
nebbiolo2Linux (Ubuntu 24.04.3 LTS) / x86_64  OK    OK    OK  UNNEEDED, same version is already published
kjohnson3macOS 13.7.7 Ventura / arm64  OK    OK    OK    OK  UNNEEDED, same version is already published
Package 185/193HostnameOS / ArchINSTALLBUILDCHECKBUILD BIN
tricycle 1.18.0  (landing page)
Shijie Zheng
git_last_commit: 4fdcfb2
git_last_commit_date: 2025-10-29 11:08:17 -0500
nebbiolo2Linux (Ubuntu 24.04.3 LTS) / x86_64  OK    OK    WARNINGS  UNNEEDED, same version is already published
kjohnson3macOS 13.7.7 Ventura / arm64  OK    OK    WARNINGS    OK  UNNEEDED, same version is already published
Package 186/193HostnameOS / ArchINSTALLBUILDCHECKBUILD BIN
txcutr 1.16.0  (landing page)
Mervin Fansler
git_last_commit: c2ea2a8
git_last_commit_date: 2025-10-29 11:13:37 -0500
nebbiolo2Linux (Ubuntu 24.04.3 LTS) / x86_64  OK    OK    OK  UNNEEDED, same version is already published
kjohnson3macOS 13.7.7 Ventura / arm64  OK    OK    OK    OK  UNNEEDED, same version is already published
Package 187/193HostnameOS / ArchINSTALLBUILDCHECKBUILD BIN
txdbmaker 1.6.0  (landing page)
H. Pagès
git_last_commit: eed71e0
git_last_commit_date: 2025-10-29 13:57:16 -0500
nebbiolo2Linux (Ubuntu 24.04.3 LTS) / x86_64  OK    OK    OK  UNNEEDED, same version is already published
kjohnson3macOS 13.7.7 Ventura / arm64  OK    OK    OK    OK  UNNEEDED, same version is already published
Package 188/193HostnameOS / ArchINSTALLBUILDCHECKBUILD BIN
tximeta 1.28.0  (landing page)
Michael Love
git_last_commit: 4479514
git_last_commit_date: 2025-10-29 10:47:16 -0500
nebbiolo2Linux (Ubuntu 24.04.3 LTS) / x86_64  OK    OK    OK  UNNEEDED, same version is already published
kjohnson3macOS 13.7.7 Ventura / arm64  OK    OK    OK    OK  UNNEEDED, same version is already published
Package 189/193HostnameOS / ArchINSTALLBUILDCHECKBUILD BIN
Ularcirc 1.28.0  (landing page)
David Humphreys
git_last_commit: e6f04b4
git_last_commit_date: 2025-10-29 10:45:47 -0500
nebbiolo2Linux (Ubuntu 24.04.3 LTS) / x86_64  OK    OK    WARNINGS  UNNEEDED, same version is already published
kjohnson3macOS 13.7.7 Ventura / arm64  OK    OK    WARNINGS    OK  UNNEEDED, same version is already published
Package 190/193HostnameOS / ArchINSTALLBUILDCHECKBUILD BIN
UniProt.ws 2.50.0  (landing page)
Marcel Ramos
git_last_commit: d7b37e1
git_last_commit_date: 2025-10-29 10:12:47 -0500
nebbiolo2Linux (Ubuntu 24.04.3 LTS) / x86_64  OK    OK    OK  UNNEEDED, same version is already published
kjohnson3macOS 13.7.7 Ventura / arm64  OK    OK    OK    OK  UNNEEDED, same version is already published
Package 191/193HostnameOS / ArchINSTALLBUILDCHECKBUILD BIN
VariantAnnotation 1.56.0  (landing page)
Bioconductor Package Maintainer
git_last_commit: dc8ecd1
git_last_commit_date: 2025-10-29 10:08:24 -0500
nebbiolo2Linux (Ubuntu 24.04.3 LTS) / x86_64  OK    OK    WARNINGS  UNNEEDED, same version is already published
kjohnson3macOS 13.7.7 Ventura / arm64  OK    OK    WARNINGS    OK  UNNEEDED, same version is already published
Package 192/193HostnameOS / ArchINSTALLBUILDCHECKBUILD BIN
VariantFiltering 1.46.0  (landing page)
Robert Castelo
git_last_commit: 958023b
git_last_commit_date: 2025-10-29 10:19:08 -0500
nebbiolo2Linux (Ubuntu 24.04.3 LTS) / x86_64  OK    OK    OK  UNNEEDED, same version is already published
kjohnson3macOS 13.7.7 Ventura / arm64  OK    OK    OK    OK  UNNEEDED, same version is already published
Package 193/193HostnameOS / ArchINSTALLBUILDCHECKBUILD BIN
ViSEAGO 1.24.0  (landing page)
Aurelien Brionne
git_last_commit: 9020dee
git_last_commit_date: 2025-10-29 10:53:03 -0500
nebbiolo2Linux (Ubuntu 24.04.3 LTS) / x86_64  OK    OK    WARNINGS  UNNEEDED, same version is already published
kjohnson3macOS 13.7.7 Ventura / arm64  OK    OK    WARNINGS    OK  UNNEEDED, same version is already published