Back to Multiple platform build/check report for BioC 3.22:   simplified   long
ABCDEFGHIJKLM[N]OPQRSTUVWXYZ

This page was generated on 2025-11-03 12:05 -0500 (Mon, 03 Nov 2025).

HostnameOSArch (*)R versionInstalled pkgs
nebbiolo2Linux (Ubuntu 24.04.3 LTS)x86_644.5.1 Patched (2025-08-23 r88802) -- "Great Square Root" 4902
lconwaymacOS 12.7.6 Montereyx86_644.5.1 Patched (2025-09-10 r88807) -- "Great Square Root" 4692
kjohnson3macOS 13.7.7 Venturaarm644.5.1 Patched (2025-09-10 r88807) -- "Great Square Root" 4638
Click on any hostname to see more info about the system (e.g. compilers)      (*) as reported by 'uname -p', except on Windows and Mac OS X

Package 1460/2361HostnameOS / ArchINSTALLBUILDCHECKBUILD BIN
netZooR 1.14.0  (landing page)
Marouen Ben Guebila
Snapshot Date: 2025-11-02 13:45 -0500 (Sun, 02 Nov 2025)
git_url: https://git.bioconductor.org/packages/netZooR
git_branch: RELEASE_3_22
git_last_commit: 5f3b18e
git_last_commit_date: 2025-10-29 11:14:04 -0500 (Wed, 29 Oct 2025)
nebbiolo2Linux (Ubuntu 24.04.3 LTS) / x86_64  ERROR    ERROR  skipped
lconwaymacOS 12.7.6 Monterey / x86_64  ERROR    ERROR  skippedskipped
kjohnson3macOS 13.7.7 Ventura / arm64  ERROR    ERROR  skippedskipped


BUILD results for netZooR on kjohnson3

To the developers/maintainers of the netZooR package:
- Allow up to 24 hours (and sometimes 48 hours) for your latest push to git@git.bioconductor.org:packages/netZooR.git to reflect on this report. See Troubleshooting Build Report for more information.
- Use the following Renviron settings to reproduce errors and warnings.
- If 'R CMD check' started to fail recently on the Linux builder(s) over a missing dependency, add the missing dependency to 'Suggests:' in your DESCRIPTION file. See Renviron.bioc for more information.

raw results


Summary

Package: netZooR
Version: 1.14.0
Command: /Library/Frameworks/R.framework/Resources/bin/R CMD build --keep-empty-dirs --no-resave-data netZooR
StartedAt: 2025-11-02 17:12:28 -0500 (Sun, 02 Nov 2025)
EndedAt: 2025-11-02 17:12:29 -0500 (Sun, 02 Nov 2025)
EllapsedTime: 1.0 seconds
RetCode: 1
Status:   ERROR  
PackageFile: None
PackageFileSize: NA

Command output

##############################################################################
##############################################################################
###
### Running command:
###
###   /Library/Frameworks/R.framework/Resources/bin/R CMD build --keep-empty-dirs --no-resave-data netZooR
###
##############################################################################
##############################################################################


* checking for file ‘netZooR/DESCRIPTION’ ... OK
* preparing ‘netZooR’:
* checking DESCRIPTION meta-information ... OK
* installing the package to build vignettes
      -----------------------------------
ERROR: dependency ‘cmdstanr’ is not available for package ‘netZooR’
Perhaps try a variation of:
install.packages('cmdstanr')
* removing ‘/private/var/folders/r0/l4fjk6cj5xj0j3brt4bplpl40000gt/T/RtmpW7fkCT/Rinst183f57f84c166/netZooR’
      -----------------------------------
ERROR: package installation failed