Back to Multiple platform build/check report for BioC 3.21:   simplified   long
A[B]CDEFGHIJKLMNOPQRSTUVWXYZ

This page was generated on 2025-10-09 11:37 -0400 (Thu, 09 Oct 2025).

HostnameOSArch (*)R versionInstalled pkgs
nebbiolo1Linux (Ubuntu 24.04.3 LTS)x86_644.5.1 (2025-06-13) -- "Great Square Root" 4832
merida1macOS 12.7.5 Montereyx86_644.5.1 RC (2025-06-05 r88288) -- "Great Square Root" 4613
kjohnson1macOS 13.6.6 Venturaarm644.5.1 Patched (2025-06-14 r88325) -- "Great Square Root" 4554
kunpeng2Linux (openEuler 24.03 LTS)aarch64R Under development (unstable) (2025-02-19 r87757) -- "Unsuffered Consequences" 4585
Click on any hostname to see more info about the system (e.g. compilers)      (*) as reported by 'uname -p', except on Windows and Mac OS X

Package 155/2341HostnameOS / ArchINSTALLBUILDCHECKBUILD BIN
beadarray 2.58.0  (landing page)
Mark Dunning
Snapshot Date: 2025-10-06 13:40 -0400 (Mon, 06 Oct 2025)
git_url: https://git.bioconductor.org/packages/beadarray
git_branch: RELEASE_3_21
git_last_commit: 20636bc
git_last_commit_date: 2025-04-15 09:37:46 -0400 (Tue, 15 Apr 2025)
nebbiolo1Linux (Ubuntu 24.04.3 LTS) / x86_64  OK    OK    OK  UNNEEDED, same version is already published
merida1macOS 12.7.5 Monterey / x86_64  OK    OK    OK    OK  UNNEEDED, same version is already published
kjohnson1macOS 13.6.6 Ventura / arm64  OK    OK    OK    OK  UNNEEDED, same version is already published
kunpeng2Linux (openEuler 24.03 LTS) / aarch64  OK    OK    OK  


CHECK results for beadarray on nebbiolo1

To the developers/maintainers of the beadarray package:
- Allow up to 24 hours (and sometimes 48 hours) for your latest push to git@git.bioconductor.org:packages/beadarray.git to reflect on this report. See Troubleshooting Build Report for more information.
- Use the following Renviron settings to reproduce errors and warnings.
- If 'R CMD check' started to fail recently on the Linux builder(s) over a missing dependency, add the missing dependency to 'Suggests:' in your DESCRIPTION file. See Renviron.bioc for more information.

raw results


Summary

Package: beadarray
Version: 2.58.0
Command: /home/biocbuild/bbs-3.21-bioc/R/bin/R CMD check --install=check:beadarray.install-out.txt --library=/home/biocbuild/bbs-3.21-bioc/R/site-library --timings beadarray_2.58.0.tar.gz
StartedAt: 2025-10-08 21:02:50 -0400 (Wed, 08 Oct 2025)
EndedAt: 2025-10-08 21:12:08 -0400 (Wed, 08 Oct 2025)
EllapsedTime: 558.0 seconds
RetCode: 0
Status:   OK  
CheckDir: beadarray.Rcheck
Warnings: 0

Command output

##############################################################################
##############################################################################
###
### Running command:
###
###   /home/biocbuild/bbs-3.21-bioc/R/bin/R CMD check --install=check:beadarray.install-out.txt --library=/home/biocbuild/bbs-3.21-bioc/R/site-library --timings beadarray_2.58.0.tar.gz
###
##############################################################################
##############################################################################


* using log directory ‘/home/biocbuild/bbs-3.21-bioc/meat/beadarray.Rcheck’
* using R version 4.5.1 (2025-06-13)
* using platform: x86_64-pc-linux-gnu
* R was compiled by
    gcc (Ubuntu 13.3.0-6ubuntu2~24.04) 13.3.0
    GNU Fortran (Ubuntu 13.3.0-6ubuntu2~24.04) 13.3.0
* running under: Ubuntu 24.04.3 LTS
* using session charset: UTF-8
* checking for file ‘beadarray/DESCRIPTION’ ... OK
* this is package ‘beadarray’ version ‘2.58.0’
* checking package namespace information ... OK
* checking package dependencies ... OK
* checking if this is a source package ... OK
* checking if there is a namespace ... OK
* checking for hidden files and directories ... OK
* checking for portable file names ... OK
* checking for sufficient/correct file permissions ... OK
* checking whether package ‘beadarray’ can be installed ... OK
* used C compiler: ‘gcc (Ubuntu 13.3.0-6ubuntu2~24.04) 13.3.0’
* checking installed package size ... OK
* checking package directory ... OK
* checking ‘build’ directory ... OK
* checking DESCRIPTION meta-information ... NOTE
License stub is invalid DCF.
* checking top-level files ... OK
* checking for left-over files ... OK
* checking index information ... OK
* checking package subdirectories ... OK
* checking code files for non-ASCII characters ... OK
* checking R files for syntax errors ... OK
* checking whether the package can be loaded ... OK
* checking whether the package can be loaded with stated dependencies ... OK
* checking whether the package can be unloaded cleanly ... OK
* checking whether the namespace can be loaded with stated dependencies ... OK
* checking whether the namespace can be unloaded cleanly ... OK
* checking loading without being on the library search path ... OK
* checking whether startup messages can be suppressed ... OK
* checking dependencies in R code ... NOTE
Package in Depends field not imported from: ‘hexbin’
  These packages need to be imported from (in the NAMESPACE file)
  for when this namespace is loaded but not attached.
Unexported objects imported by ':::' calls:
  ‘BeadDataPackR:::combineFiles’ ‘BeadDataPackR:::readHeader’
  ‘Biobase:::assayDataStorageMode’
  See the note in ?`:::` about the use of this operator.
* checking S3 generic/method consistency ... OK
* checking replacement functions ... OK
* checking foreign function calls ... NOTE
Foreign function call to a different package:
  .Call("roundLocsFileValues", ..., PACKAGE = "BeadDataPackR")
See chapter ‘System and foreign language interfaces’ in the ‘Writing R
Extensions’ manual.
* checking R code for possible problems ... NOTE
combinedControlPlot: no visible binding for global variable ‘Negative’
createGEOMeta: no visible binding for global variable ‘metaTemplate’
expressionQCPipeline: no visible global function definition for
  ‘openPage’
expressionQCPipeline: no visible global function definition for
  ‘hwrite’
expressionQCPipeline: no visible global function definition for
  ‘hwriteImage’
expressionQCPipeline: no visible global function definition for
  ‘closePage’
getPlatformSigs: no visible global function definition for
  ‘lumiHumanIDMapping_dbconn’
getPlatformSigs: no visible global function definition for
  ‘dbListTables’
getPlatformSigs: no visible global function definition for
  ‘dbListFields’
getPlatformSigs: no visible global function definition for ‘dbGetQuery’
getPlatformSigs: no visible global function definition for
  ‘lumiMouseIDMapping_dbconn’
getPlatformSigs: no visible global function definition for
  ‘lumiRatIDMapping_dbconn’
imageplot: no visible binding for global variable ‘Var1’
imageplot: no visible binding for global variable ‘Var2’
imageplot: no visible binding for global variable ‘value’
makeReport: no visible binding for global variable ‘Nozzle.R1’
makeReport: no visible binding for global variable ‘ggbio’
makeReport: no visible global function definition for ‘newCustomReport’
makeReport: no visible global function definition for ‘newSection’
makeReport: no visible global function definition for ‘newTable’
makeReport: no visible global function definition for ‘newParagraph’
makeReport: no visible global function definition for ‘addTo’
makeReport: no visible global function definition for ‘autoplot’
makeReport: no visible global function definition for ‘plotIdeogram’
makeReport: no visible global function definition for ‘tracks’
makeReport: no visible global function definition for ‘newFigure’
makeReport: no visible binding for global variable ‘IMAGE.TYPE.RASTER’
makeReport: no visible binding for global variable ‘PROTECTION.PUBLIC’
makeReport: no visible binding for global variable ‘value’
makeReport: no visible global function definition for ‘writeReport’
maplots: no visible binding for global variable ‘value.1’
maplots: no visible binding for global variable ‘value’
normaliseIllumina: no visible global function definition for ‘lumiT’
normaliseIllumina: no visible global function definition for
  ‘normalize.qspline’
normaliseIllumina: no visible global function definition for ‘vsn2’
plotBeadLocations2: no visible global function definition for ‘qplot’
plotBeadLocations2: no visible global function definition for ‘opts’
plotBeadLocations2: no visible global function definition for
  ‘theme_blank’
plotProbe: no visible global function definition for ‘autoplot’
plotProbe: no visible binding for global variable ‘genesymbol’
plotProbe: no visible global function definition for ‘tracks’
plotProbe: no visible binding for global variable ‘PROBEQUALITY’
rankInvariantNormalise: no visible global function definition for
  ‘normalize.invariantset’
suggestAnnotation: no visible binding for global variable
  ‘platformSigs’
suggestAnnotation_Vector: no visible binding for global variable
  ‘platformSigs’
[,ExpressionSetIllumina-ANY: no visible global function definition for
  ‘assayDataEnvLock’
boxplot,ExpressionSetIllumina: no visible binding for global variable
  ‘Var2’
boxplot,ExpressionSetIllumina: no visible binding for global variable
  ‘value’
plotMA,ExpressionSetIllumina: no visible binding for global variable
  ‘value.1’
plotMA,ExpressionSetIllumina: no visible binding for global variable
  ‘value’
Undefined global functions or variables:
  IMAGE.TYPE.RASTER Negative Nozzle.R1 PROBEQUALITY PROTECTION.PUBLIC
  Var1 Var2 addTo assayDataEnvLock autoplot closePage dbGetQuery
  dbListFields dbListTables genesymbol ggbio hwrite hwriteImage
  lumiHumanIDMapping_dbconn lumiMouseIDMapping_dbconn
  lumiRatIDMapping_dbconn lumiT metaTemplate newCustomReport newFigure
  newParagraph newSection newTable normalize.invariantset
  normalize.qspline openPage opts platformSigs plotIdeogram qplot
  theme_blank tracks value value.1 vsn2 writeReport
* checking Rd files ... NOTE
checkRd: (-1) createTargetsFile.Rd:49: Lost braces
    49 | code{metricsflag}: This gives the key word that can be used to identify metrics files.  
       |     ^
checkRd: (-1) readBeadSummaryData.Rd:70: Escaped LaTeX specials: \_
checkRd: (-1) readBeadSummaryData.Rd:71: Escaped LaTeX specials: \_ \_
checkRd: (-1) readBeadSummaryData.Rd:76: Escaped LaTeX specials: \_ \_
checkRd: (-1) sampleSheet.Rd:26: Escaped LaTeX specials: \_ \_ \_ \_ \_ \_ \_ \_ \_ \_ \_ \_
* checking Rd metadata ... OK
* checking Rd cross-references ... NOTE
Non-topic package-anchored link(s) in Rd file 'class-ExpressionSetIllumina.Rd':
  ‘[Biobase:class.eSet]{eSet}’

See section 'Cross-references' in the 'Writing R Extensions' manual.
* checking for missing documentation entries ... OK
* checking for code/documentation mismatches ... OK
* checking Rd \usage sections ... OK
* checking Rd contents ... OK
* checking for unstated dependencies in examples ... OK
* checking contents of ‘data’ directory ... OK
* checking data for non-ASCII characters ... OK
* checking LazyData ... OK
* checking data for ASCII and uncompressed saves ... OK
* checking line endings in C/C++/Fortran sources/headers ... OK
* checking compiled code ... NOTE
Note: information on .o files is not available
* checking files in ‘vignettes’ ... OK
* checking examples ... OK
Examples with CPU (user + system) or elapsed time > 5s
                           user system elapsed
squeezedVarOutlierMethod 46.569  0.129  46.702
summarize                18.877  0.778  19.656
limmaDE                  13.407  0.058  13.466
normaliseIllumina        13.044  0.302  13.348
calculateOutlierStats    11.379  0.808  12.190
outlierplot              10.343  0.573  10.917
controlProbeDetection     9.267  0.144   9.411
makeQCTable               8.807  0.295   9.102
calculateDetection        8.667  0.184   8.851
identifyControlBeads      8.393  0.070   8.464
insertSectionData         8.044  0.330   8.374
annotationInterface       6.626  0.531   7.159
poscontPlot               6.692  0.040   6.733
quickSummary              5.919  0.230   6.149
imageplot                 5.756  0.062   5.823
addFeatureData            5.483  0.290   5.783
showArrayMask             4.888  0.297   5.186
* checking for unstated dependencies in vignettes ... OK
* checking package vignettes ... OK
* checking re-building of vignette outputs ... OK
* checking PDF version of manual ... OK
* DONE

Status: 7 NOTEs
See
  ‘/home/biocbuild/bbs-3.21-bioc/meat/beadarray.Rcheck/00check.log’
for details.


Installation output

beadarray.Rcheck/00install.out

##############################################################################
##############################################################################
###
### Running command:
###
###   /home/biocbuild/bbs-3.21-bioc/R/bin/R CMD INSTALL beadarray
###
##############################################################################
##############################################################################


* installing to library ‘/home/biocbuild/bbs-3.21-bioc/R/site-library’
* installing *source* package ‘beadarray’ ...
** this is package ‘beadarray’ version ‘2.58.0’
** using staged installation
** libs
using C compiler: ‘gcc (Ubuntu 13.3.0-6ubuntu2~24.04) 13.3.0’
gcc -std=gnu2x -I"/home/biocbuild/bbs-3.21-bioc/R/include" -DNDEBUG   -I/usr/local/include    -fpic  -g -O2  -Wall -Werror=format-security -c BASH.c -o BASH.o
gcc -std=gnu2x -I"/home/biocbuild/bbs-3.21-bioc/R/include" -DNDEBUG   -I/usr/local/include    -fpic  -g -O2  -Wall -Werror=format-security -c HULK.c -o HULK.o
gcc -std=gnu2x -I"/home/biocbuild/bbs-3.21-bioc/R/include" -DNDEBUG   -I/usr/local/include    -fpic  -g -O2  -Wall -Werror=format-security -c determiningGridPositions.c -o determiningGridPositions.o
gcc -std=gnu2x -I"/home/biocbuild/bbs-3.21-bioc/R/include" -DNDEBUG   -I/usr/local/include    -fpic  -g -O2  -Wall -Werror=format-security -c findAllOutliers.c -o findAllOutliers.o
findAllOutliers.c: In function ‘findBeadStatus’:
findAllOutliers.c:196:35: warning: ‘m’ may be used uninitialized [-Wmaybe-uninitialized]
  196 |                 if((inten[k] < (m + *nmads*ma)) && (inten[k] > (m - *nmads*ma))){
      |                                ~~~^~~~~~~~~~~~
findAllOutliers.c:155:16: note: ‘m’ was declared here
  155 |         double m, ma;
      |                ^
findAllOutliers.c:189:15: warning: ‘ma’ may be used uninitialized [-Wmaybe-uninitialized]
  189 |             if(ma==0) {
      |               ^
findAllOutliers.c:155:19: note: ‘ma’ was declared here
  155 |         double m, ma;
      |                   ^~
findAllOutliers.c: In function ‘findAllOutliers’:
findAllOutliers.c:246:20: warning: ‘status’ may be used uninitialized [-Wmaybe-uninitialized]
  246 |         free(status->validInds);
      |              ~~~~~~^~~~~~~~~~~
findAllOutliers.c:226:27: note: ‘status’ was declared here
  226 |         beadStatusStruct *status;
      |                           ^~~~~~
gcc -std=gnu2x -I"/home/biocbuild/bbs-3.21-bioc/R/include" -DNDEBUG   -I/usr/local/include    -fpic  -g -O2  -Wall -Werror=format-security -c imageProcessing.c -o imageProcessing.o
imageProcessing.c: In function ‘illuminaBackground’:
imageProcessing.c:88: warning: ignoring ‘#pragma omp parallel’ [-Wunknown-pragmas]
   88 |     #pragma omp parallel shared(nthreads, nbeads, imageHeight, pixelMatrix, coords) private(tid, start, end)
      | 
imageProcessing.c: In function ‘medianBackground’:
imageProcessing.c:135: warning: ignoring ‘#pragma omp parallel’ [-Wunknown-pragmas]
  135 |     #pragma omp parallel shared(nthreads, nbeads, imageHeight, pixelMatrix, coords) private(tid, start, end)
      | 
imageProcessing.c: In function ‘illuminaSharpen’:
imageProcessing.c:244: warning: ignoring ‘#pragma omp parallel’ [-Wunknown-pragmas]
  244 |     #pragma omp parallel for private(i, j) shared(sharpened) num_threads(2)
      | 
imageProcessing.c:251: warning: ignoring ‘#pragma omp parallel’ [-Wunknown-pragmas]
  251 |     #pragma omp parallel for private(i, j, sum) shared(sharpened) num_threads(2)
      | 
gcc -std=gnu2x -shared -L/home/biocbuild/bbs-3.21-bioc/R/lib -L/usr/local/lib -o beadarray.so BASH.o HULK.o determiningGridPositions.o findAllOutliers.o imageProcessing.o -L/home/biocbuild/bbs-3.21-bioc/R/lib -lR
installing to /home/biocbuild/bbs-3.21-bioc/R/site-library/00LOCK-beadarray/00new/beadarray/libs
** R
** data
*** moving datasets to lazyload DB
** inst
** byte-compile and prepare package for lazy loading
** help
*** installing help indices
** building package indices
** installing vignettes
** testing if installed package can be loaded from temporary location
** checking absolute paths in shared objects and dynamic libraries
** testing if installed package can be loaded from final location
** testing if installed package keeps a record of temporary installation path
* DONE (beadarray)

Tests output


Example timings

beadarray.Rcheck/beadarray-Ex.timings

nameusersystemelapsed
BASH0.0000.0000.001
BASHCompact0.0000.0000.001
BASHDiffuse0.0000.0000.001
BASHExtended000
GEO0.0000.0010.000
GEOtemplate0.0010.0010.002
HULK000
addFeatureData5.4830.2905.783
annotationInterface6.6260.5317.159
backgroundCorrectSingleSection000
beadarrayUsersGuide0.0020.0000.002
boxplot3.4640.1253.589
calculateDetection8.6670.1848.851
calculateOutlierStats11.379 0.80812.190
class-beadLevelData2.4330.1172.551
class-illuminaChannel0.0020.0010.002
combine3.5350.0933.628
controlProbeDetection9.2670.1449.411
createTargetsFile000
expressionQCPipeline0.0290.0060.034
generateNeighbours000
getBeadData1.8830.0311.914
identifyControlBeads8.3930.0708.464
illuminaOutlierMethod2.7810.1432.924
imageplot5.7560.0625.823
insertBeadData2.5580.1292.687
insertSectionData8.0440.3308.374
limmaDE13.407 0.05813.466
makeControlProfile0.3740.0010.375
makeQCTable8.8070.2959.102
maplots4.4240.0694.494
medianNormalise1.6550.0251.681
metrics2.0270.0212.048
noOutlierMethod2.0780.0452.123
normaliseIllumina13.044 0.30213.348
numBeads1.9070.0551.962
outlierplot10.343 0.57310.917
plotBeadIntensities2.0510.2042.254
plotBeadLocations2.9890.0853.075
plotChipLayout000
plotMAXY000
poscontPlot6.6920.0406.733
quickSummary5.9190.2306.149
readBeadSummaryData0.0000.0010.000
sectionNames1.7830.0661.849
showArrayMask4.8880.2975.186
squeezedVarOutlierMethod46.569 0.12946.702
summarize18.877 0.77819.656
transformationFunctions3.4640.1453.609
weightsOutlierMethod000