| Back to Multiple platform build/check report for BioC 3.21: simplified long |
|
This page was generated on 2025-10-16 11:38 -0400 (Thu, 16 Oct 2025).
| Hostname | OS | Arch (*) | R version | Installed pkgs |
|---|---|---|---|---|
| nebbiolo1 | Linux (Ubuntu 24.04.3 LTS) | x86_64 | 4.5.1 (2025-06-13) -- "Great Square Root" | 4833 |
| merida1 | macOS 12.7.6 Monterey | x86_64 | 4.5.1 RC (2025-06-05 r88288) -- "Great Square Root" | 4614 |
| kjohnson1 | macOS 13.7.5 Ventura | arm64 | 4.5.1 Patched (2025-06-14 r88325) -- "Great Square Root" | 4555 |
| kunpeng2 | Linux (openEuler 24.03 LTS) | aarch64 | R Under development (unstable) (2025-02-19 r87757) -- "Unsuffered Consequences" | 4586 |
| Click on any hostname to see more info about the system (e.g. compilers) (*) as reported by 'uname -p', except on Windows and Mac OS X | ||||
| Package 941/2341 | Hostname | OS / Arch | INSTALL | BUILD | CHECK | BUILD BIN | ||||||||
| Gviz 1.52.0 (landing page) Robert Ivanek
| nebbiolo1 | Linux (Ubuntu 24.04.3 LTS) / x86_64 | OK | OK | OK | |||||||||
| merida1 | macOS 12.7.6 Monterey / x86_64 | OK | OK | OK | OK | |||||||||
| kjohnson1 | macOS 13.7.5 Ventura / arm64 | OK | OK | OK | OK | |||||||||
| kunpeng2 | Linux (openEuler 24.03 LTS) / aarch64 | OK | OK | OK | ||||||||||
|
To the developers/maintainers of the Gviz package: - Allow up to 24 hours (and sometimes 48 hours) for your latest push to git@git.bioconductor.org:packages/Gviz.git to reflect on this report. See Troubleshooting Build Report for more information. - Use the following Renviron settings to reproduce errors and warnings. - If 'R CMD check' started to fail recently on the Linux builder(s) over a missing dependency, add the missing dependency to 'Suggests:' in your DESCRIPTION file. See Renviron.bioc for more information. |
| Package: Gviz |
| Version: 1.52.0 |
| Command: /home/biocbuild/bbs-3.21-bioc/R/bin/R CMD check --install=check:Gviz.install-out.txt --library=/home/biocbuild/bbs-3.21-bioc/R/site-library --timings Gviz_1.52.0.tar.gz |
| StartedAt: 2025-10-15 23:56:34 -0400 (Wed, 15 Oct 2025) |
| EndedAt: 2025-10-16 00:08:22 -0400 (Thu, 16 Oct 2025) |
| EllapsedTime: 708.1 seconds |
| RetCode: 0 |
| Status: OK |
| CheckDir: Gviz.Rcheck |
| Warnings: 0 |
##############################################################################
##############################################################################
###
### Running command:
###
### /home/biocbuild/bbs-3.21-bioc/R/bin/R CMD check --install=check:Gviz.install-out.txt --library=/home/biocbuild/bbs-3.21-bioc/R/site-library --timings Gviz_1.52.0.tar.gz
###
##############################################################################
##############################################################################
* using log directory ‘/home/biocbuild/bbs-3.21-bioc/meat/Gviz.Rcheck’
* using R version 4.5.1 (2025-06-13)
* using platform: x86_64-pc-linux-gnu
* R was compiled by
gcc (Ubuntu 13.3.0-6ubuntu2~24.04) 13.3.0
GNU Fortran (Ubuntu 13.3.0-6ubuntu2~24.04) 13.3.0
* running under: Ubuntu 24.04.3 LTS
* using session charset: UTF-8
* checking for file ‘Gviz/DESCRIPTION’ ... OK
* this is package ‘Gviz’ version ‘1.52.0’
* package encoding: UTF-8
* checking package namespace information ... OK
* checking package dependencies ... OK
* checking if this is a source package ... OK
* checking if there is a namespace ... OK
* checking for hidden files and directories ... OK
* checking for portable file names ... OK
* checking for sufficient/correct file permissions ... OK
* checking whether package ‘Gviz’ can be installed ... OK
* checking installed package size ... OK
* checking package directory ... OK
* checking ‘build’ directory ... OK
* checking DESCRIPTION meta-information ... OK
* checking top-level files ... OK
* checking for left-over files ... OK
* checking index information ... OK
* checking package subdirectories ... OK
* checking code files for non-ASCII characters ... OK
* checking R files for syntax errors ... OK
* checking whether the package can be loaded ... OK
* checking whether the package can be loaded with stated dependencies ... OK
* checking whether the package can be unloaded cleanly ... OK
* checking whether the namespace can be loaded with stated dependencies ... OK
* checking whether the namespace can be unloaded cleanly ... OK
* checking loading without being on the library search path ... OK
* checking whether startup messages can be suppressed ... OK
* checking dependencies in R code ... OK
* checking S3 generic/method consistency ... OK
* checking replacement functions ... OK
* checking foreign function calls ... OK
* checking R code for possible problems ... OK
* checking Rd files ... OK
* checking Rd metadata ... OK
* checking Rd cross-references ... NOTE
Found the following Rd file(s) with Rd \link{} targets missing package
anchors:
AlignmentsTrack-class.Rd: IRanges-class, GRanges-class, panel.grid
AnnotationTrack-class.Rd: IRanges-class, GRanges-class, panel.grid
BiomartGeneRegionTrack-class.Rd: Mart-class, getBM, GRanges-class,
IRanges-class, panel.grid
CustomTrack-class.Rd: GRanges-class, IRanges-class, panel.grid
DataTrack-class.Rd: IRanges-class, panel.loess, panel.bwplot,
horizonplot, GRanges-class, panel.grid
GdObject-class.Rd: GRanges-class, IRanges-class, panel.grid
GeneRegionTrack-class.Rd: IRanges-class, GRanges-class, panel.grid
GenomeAxisTrack-class.Rd: GRanges-class, IRanges-class, panel.grid
HighlightTrack-class.Rd: IRanges-class, GRanges-class, panel.grid
IdeogramTrack-class.Rd: GRanges-class, IRanges-class, panel.grid
NumericTrack-class.Rd: GRanges-class, IRanges-class, panel.grid
OverlayTrack-class.Rd: GRanges-class, IRanges-class, panel.grid
RangeTrack-class.Rd: GRanges-class, IRanges-class, panel.grid
ReferenceTrack-class.Rd: GRanges-class, IRanges-class, panel.grid
SequenceTrack-class.Rd: DNAStringSet-class, DNAString-class,
BSgenome-class, GRanges-class, IRanges-class, panel.grid
StackedTrack-class.Rd: GRanges-class, IRanges-class, panel.grid
settings.Rd: panel.grid, panel.xyplot, panel.bwplot, horizonplot,
panel.loess
Please provide package anchors for all Rd \link{} targets not in the
package itself and the base packages.
* checking for missing documentation entries ... OK
* checking for code/documentation mismatches ... OK
* checking Rd \usage sections ... OK
* checking Rd contents ... OK
* checking for unstated dependencies in examples ... OK
* checking contents of ‘data’ directory ... OK
* checking data for non-ASCII characters ... OK
* checking data for ASCII and uncompressed saves ... OK
* checking files in ‘vignettes’ ... OK
* checking examples ... OK
Examples with CPU (user + system) or elapsed time > 5s
user system elapsed
AlignmentsTrack-class 11.915 1.008 12.929
AnnotationTrack-class 8.200 0.165 8.366
GeneRegionTrack-class 6.749 0.129 6.881
plotTracks 5.341 0.003 5.346
GenomeAxisTrack-class 5.148 0.129 5.277
* checking for unstated dependencies in ‘tests’ ... OK
* checking tests ...
Running ‘testthat.R’
OK
* checking for unstated dependencies in vignettes ... OK
* checking package vignettes ... OK
* checking re-building of vignette outputs ... OK
* checking PDF version of manual ... OK
* DONE
Status: 1 NOTE
See
‘/home/biocbuild/bbs-3.21-bioc/meat/Gviz.Rcheck/00check.log’
for details.
Gviz.Rcheck/00install.out
############################################################################## ############################################################################## ### ### Running command: ### ### /home/biocbuild/bbs-3.21-bioc/R/bin/R CMD INSTALL Gviz ### ############################################################################## ############################################################################## * installing to library ‘/home/biocbuild/bbs-3.21-bioc/R/site-library’ * installing *source* package ‘Gviz’ ... ** this is package ‘Gviz’ version ‘1.52.0’ ** using staged installation ** R ** data ** inst ** byte-compile and prepare package for lazy loading ** help *** installing help indices ** building package indices ** installing vignettes ** testing if installed package can be loaded from temporary location ** testing if installed package can be loaded from final location ** testing if installed package keeps a record of temporary installation path * DONE (Gviz)
Gviz.Rcheck/tests/testthat.Rout
R version 4.5.1 (2025-06-13) -- "Great Square Root"
Copyright (C) 2025 The R Foundation for Statistical Computing
Platform: x86_64-pc-linux-gnu
R is free software and comes with ABSOLUTELY NO WARRANTY.
You are welcome to redistribute it under certain conditions.
Type 'license()' or 'licence()' for distribution details.
R is a collaborative project with many contributors.
Type 'contributors()' for more information and
'citation()' on how to cite R or R packages in publications.
Type 'demo()' for some demos, 'help()' for on-line help, or
'help.start()' for an HTML browser interface to help.
Type 'q()' to quit R.
> library(testthat)
> library(Gviz)
Loading required package: S4Vectors
Loading required package: stats4
Loading required package: BiocGenerics
Loading required package: generics
Attaching package: 'generics'
The following objects are masked from 'package:base':
as.difftime, as.factor, as.ordered, intersect, is.element, setdiff,
setequal, union
Attaching package: 'BiocGenerics'
The following objects are masked from 'package:stats':
IQR, mad, sd, var, xtabs
The following objects are masked from 'package:base':
Filter, Find, Map, Position, Reduce, anyDuplicated, aperm, append,
as.data.frame, basename, cbind, colnames, dirname, do.call,
duplicated, eval, evalq, get, grep, grepl, is.unsorted, lapply,
mapply, match, mget, order, paste, pmax, pmax.int, pmin, pmin.int,
rank, rbind, rownames, sapply, saveRDS, table, tapply, unique,
unsplit, which.max, which.min
Attaching package: 'S4Vectors'
The following object is masked from 'package:utils':
findMatches
The following objects are masked from 'package:base':
I, expand.grid, unname
Loading required package: IRanges
Loading required package: GenomicRanges
Loading required package: GenomeInfoDb
Loading required package: grid
>
> test_check("Gviz")
Loading required package: BSgenome
Loading required package: Biostrings
Loading required package: XVector
Attaching package: 'Biostrings'
The following object is masked from 'package:grid':
pattern
The following object is masked from 'package:base':
strsplit
Loading required package: BiocIO
Loading required package: rtracklayer
[ FAIL 0 | WARN 0 | SKIP 1 | PASS 293 ]
══ Skipped tests (1) ═══════════════════════════════════════════════════════════
• Biomart not available (1): 'test_AllClasses.R:174:5'
[ FAIL 0 | WARN 0 | SKIP 1 | PASS 293 ]
>
> proc.time()
user system elapsed
52.585 9.883 63.031
Gviz.Rcheck/Gviz-Ex.timings
| name | user | system | elapsed | |
| AlignmentsTrack-class | 11.915 | 1.008 | 12.929 | |
| AnnotationTrack-class | 8.200 | 0.165 | 8.366 | |
| BiomartGeneRegionTrack-class | 3.927 | 0.038 | 3.967 | |
| CustomTrack-class | 0.007 | 0.001 | 0.008 | |
| DataTrack-class | 2.264 | 0.124 | 2.390 | |
| DisplayPars-class | 0.021 | 0.001 | 0.021 | |
| GdObject-class | 0.508 | 0.001 | 0.510 | |
| GeneRegionTrack-class | 6.749 | 0.129 | 6.881 | |
| GenomeAxisTrack-class | 5.148 | 0.129 | 5.277 | |
| HighlightTrack-class | 0.210 | 0.016 | 0.226 | |
| IdeogramTrack-class | 1.755 | 0.073 | 1.827 | |
| ImageMap-class | 0.001 | 0.000 | 0.000 | |
| OverlayTrack-class | 0.046 | 0.000 | 0.047 | |
| RangeTrack-class | 0.485 | 0.002 | 0.488 | |
| ReferenceTrack-class | 2.062 | 0.279 | 2.340 | |
| SequenceTrack-class | 3.884 | 0.719 | 4.619 | |
| StackedTrack-class | 0.873 | 0.000 | 0.874 | |
| UcscTrack | 1.102 | 0.004 | 1.106 | |
| exportTracks | 0.086 | 0.003 | 0.089 | |
| plotTracks | 5.341 | 0.003 | 5.346 | |
| settings | 0.801 | 0.002 | 0.802 | |