Back to Multiple platform build/check report for BioC 3.21:   simplified   long
ABCDEFGHIJK[L]MNOPQRSTUVWXYZ

This page was generated on 2025-02-04 11:39 -0500 (Tue, 04 Feb 2025).

HostnameOSArch (*)R versionInstalled pkgs
nebbiolo1Linux (Ubuntu 24.04.1 LTS)x86_64R Under development (unstable) (2025-01-20 r87609) -- "Unsuffered Consequences" 4716
palomino7Windows Server 2022 Datacenterx64R Under development (unstable) (2025-01-21 r87610 ucrt) -- "Unsuffered Consequences" 4478
lconwaymacOS 12.7.1 Montereyx86_64R Under development (unstable) (2025-01-22 r87618) -- "Unsuffered Consequences" 4489
kjohnson3macOS 13.7.1 Venturaarm64R Under development (unstable) (2025-01-20 r87609) -- "Unsuffered Consequences" 4442
Click on any hostname to see more info about the system (e.g. compilers)      (*) as reported by 'uname -p', except on Windows and Mac OS X

All results for package limma


To the developers/maintainers of the limma package:
- Allow up to 24 hours (and sometimes 48 hours) for your latest push to git@git.bioconductor.org:packages/limma.git to reflect on this report. See Troubleshooting Build Report for more information.
- Use the following Renviron settings to reproduce errors and warnings.
- If 'R CMD check' started to fail recently on the Linux builder(s) over a missing dependency, add the missing dependency to 'Suggests:' in your DESCRIPTION file. See Renviron.bioc for more information.

raw results

Package 1103/2295HostnameOS / ArchINSTALLBUILDCHECKBUILD BIN
limma 3.63.3  (landing page)
Gordon Smyth
Snapshot Date: 2025-02-03 13:40 -0500 (Mon, 03 Feb 2025)
git_url: https://git.bioconductor.org/packages/limma
git_branch: devel
git_last_commit: 97a5846
git_last_commit_date: 2025-01-09 00:08:58 -0500 (Thu, 09 Jan 2025)
nebbiolo1Linux (Ubuntu 24.04.1 LTS) / x86_64  OK    OK    OK  UNNEEDED, same version is already published
palomino7Windows Server 2022 Datacenter / x64  OK    OK    OK    OK  UNNEEDED, same version is already published
lconwaymacOS 12.7.1 Monterey / x86_64  OK    OK    OK    OK  UNNEEDED, same version is already published
kjohnson3macOS 13.7.1 Ventura / arm64  OK    OK    OK    OK  UNNEEDED, same version is already published



Results for Bioconductor software packages that depend directly on package limma

QUICK STATSOS / ArchINSTALLBUILDCHECKBUILD BIN
nebbiolo1Linux (Ubuntu 24.04.1 LTS) / x86_64
05231
010226
0538183
palomino7Windows Server 2022 Datacenter / x64
02232
16227
0738182
00227
lconwaymacOS 12.7.1 Monterey / x86_64
05231
010226
0339184
00226
kjohnson3macOS 13.7.1 Ventura / arm64
05231
010226
0340183
00226
Package 1/236HostnameOS / ArchINSTALLBUILDCHECKBUILD BIN
a4Base 1.55.0  (landing page)
Laure Cougnaud
git_last_commit: d78b7ff
git_last_commit_date: 2024-10-29 09:36:39 -0500
nebbiolo1Linux (Ubuntu 24.04.1 LTS) / x86_64  OK    OK    OK  UNNEEDED, same version is already published
palomino7Windows Server 2022 Datacenter / x64  OK    OK    OK    OK  UNNEEDED, same version is already published
lconwaymacOS 12.7.1 Monterey / x86_64  OK    OK    OK    OK  UNNEEDED, same version is already published
kjohnson3macOS 13.7.1 Ventura / arm64  OK    OK    OK    OK  UNNEEDED, same version is already published
Package 2/236HostnameOS / ArchINSTALLBUILDCHECKBUILD BIN
ABSSeq 1.61.0  (landing page)
Wentao Yang
git_last_commit: 15bbde7
git_last_commit_date: 2024-10-29 09:51:12 -0500
nebbiolo1Linux (Ubuntu 24.04.1 LTS) / x86_64  OK    OK    OK  UNNEEDED, same version is already published
palomino7Windows Server 2022 Datacenter / x64  OK    OK    OK    OK  UNNEEDED, same version is already published
lconwaymacOS 12.7.1 Monterey / x86_64  OK    OK    OK    OK  UNNEEDED, same version is already published
kjohnson3macOS 13.7.1 Ventura / arm64  OK    OK    OK    OK  UNNEEDED, same version is already published
Package 3/236HostnameOS / ArchINSTALLBUILDCHECKBUILD BIN
affycoretools 1.79.0  (landing page)
James W. MacDonald
git_last_commit: b82bcab
git_last_commit_date: 2024-10-29 09:25:21 -0500
nebbiolo1Linux (Ubuntu 24.04.1 LTS) / x86_64  OK    OK    OK  UNNEEDED, same version is already published
palomino7Windows Server 2022 Datacenter / x64  OK    OK    OK    OK  UNNEEDED, same version is already published
lconwaymacOS 12.7.1 Monterey / x86_64  OK    OK    OK    OK  UNNEEDED, same version is already published
kjohnson3macOS 13.7.1 Ventura / arm64  OK    OK    OK    OK  UNNEEDED, same version is already published
Package 4/236HostnameOS / ArchINSTALLBUILDCHECKBUILD BIN
affylmGUI 1.81.0  (landing page)
Gordon Smyth
git_last_commit: cc3b06c
git_last_commit_date: 2024-10-29 09:22:47 -0500
nebbiolo1Linux (Ubuntu 24.04.1 LTS) / x86_64  OK    OK    OK  UNNEEDED, same version is already published
palomino7Windows Server 2022 Datacenter / x64  OK    OK    OK    OK  UNNEEDED, same version is already published
lconwaymacOS 12.7.1 Monterey / x86_64  OK    OK    OK    OK  UNNEEDED, same version is already published
kjohnson3macOS 13.7.1 Ventura / arm64  OK    OK    OK    OK  UNNEEDED, same version is already published
Package 5/236HostnameOS / ArchINSTALLBUILDCHECKBUILD BIN
AgiMicroRna 2.57.0  (landing page)
Pedro Lopez-Romero
git_last_commit: 0da1667
git_last_commit_date: 2024-10-29 09:32:17 -0500
nebbiolo1Linux (Ubuntu 24.04.1 LTS) / x86_64  OK    OK    WARNINGS  UNNEEDED, same version is already published
palomino7Windows Server 2022 Datacenter / x64  OK    OK    WARNINGS    OK  UNNEEDED, same version is already published
lconwaymacOS 12.7.1 Monterey / x86_64  OK    OK    WARNINGS    OK  UNNEEDED, same version is already published
kjohnson3macOS 13.7.1 Ventura / arm64  OK    OK    WARNINGS    OK  UNNEEDED, same version is already published
Package 6/236HostnameOS / ArchINSTALLBUILDCHECKBUILD BIN
AMARETTO 1.23.0  (landing page)
Olivier Gevaert
git_last_commit: 6b4ead5
git_last_commit_date: 2024-10-29 10:35:36 -0500
nebbiolo1Linux (Ubuntu 24.04.1 LTS) / x86_64  OK    OK    WARNINGS  UNNEEDED, same version is already published
palomino7Windows Server 2022 Datacenter / x64  OK    OK    WARNINGS    OK  UNNEEDED, same version is already published
lconwaymacOS 12.7.1 Monterey / x86_64  OK    OK    WARNINGS    OK  UNNEEDED, same version is already published
kjohnson3macOS 13.7.1 Ventura / arm64  OK    OK    WARNINGS    OK  UNNEEDED, same version is already published
Package 7/236HostnameOS / ArchINSTALLBUILDCHECKBUILD BIN
animalcules 1.23.0  (landing page)
Jessica McClintock
git_last_commit: 1f256fc
git_last_commit_date: 2024-10-29 10:37:18 -0500
nebbiolo1Linux (Ubuntu 24.04.1 LTS) / x86_64  OK    OK    ERROR  
palomino7Windows Server 2022 Datacenter / x64  OK    OK    ERROR    OK  
lconwaymacOS 12.7.1 Monterey / x86_64  OK    OK    OK    OK  NO, package depends on 'DESeq2' which is only available as a source package that needs compilation
kjohnson3macOS 13.7.1 Ventura / arm64  OK    OK    OK    OK  NO, package depends on 'DESeq2' which is only available as a source package that needs compilation
Package 8/236HostnameOS / ArchINSTALLBUILDCHECKBUILD BIN
anota2seq 1.29.0  (landing page)
Christian Oertlin , Ola Larsson
git_last_commit: 9a745aa
git_last_commit_date: 2024-10-29 10:23:03 -0500
nebbiolo1Linux (Ubuntu 24.04.1 LTS) / x86_64  OK    OK    WARNINGS  UNNEEDED, same version is already published
palomino7Windows Server 2022 Datacenter / x64  OK    OK    OK    OK  NO, package depends on 'DESeq2' which is only available as a source package that needs compilation
lconwaymacOS 12.7.1 Monterey / x86_64  OK    OK    OK    OK  NO, package depends on 'DESeq2' which is only available as a source package that needs compilation
kjohnson3macOS 13.7.1 Ventura / arm64  OK    OK    OK    OK  NO, package depends on 'DESeq2' which is only available as a source package that needs compilation
Package 9/236HostnameOS / ArchINSTALLBUILDCHECKBUILD BIN
ArrayExpress 1.67.0  (landing page)
Jose Marugan
git_last_commit: 2b97e7e
git_last_commit_date: 2024-10-29 09:30:06 -0500
nebbiolo1Linux (Ubuntu 24.04.1 LTS) / x86_64  ERROR    ERROR  skipped
palomino7Windows Server 2022 Datacenter / x64  OK    OK    OK    OK  UNNEEDED, same version is already published
lconwaymacOS 12.7.1 Monterey / x86_64  ERROR    ERROR  skippedskipped
kjohnson3macOS 13.7.1 Ventura / arm64  ERROR    ERROR  skippedskipped
Package 10/236HostnameOS / ArchINSTALLBUILDCHECKBUILD BIN
arrayQuality 1.85.0  (landing page)
Agnes Paquet
git_last_commit: b1c3550
git_last_commit_date: 2024-10-29 09:22:41 -0500
nebbiolo1Linux (Ubuntu 24.04.1 LTS) / x86_64  OK    OK    WARNINGS  UNNEEDED, same version is already published
palomino7Windows Server 2022 Datacenter / x64  OK    OK    WARNINGS    OK  UNNEEDED, same version is already published
lconwaymacOS 12.7.1 Monterey / x86_64  OK    OK    WARNINGS    OK  UNNEEDED, same version is already published
kjohnson3macOS 13.7.1 Ventura / arm64  OK    OK    WARNINGS    OK  UNNEEDED, same version is already published
Package 11/236HostnameOS / ArchINSTALLBUILDCHECKBUILD BIN
arrayQualityMetrics 3.63.0  (landing page)
Mike Smith
git_last_commit: c608533
git_last_commit_date: 2024-10-29 09:28:09 -0500
nebbiolo1Linux (Ubuntu 24.04.1 LTS) / x86_64  OK    OK    OK  UNNEEDED, same version is already published
palomino7Windows Server 2022 Datacenter / x64  OK    OK    OK    OK  UNNEEDED, same version is already published
lconwaymacOS 12.7.1 Monterey / x86_64  OK    OK    OK    OK  UNNEEDED, same version is already published
kjohnson3macOS 13.7.1 Ventura / arm64  OK    OK    OK    OK  UNNEEDED, same version is already published
Package 12/236HostnameOS / ArchINSTALLBUILDCHECKBUILD BIN
artMS 1.25.0  (landing page)
David Jimenez-Morales
git_last_commit: 10716cd
git_last_commit_date: 2024-10-29 10:32:58 -0500
nebbiolo1Linux (Ubuntu 24.04.1 LTS) / x86_64  OK    OK    OK  UNNEEDED, same version is already published
palomino7Windows Server 2022 Datacenter / x64  OK    OK    OK    OK  UNNEEDED, same version is already published
lconwaymacOS 12.7.1 Monterey / x86_64  OK    OK    OK    OK  UNNEEDED, same version is already published
kjohnson3macOS 13.7.1 Ventura / arm64  OK    OK    OK    OK  UNNEEDED, same version is already published
Package 13/236HostnameOS / ArchINSTALLBUILDCHECKBUILD BIN
ASpli 2.17.0  (landing page)
Ariel Chernomoretz
git_last_commit: 5b28a12
git_last_commit_date: 2024-10-29 10:12:56 -0500
nebbiolo1Linux (Ubuntu 24.04.1 LTS) / x86_64  OK    OK    WARNINGS  UNNEEDED, same version is already published
palomino7Windows Server 2022 Datacenter / x64  OK    OK    WARNINGS    OK  UNNEEDED, same version is already published
lconwaymacOS 12.7.1 Monterey / x86_64  OK    OK    WARNINGS    OK  UNNEEDED, same version is already published
kjohnson3macOS 13.7.1 Ventura / arm64  OK    OK    WARNINGS    OK  UNNEEDED, same version is already published
Package 14/236HostnameOS / ArchINSTALLBUILDCHECKBUILD BIN
ATACseqQC 1.31.1  (landing page)
Jianhong Ou
git_last_commit: f740f70
git_last_commit_date: 2025-01-03 10:16:18 -0500
nebbiolo1Linux (Ubuntu 24.04.1 LTS) / x86_64  OK    OK    OK  UNNEEDED, same version is already published
palomino7Windows Server 2022 Datacenter / x64  OK    OK    OK    OK  UNNEEDED, same version is already published
lconwaymacOS 12.7.1 Monterey / x86_64  OK    OK    OK    OK  NO, package depends on 'rtracklayer' which is only available as a source package that needs compilation
kjohnson3macOS 13.7.1 Ventura / arm64  OK    OK    OK    OK  NO, package depends on 'rtracklayer' which is only available as a source package that needs compilation
Package 15/236HostnameOS / ArchINSTALLBUILDCHECKBUILD BIN
ATACseqTFEA 1.9.1  (landing page)
Jianhong Ou
git_last_commit: 9b544c8
git_last_commit_date: 2025-01-03 10:13:52 -0500
nebbiolo1Linux (Ubuntu 24.04.1 LTS) / x86_64  OK    OK    OK  UNNEEDED, same version is already published
palomino7Windows Server 2022 Datacenter / x64  OK    OK    OK    OK  UNNEEDED, same version is already published
lconwaymacOS 12.7.1 Monterey / x86_64  OK    OK    OK    OK  NO, package depends on 'motifmatchr' which is only available as a source package that needs compilation
kjohnson3macOS 13.7.1 Ventura / arm64  OK    OK    OK    OK  NO, package depends on 'motifmatchr' which is only available as a source package that needs compilation
Package 16/236HostnameOS / ArchINSTALLBUILDCHECKBUILD BIN
attract 1.59.0  (landing page)
Samuel Zimmerman
git_last_commit: 33404ba
git_last_commit_date: 2024-10-29 09:34:15 -0500
nebbiolo1Linux (Ubuntu 24.04.1 LTS) / x86_64  OK    OK    OK  UNNEEDED, same version is already published
palomino7Windows Server 2022 Datacenter / x64  OK    OK    OK    OK  UNNEEDED, same version is already published
lconwaymacOS 12.7.1 Monterey / x86_64  OK    OK    OK    OK  UNNEEDED, same version is already published
kjohnson3macOS 13.7.1 Ventura / arm64  OK    OK    OK    OK  UNNEEDED, same version is already published
Package 17/236HostnameOS / ArchINSTALLBUILDCHECKBUILD BIN
autonomics 1.15.143  (landing page)
Aditya Bhagwat
git_last_commit: d6a7703
git_last_commit_date: 2025-01-28 04:51:36 -0500
nebbiolo1Linux (Ubuntu 24.04.1 LTS) / x86_64  OK    OK    OK  UNNEEDED, same version is already published
palomino7Windows Server 2022 Datacenter / x64  OK    OK    OK    OK  UNNEEDED, same version is already published
lconwaymacOS 12.7.1 Monterey / x86_64  OK    OK    OK    OK  UNNEEDED, same version is already published
kjohnson3macOS 13.7.1 Ventura / arm64  OK    OK    OK    OK  UNNEEDED, same version is already published
Package 18/236HostnameOS / ArchINSTALLBUILDCHECKBUILD BIN
AWFisher 1.21.0  (landing page)
Zhiguang Huo
git_last_commit: 83d328b
git_last_commit_date: 2024-10-29 10:38:28 -0500
nebbiolo1Linux (Ubuntu 24.04.1 LTS) / x86_64  OK    OK    OK  UNNEEDED, same version is already published
palomino7Windows Server 2022 Datacenter / x64  OK    OK    OK    OK  UNNEEDED, same version is already published
lconwaymacOS 12.7.1 Monterey / x86_64  OK    OK    OK    OK  UNNEEDED, same version is already published
kjohnson3macOS 13.7.1 Ventura / arm64  OK    OK    OK    OK  UNNEEDED, same version is already published
Package 19/236HostnameOS / ArchINSTALLBUILDCHECKBUILD BIN
ballgown 2.39.0  (landing page)
Jack Fu
git_last_commit: 01a0bbb
git_last_commit_date: 2024-10-29 09:53:32 -0500
nebbiolo1Linux (Ubuntu 24.04.1 LTS) / x86_64  OK    OK    OK  UNNEEDED, same version is already published
palomino7Windows Server 2022 Datacenter / x64  OK    OK    OK    OK  UNNEEDED, same version is already published
lconwaymacOS 12.7.1 Monterey / x86_64  OK    OK    OK    OK  NO, package depends on 'rtracklayer' which is only available as a source package that needs compilation
kjohnson3macOS 13.7.1 Ventura / arm64  OK    OK    OK    OK  NO, package depends on 'rtracklayer' which is only available as a source package that needs compilation
Package 20/236HostnameOS / ArchINSTALLBUILDCHECKBUILD BIN
BatchQC 2.3.0  (landing page)
Jessica McClintock
git_last_commit: 8029628
git_last_commit_date: 2024-10-29 10:09:55 -0500
nebbiolo1Linux (Ubuntu 24.04.1 LTS) / x86_64  OK    OK    OK  UNNEEDED, same version is already published
palomino7Windows Server 2022 Datacenter / x64  OK    OK    OK    OK  NO, package depends on 'DESeq2' which is only available as a source package that needs compilation
lconwaymacOS 12.7.1 Monterey / x86_64  OK    OK    OK    OK  NO, package depends on 'DESeq2' which is only available as a source package that needs compilation
kjohnson3macOS 13.7.1 Ventura / arm64  OK    OK    OK    OK  NO, package depends on 'DESeq2' which is only available as a source package that needs compilation
Package 21/236HostnameOS / ArchINSTALLBUILDCHECKBUILD BIN
beadarray 2.57.0  (landing page)
Mark Dunning
git_last_commit: 21fcf33
git_last_commit_date: 2024-10-29 09:25:42 -0500
nebbiolo1Linux (Ubuntu 24.04.1 LTS) / x86_64  OK    OK    OK  UNNEEDED, same version is already published
palomino7Windows Server 2022 Datacenter / x64  OK    OK    OK    OK  UNNEEDED, same version is already published
lconwaymacOS 12.7.1 Monterey / x86_64  OK    OK    OK    OK  UNNEEDED, same version is already published
kjohnson3macOS 13.7.1 Ventura / arm64  OK    OK    OK    OK  UNNEEDED, same version is already published
Package 22/236HostnameOS / ArchINSTALLBUILDCHECKBUILD BIN
benchdamic 1.13.2  (landing page)
Matteo Calgaro
git_last_commit: 9f9c589
git_last_commit_date: 2024-11-26 03:11:57 -0500
nebbiolo1Linux (Ubuntu 24.04.1 LTS) / x86_64  OK    OK    OK  UNNEEDED, same version is already published
palomino7Windows Server 2022 Datacenter / x64  OK    OK    OK    OK  NO, package depends on 'DESeq2' which is only available as a source package that needs compilation
lconwaymacOS 12.7.1 Monterey / x86_64  OK    OK    OK    OK  NO, package depends on 'DESeq2' which is only available as a source package that needs compilation
kjohnson3macOS 13.7.1 Ventura / arm64  OK    OK    OK    OK  NO, package depends on 'DESeq2' which is only available as a source package that needs compilation
Package 23/236HostnameOS / ArchINSTALLBUILDCHECKBUILD BIN
BERT 1.3.6  (landing page)
Yannis Schumann
git_last_commit: f785e17
git_last_commit_date: 2025-01-29 01:54:20 -0500
nebbiolo1Linux (Ubuntu 24.04.1 LTS) / x86_64  OK    OK    OK  UNNEEDED, same version is already published
palomino7Windows Server 2022 Datacenter / x64  OK    OK    OK    OK  UNNEEDED, same version is already published
lconwaymacOS 12.7.1 Monterey / x86_64  OK    OK    OK    OK  UNNEEDED, same version is already published
kjohnson3macOS 13.7.1 Ventura / arm64  OK    OK    OK    OK  UNNEEDED, same version is already published
Package 24/236HostnameOS / ArchINSTALLBUILDCHECKBUILD BIN
biotmle 1.31.0  (landing page)
Nima Hejazi
git_last_commit: 7b0119e
git_last_commit_date: 2024-10-29 10:19:06 -0500
nebbiolo1Linux (Ubuntu 24.04.1 LTS) / x86_64  OK    OK    OK  UNNEEDED, same version is already published
palomino7Windows Server 2022 Datacenter / x64  OK    OK    OK    OK  UNNEEDED, same version is already published
lconwaymacOS 12.7.1 Monterey / x86_64  OK    OK    OK    OK  UNNEEDED, same version is already published
kjohnson3macOS 13.7.1 Ventura / arm64  OK    OK    OK    OK  UNNEEDED, same version is already published
Package 25/236HostnameOS / ArchINSTALLBUILDCHECKBUILD BIN
BLMA 1.31.0  (landing page)
Van-Dung Pham
git_last_commit: 3ad7545
git_last_commit_date: 2024-10-29 10:19:09 -0500
nebbiolo1Linux (Ubuntu 24.04.1 LTS) / x86_64  OK    OK    OK  UNNEEDED, same version is already published
palomino7Windows Server 2022 Datacenter / x64  OK    OK    OK    OK  UNNEEDED, same version is already published
lconwaymacOS 12.7.1 Monterey / x86_64  OK    OK    OK    OK  UNNEEDED, same version is already published
kjohnson3macOS 13.7.1 Ventura / arm64  OK    OK    OK    OK  UNNEEDED, same version is already published
Package 26/236HostnameOS / ArchINSTALLBUILDCHECKBUILD BIN
BloodGen3Module 1.15.0  (landing page)
Darawan Rinchai
git_last_commit: 1a37edb
git_last_commit_date: 2024-10-29 11:00:18 -0500
nebbiolo1Linux (Ubuntu 24.04.1 LTS) / x86_64  OK    OK    WARNINGS  UNNEEDED, same version is already published
palomino7Windows Server 2022 Datacenter / x64  OK    OK    WARNINGS    OK  UNNEEDED, same version is already published
lconwaymacOS 12.7.1 Monterey / x86_64  OK    OK    WARNINGS    OK  UNNEEDED, same version is already published
kjohnson3macOS 13.7.1 Ventura / arm64  OK    OK    WARNINGS    OK  UNNEEDED, same version is already published
Package 27/236HostnameOS / ArchINSTALLBUILDCHECKBUILD BIN
bnem 1.15.0  (landing page)
Martin Pirkl
git_last_commit: ea50de2
git_last_commit_date: 2024-10-29 10:53:50 -0500
nebbiolo1Linux (Ubuntu 24.04.1 LTS) / x86_64  OK    OK    OK  UNNEEDED, same version is already published
palomino7Windows Server 2022 Datacenter / x64  OK    OK    OK    OK  UNNEEDED, same version is already published
lconwaymacOS 12.7.1 Monterey / x86_64  OK    OK    OK    OK  UNNEEDED, same version is already published
kjohnson3macOS 13.7.1 Ventura / arm64  OK    OK    OK    OK  UNNEEDED, same version is already published
Package 28/236HostnameOS / ArchINSTALLBUILDCHECKBUILD BIN
bsseq 1.43.1  (landing page)
Kasper Daniel Hansen
git_last_commit: 1cce9a0
git_last_commit_date: 2024-12-15 23:17:52 -0500
nebbiolo1Linux (Ubuntu 24.04.1 LTS) / x86_64  OK    OK    OK  UNNEEDED, same version is already published
palomino7Windows Server 2022 Datacenter / x64  OK    OK    OK    OK  UNNEEDED, same version is already published
lconwaymacOS 12.7.1 Monterey / x86_64  OK    OK    OK    OK  UNNEEDED, same version is already published
kjohnson3macOS 13.7.1 Ventura / arm64  OK    OK    OK    OK  UNNEEDED, same version is already published
Package 29/236HostnameOS / ArchINSTALLBUILDCHECKBUILD BIN
BubbleTree 2.37.0  (landing page)
Todd Creasy , Wei Zhu
git_last_commit: 19789a5
git_last_commit_date: 2024-10-29 09:58:31 -0500
nebbiolo1Linux (Ubuntu 24.04.1 LTS) / x86_64  OK    OK    OK  UNNEEDED, same version is already published
palomino7Windows Server 2022 Datacenter / x64  OK    OK    OK    OK  UNNEEDED, same version is already published
lconwaymacOS 12.7.1 Monterey / x86_64  OK    OK    OK    OK  NO, package depends on 'biovizBase' which is only available as a source package that needs compilation
kjohnson3macOS 13.7.1 Ventura / arm64  OK    OK    OK    OK  NO, package depends on 'biovizBase' which is only available as a source package that needs compilation
Package 30/236HostnameOS / ArchINSTALLBUILDCHECKBUILD BIN
bumphunter 1.49.0  (landing page)
Tamilselvi Guharaj
git_last_commit: 28669ca
git_last_commit_date: 2024-10-29 09:43:44 -0500
nebbiolo1Linux (Ubuntu 24.04.1 LTS) / x86_64  OK    OK    OK  UNNEEDED, same version is already published
palomino7Windows Server 2022 Datacenter / x64  OK    OK    OK    OK  UNNEEDED, same version is already published
lconwaymacOS 12.7.1 Monterey / x86_64  OK    OK    OK    OK  UNNEEDED, same version is already published
kjohnson3macOS 13.7.1 Ventura / arm64  OK    OK    OK    OK  UNNEEDED, same version is already published
Package 31/236HostnameOS / ArchINSTALLBUILDCHECKBUILD BIN
casper 2.41.0  (landing page)
David Rossell
git_last_commit: fea4d0f
git_last_commit_date: 2024-11-21 05:30:29 -0500
nebbiolo1Linux (Ubuntu 24.04.1 LTS) / x86_64  OK    OK    OK  UNNEEDED, same version is already published
palomino7Windows Server 2022 Datacenter / x64  OK    OK    WARNINGS    OK  UNNEEDED, same version is already published
lconwaymacOS 12.7.1 Monterey / x86_64  OK    ERROR  skippedskipped
kjohnson3macOS 13.7.1 Ventura / arm64  OK    ERROR  skippedskipped
Package 32/236HostnameOS / ArchINSTALLBUILDCHECKBUILD BIN
cghMCR 1.65.0  (landing page)
J. Zhang
git_last_commit: 7280ca7
git_last_commit_date: 2024-10-29 09:26:16 -0500
nebbiolo1Linux (Ubuntu 24.04.1 LTS) / x86_64  OK    OK    WARNINGS  UNNEEDED, same version is already published
palomino7Windows Server 2022 Datacenter / x64  OK    OK    WARNINGS    OK  UNNEEDED, same version is already published
lconwaymacOS 12.7.1 Monterey / x86_64  OK    OK    WARNINGS    OK  UNNEEDED, same version is already published
kjohnson3macOS 13.7.1 Ventura / arm64  OK    OK    WARNINGS    OK  UNNEEDED, same version is already published
Package 33/236HostnameOS / ArchINSTALLBUILDCHECKBUILD BIN
ChAMP 2.37.0  (landing page)
Yuan Tian
git_last_commit: bebfd7d
git_last_commit_date: 2024-10-29 09:49:01 -0500
nebbiolo1Linux (Ubuntu 24.04.1 LTS) / x86_64  OK    OK    WARNINGS  UNNEEDED, same version is already published
palomino7Windows Server 2022 Datacenter / x64  OK    OK    WARNINGS    OK  UNNEEDED, same version is already published
lconwaymacOS 12.7.1 Monterey / x86_64  OK    OK    WARNINGS    OK  UNNEEDED, same version is already published
kjohnson3macOS 13.7.1 Ventura / arm64  OK    OK    WARNINGS    OK  UNNEEDED, same version is already published
Package 34/236HostnameOS / ArchINSTALLBUILDCHECKBUILD BIN
ChIPComp 1.37.0  (landing page)
Li Chen
git_last_commit: 3fbdb06
git_last_commit_date: 2024-10-29 10:03:15 -0500
nebbiolo1Linux (Ubuntu 24.04.1 LTS) / x86_64  OK    OK    OK  UNNEEDED, same version is already published
palomino7Windows Server 2022 Datacenter / x64  OK    OK    OK    OK  UNNEEDED, same version is already published
lconwaymacOS 12.7.1 Monterey / x86_64  OK    OK    OK    OK  NO, package depends on 'rtracklayer' which is only available as a source package that needs compilation
kjohnson3macOS 13.7.1 Ventura / arm64  OK    OK    OK    OK  NO, package depends on 'rtracklayer' which is only available as a source package that needs compilation
Package 35/236HostnameOS / ArchINSTALLBUILDCHECKBUILD BIN
CleanUpRNAseq 1.1.1  (landing page)
Haibo Liu
git_last_commit: dac4dc8
git_last_commit_date: 2024-11-19 11:28:36 -0500
nebbiolo1Linux (Ubuntu 24.04.1 LTS) / x86_64  OK    OK    OK  UNNEEDED, same version is already published
palomino7Windows Server 2022 Datacenter / x64  OK    OK    OK    OK  NO, package depends on 'DESeq2' which is only available as a source package that needs compilation
lconwaymacOS 12.7.1 Monterey / x86_64  OK    OK    OK    OK  NO, package depends on 'DESeq2' which is only available as a source package that needs compilation
kjohnson3macOS 13.7.1 Ventura / arm64  OK    OK    OK    OK  NO, package depends on 'DESeq2' which is only available as a source package that needs compilation
Package 36/236HostnameOS / ArchINSTALLBUILDCHECKBUILD BIN
clippda 1.57.0  (landing page)
Stephen Nyangoma
git_last_commit: d7fcfbb
git_last_commit_date: 2024-10-29 09:32:13 -0500
nebbiolo1Linux (Ubuntu 24.04.1 LTS) / x86_64  OK    OK    OK  UNNEEDED, same version is already published
palomino7Windows Server 2022 Datacenter / x64  OK    OK    OK    OK  UNNEEDED, same version is already published
lconwaymacOS 12.7.1 Monterey / x86_64  OK    OK    OK    OK  UNNEEDED, same version is already published
kjohnson3macOS 13.7.1 Ventura / arm64  OK    OK    OK    OK  UNNEEDED, same version is already published
Package 37/236HostnameOS / ArchINSTALLBUILDCHECKBUILD BIN
clusterExperiment 2.27.0  (landing page)
Elizabeth Purdom
git_last_commit: 3bb82fb
git_last_commit_date: 2024-10-29 10:12:11 -0500
nebbiolo1Linux (Ubuntu 24.04.1 LTS) / x86_64  OK    OK    WARNINGS  UNNEEDED, same version is already published
palomino7Windows Server 2022 Datacenter / x64  OK    OK    WARNINGS    OK  UNNEEDED, same version is already published
lconwaymacOS 12.7.1 Monterey / x86_64  OK    OK    WARNINGS    OK  UNNEEDED, same version is already published
kjohnson3macOS 13.7.1 Ventura / arm64  OK    OK    WARNINGS    OK  UNNEEDED, same version is already published
Package 38/236HostnameOS / ArchINSTALLBUILDCHECKBUILD BIN
CNVRanger 1.23.0  (landing page)
Ludwig Geistlinger
git_last_commit: 7cbb1a6
git_last_commit_date: 2024-10-29 10:34:36 -0500
nebbiolo1Linux (Ubuntu 24.04.1 LTS) / x86_64  OK    OK    OK  UNNEEDED, same version is already published
palomino7Windows Server 2022 Datacenter / x64  OK    OK    OK    OK  UNNEEDED, same version is already published
lconwaymacOS 12.7.1 Monterey / x86_64  OK    OK    OK    OK  UNNEEDED, same version is already published
kjohnson3macOS 13.7.1 Ventura / arm64  OK    OK    OK    OK  UNNEEDED, same version is already published
Package 39/236HostnameOS / ArchINSTALLBUILDCHECKBUILD BIN
codelink 1.75.0  (landing page)
Diego Diez
git_last_commit: d620585
git_last_commit_date: 2024-10-29 09:25:39 -0500
nebbiolo1Linux (Ubuntu 24.04.1 LTS) / x86_64  OK    OK    OK  UNNEEDED, same version is already published
palomino7Windows Server 2022 Datacenter / x64  OK    OK    OK    OK  UNNEEDED, same version is already published
lconwaymacOS 12.7.1 Monterey / x86_64  OK    OK    OK    OK  UNNEEDED, same version is already published
kjohnson3macOS 13.7.1 Ventura / arm64  OK    OK    OK    OK  UNNEEDED, same version is already published
Package 40/236HostnameOS / ArchINSTALLBUILDCHECKBUILD BIN
combi 1.19.0  (landing page)
Stijn Hawinkel
git_last_commit: fb1252a
git_last_commit_date: 2024-10-29 10:44:39 -0500
nebbiolo1Linux (Ubuntu 24.04.1 LTS) / x86_64  OK    OK    OK  UNNEEDED, same version is already published
palomino7Windows Server 2022 Datacenter / x64  OK    OK    OK    OK  UNNEEDED, same version is already published
lconwaymacOS 12.7.1 Monterey / x86_64  OK    OK    OK    OK  UNNEEDED, same version is already published
kjohnson3macOS 13.7.1 Ventura / arm64  OK    OK    OK    OK  UNNEEDED, same version is already published
Package 41/236HostnameOS / ArchINSTALLBUILDCHECKBUILD BIN
compcodeR 1.43.0  (landing page)
Charlotte Soneson
git_last_commit: e1b50cd
git_last_commit_date: 2024-12-21 12:49:41 -0500
nebbiolo1Linux (Ubuntu 24.04.1 LTS) / x86_64  OK    OK    OK  UNNEEDED, same version is already published
palomino7Windows Server 2022 Datacenter / x64  OK    OK    OK    OK  UNNEEDED, same version is already published
lconwaymacOS 12.7.1 Monterey / x86_64  OK    OK    OK    OK  UNNEEDED, same version is already published
kjohnson3macOS 13.7.1 Ventura / arm64  OK    OK    OK    OK  UNNEEDED, same version is already published
Package 42/236HostnameOS / ArchINSTALLBUILDCHECKBUILD BIN
CONFESS 1.35.0  (landing page)
Diana LOW
git_last_commit: be5739f
git_last_commit_date: 2024-10-29 10:09:41 -0500
nebbiolo1Linux (Ubuntu 24.04.1 LTS) / x86_64  OK    OK    WARNINGS  UNNEEDED, same version is already published
palomino7Windows Server 2022 Datacenter / x64  OK    OK    WARNINGS    OK  UNNEEDED, same version is already published
lconwaymacOS 12.7.1 Monterey / x86_64  OK    OK    WARNINGS    OK  UNNEEDED, same version is already published
kjohnson3macOS 13.7.1 Ventura / arm64  OK    OK    WARNINGS    OK  UNNEEDED, same version is already published
Package 43/236HostnameOS / ArchINSTALLBUILDCHECKBUILD BIN
consensusDE 1.25.0  (landing page)
Ashley J. Waardenberg
git_last_commit: 44f18e0
git_last_commit_date: 2024-10-29 10:32:47 -0500
nebbiolo1Linux (Ubuntu 24.04.1 LTS) / x86_64  OK    OK    OK  UNNEEDED, same version is already published
palomino7Windows Server 2022 Datacenter / x64  OK    OK    OK    OK  NO, package depends on 'DESeq2' which is only available as a source package that needs compilation
lconwaymacOS 12.7.1 Monterey / x86_64  OK    OK    OK    OK  NO, package depends on 'DESeq2' which is only available as a source package that needs compilation
kjohnson3macOS 13.7.1 Ventura / arm64  OK    OK    OK    OK  NO, package depends on 'DESeq2' which is only available as a source package that needs compilation
Package 44/236HostnameOS / ArchINSTALLBUILDCHECKBUILD BIN
consensusOV 1.29.0  (landing page)
Benjamin Haibe-Kains
git_last_commit: fcae035
git_last_commit_date: 2024-10-29 10:20:37 -0500
nebbiolo1Linux (Ubuntu 24.04.1 LTS) / x86_64  OK    OK    OK  UNNEEDED, same version is already published
palomino7Windows Server 2022 Datacenter / x64  OK    OK    OK    OK  UNNEEDED, same version is already published
lconwaymacOS 12.7.1 Monterey / x86_64  OK    OK    OK    OK  UNNEEDED, same version is already published
kjohnson3macOS 13.7.1 Ventura / arm64  OK    OK    OK    OK  UNNEEDED, same version is already published
Package 45/236HostnameOS / ArchINSTALLBUILDCHECKBUILD BIN
convert 1.83.0  (landing page)
Yee Hwa (Jean) Yang
git_last_commit: 9922d10
git_last_commit_date: 2024-10-29 09:22:55 -0500
nebbiolo1Linux (Ubuntu 24.04.1 LTS) / x86_64  OK    OK    OK  UNNEEDED, same version is already published
palomino7Windows Server 2022 Datacenter / x64  OK    OK    OK    OK  UNNEEDED, same version is already published
lconwaymacOS 12.7.1 Monterey / x86_64  OK    OK    OK    OK  UNNEEDED, same version is already published
kjohnson3macOS 13.7.1 Ventura / arm64  OK    OK    OK    OK  UNNEEDED, same version is already published
Package 46/236HostnameOS / ArchINSTALLBUILDCHECKBUILD BIN
Cormotif 1.53.0  (landing page)
Yingying Wei
git_last_commit: 1746b95
git_last_commit_date: 2024-10-29 09:37:35 -0500
nebbiolo1Linux (Ubuntu 24.04.1 LTS) / x86_64  OK    OK    OK  UNNEEDED, same version is already published
palomino7Windows Server 2022 Datacenter / x64  OK    OK    OK    OK  UNNEEDED, same version is already published
lconwaymacOS 12.7.1 Monterey / x86_64  OK    OK    OK    OK  UNNEEDED, same version is already published
kjohnson3macOS 13.7.1 Ventura / arm64  OK    OK    OK    OK  UNNEEDED, same version is already published
Package 47/236HostnameOS / ArchINSTALLBUILDCHECKBUILD BIN
crlmm 1.65.0  (landing page)
Benilton S Carvalho
git_last_commit: de849d9
git_last_commit_date: 2024-10-29 09:31:05 -0500
nebbiolo1Linux (Ubuntu 24.04.1 LTS) / x86_64  ERROR    ERROR  skipped
palomino7Windows Server 2022 Datacenter / x64  ERROR    ERROR  skippedskipped
lconwaymacOS 12.7.1 Monterey / x86_64  ERROR    ERROR  skippedskipped
kjohnson3macOS 13.7.1 Ventura / arm64  ERROR    ERROR  skippedskipped
Package 48/236HostnameOS / ArchINSTALLBUILDCHECKBUILD BIN
crossmeta 1.33.1  (landing page)
Alex Pickering
git_last_commit: a60103d
git_last_commit_date: 2024-12-17 10:45:03 -0500
nebbiolo1Linux (Ubuntu 24.04.1 LTS) / x86_64  ERROR    ERROR  skipped
palomino7Windows Server 2022 Datacenter / x64  OK    OK    ERROR    OK  
lconwaymacOS 12.7.1 Monterey / x86_64  ERROR    ERROR  skippedskipped
kjohnson3macOS 13.7.1 Ventura / arm64  ERROR    ERROR  skippedskipped
Package 49/236HostnameOS / ArchINSTALLBUILDCHECKBUILD BIN
csaw 1.41.2  (landing page)
Aaron Lun
git_last_commit: 75cff36
git_last_commit_date: 2025-01-29 11:59:11 -0500
nebbiolo1Linux (Ubuntu 24.04.1 LTS) / x86_64  OK    OK    OK  UNNEEDED, same version is already published
palomino7Windows Server 2022 Datacenter / x64  OK    OK    OK    OK  UNNEEDED, same version is already published
lconwaymacOS 12.7.1 Monterey / x86_64  OK    OK    OK    OK  UNNEEDED, same version is already published
kjohnson3macOS 13.7.1 Ventura / arm64  OK    OK    WARNINGS    OK  UNNEEDED, same version is already published
Package 50/236HostnameOS / ArchINSTALLBUILDCHECKBUILD BIN
cTRAP 1.25.0  (landing page)
Nuno Saraiva-Agostinho
git_last_commit: b3d1df5
git_last_commit_date: 2024-10-29 10:32:37 -0500
nebbiolo1Linux (Ubuntu 24.04.1 LTS) / x86_64  OK    ERROR  skipped
palomino7Windows Server 2022 Datacenter / x64  OK    OK    OK    OK  UNNEEDED, same version is already published
lconwaymacOS 12.7.1 Monterey / x86_64  OK    OK    OK    OK  UNNEEDED, same version is already published
kjohnson3macOS 13.7.1 Ventura / arm64  OK    OK    OK    OK  UNNEEDED, same version is already published
Package 51/236HostnameOS / ArchINSTALLBUILDCHECKBUILD BIN
ctsGE 1.33.0  (landing page)
Michal Sharabi-Schwager
git_last_commit: ae475ee
git_last_commit_date: 2024-10-29 10:12:51 -0500
nebbiolo1Linux (Ubuntu 24.04.1 LTS) / x86_64  OK    OK    OK  UNNEEDED, same version is already published
palomino7Windows Server 2022 Datacenter / x64  OK    OK    OK    OK  UNNEEDED, same version is already published
lconwaymacOS 12.7.1 Monterey / x86_64  OK    OK    OK    OK  UNNEEDED, same version is already published
kjohnson3macOS 13.7.1 Ventura / arm64  OK    OK    OK    OK  UNNEEDED, same version is already published
Package 52/236HostnameOS / ArchINSTALLBUILDCHECKBUILD BIN
DAMEfinder 1.19.0  (landing page)
Stephany Orjuela
git_last_commit: faefd56
git_last_commit_date: 2024-10-29 10:42:56 -0500
nebbiolo1Linux (Ubuntu 24.04.1 LTS) / x86_64  OK    OK    OK  UNNEEDED, same version is already published
palomino7Windows Server 2022 Datacenter / x64  OK    OK    OK    OK  UNNEEDED, same version is already published
lconwaymacOS 12.7.1 Monterey / x86_64  OK    OK    OK    OK  NO, package depends on 'VariantAnnotation' which is only available as a source package that needs compilation
kjohnson3macOS 13.7.1 Ventura / arm64  OK    OK    OK    OK  NO, package depends on 'VariantAnnotation' which is only available as a source package that needs compilation
Package 53/236HostnameOS / ArchINSTALLBUILDCHECKBUILD BIN
DaMiRseq 2.19.0  (landing page)
Mattia Chiesa
git_last_commit: 83ca733
git_last_commit_date: 2024-10-29 10:18:00 -0500
nebbiolo1Linux (Ubuntu 24.04.1 LTS) / x86_64  OK    OK    OK  UNNEEDED, same version is already published
palomino7Windows Server 2022 Datacenter / x64  OK    OK    OK    OK  NO, package depends on 'DESeq2' which is only available as a source package that needs compilation
lconwaymacOS 12.7.1 Monterey / x86_64  OK    OK    OK    OK  NO, package depends on 'DESeq2' which is only available as a source package that needs compilation
kjohnson3macOS 13.7.1 Ventura / arm64  OK    OK    OK    OK  NO, package depends on 'DESeq2' which is only available as a source package that needs compilation
Package 54/236HostnameOS / ArchINSTALLBUILDCHECKBUILD BIN
debrowser 1.35.0  (landing page)
Alper Kucukural
git_last_commit: d896173
git_last_commit_date: 2024-10-29 10:08:44 -0500
nebbiolo1Linux (Ubuntu 24.04.1 LTS) / x86_64  OK    OK    OK  UNNEEDED, same version is already published
palomino7Windows Server 2022 Datacenter / x64  OK    OK    OK    OK  NO, package depends on 'DESeq2' which is only available as a source package that needs compilation
lconwaymacOS 12.7.1 Monterey / x86_64  OK    OK    OK    OK  NO, package depends on 'DESeq2' which is only available as a source package that needs compilation
kjohnson3macOS 13.7.1 Ventura / arm64  OK    OK    OK    OK  NO, package depends on 'DESeq2' which is only available as a source package that needs compilation
Package 55/236HostnameOS / ArchINSTALLBUILDCHECKBUILD BIN
DELocal 1.7.0  (landing page)
Rishi Das Roy
git_last_commit: b84dfd4
git_last_commit_date: 2024-10-29 11:19:57 -0500
nebbiolo1Linux (Ubuntu 24.04.1 LTS) / x86_64  OK    OK    OK  UNNEEDED, same version is already published
palomino7Windows Server 2022 Datacenter / x64  OK    OK    OK    OK  NO, package depends on 'DESeq2' which is only available as a source package that needs compilation
lconwaymacOS 12.7.1 Monterey / x86_64  OK    OK    OK    OK  NO, package depends on 'DESeq2' which is only available as a source package that needs compilation
kjohnson3macOS 13.7.1 Ventura / arm64  OK    OK    OK    OK  NO, package depends on 'DESeq2' which is only available as a source package that needs compilation
Package 56/236HostnameOS / ArchINSTALLBUILDCHECKBUILD BIN
DEP 1.29.0  (landing page)
Arne Smits
git_last_commit: 44e537d
git_last_commit_date: 2024-10-29 10:21:24 -0500
nebbiolo1Linux (Ubuntu 24.04.1 LTS) / x86_64  OK    OK    WARNINGS  UNNEEDED, same version is already published
palomino7Windows Server 2022 Datacenter / x64  OK    OK    WARNINGS    OK  UNNEEDED, same version is already published
lconwaymacOS 12.7.1 Monterey / x86_64  OK    OK    WARNINGS    OK  YES
kjohnson3macOS 13.7.1 Ventura / arm64  OK    OK    WARNINGS    OK  YES
Package 57/236HostnameOS / ArchINSTALLBUILDCHECKBUILD BIN
DEqMS 1.25.0  (landing page)
Yafeng Zhu
git_last_commit: bdb1c60
git_last_commit_date: 2024-10-29 10:31:17 -0500
nebbiolo1Linux (Ubuntu 24.04.1 LTS) / x86_64  OK    OK    OK  UNNEEDED, same version is already published
palomino7Windows Server 2022 Datacenter / x64  OK    OK    OK    OK  UNNEEDED, same version is already published
lconwaymacOS 12.7.1 Monterey / x86_64  OK    OK    OK    OK  UNNEEDED, same version is already published
kjohnson3macOS 13.7.1 Ventura / arm64  OK    OK    OK    OK  UNNEEDED, same version is already published
Package 58/236HostnameOS / ArchINSTALLBUILDCHECKBUILD BIN
derfinderPlot 1.41.0  (landing page)
Leonardo Collado-Torres
git_last_commit: b8a1580
git_last_commit_date: 2024-12-12 16:44:18 -0500
nebbiolo1Linux (Ubuntu 24.04.1 LTS) / x86_64  OK    OK    OK  UNNEEDED, same version is already published
palomino7Windows Server 2022 Datacenter / x64  OK    OK    OK    OK  UNNEEDED, same version is already published
lconwaymacOS 12.7.1 Monterey / x86_64  OK    OK    OK    OK  UNNEEDED, same version is already published
kjohnson3macOS 13.7.1 Ventura / arm64  OK    OK    OK    OK  UNNEEDED, same version is already published
Package 59/236HostnameOS / ArchINSTALLBUILDCHECKBUILD BIN
DESpace 1.7.0  (landing page)
Peiying Cai
git_last_commit: 2b11443
git_last_commit_date: 2024-10-29 11:19:08 -0500
nebbiolo1Linux (Ubuntu 24.04.1 LTS) / x86_64  OK    OK    OK  UNNEEDED, same version is already published
palomino7Windows Server 2022 Datacenter / x64  OK    OK    OK    OK  UNNEEDED, same version is already published
lconwaymacOS 12.7.1 Monterey / x86_64  OK    OK    OK    OK  UNNEEDED, same version is already published
kjohnson3macOS 13.7.1 Ventura / arm64  OK    OK    OK    OK  UNNEEDED, same version is already published
Package 60/236HostnameOS / ArchINSTALLBUILDCHECKBUILD BIN
DEsubs 1.33.0  (landing page)
Aristidis G. Vrahatis , Panos Balomenos
git_last_commit: e463abc
git_last_commit_date: 2024-10-29 10:14:32 -0500
nebbiolo1Linux (Ubuntu 24.04.1 LTS) / x86_64  OK    OK    WARNINGS  UNNEEDED, same version is already published
palomino7Windows Server 2022 Datacenter / x64  OK    OK    WARNINGS    OK  NO, package depends on 'DESeq2' which is only available as a source package that needs compilation
lconwaymacOS 12.7.1 Monterey / x86_64  OK    OK    WARNINGS    OK  NO, package depends on 'DESeq2' which is only available as a source package that needs compilation
kjohnson3macOS 13.7.1 Ventura / arm64  OK    OK    WARNINGS    OK  NO, package depends on 'DESeq2' which is only available as a source package that needs compilation
Package 61/236HostnameOS / ArchINSTALLBUILDCHECKBUILD BIN
DExMA 1.15.0  (landing page)
Juan Antonio Villatoro-García
git_last_commit: 655549d
git_last_commit_date: 2024-10-29 10:59:33 -0500
nebbiolo1Linux (Ubuntu 24.04.1 LTS) / x86_64  OK    OK    OK  UNNEEDED, same version is already published
palomino7Windows Server 2022 Datacenter / x64  OK    OK    OK    OK  UNNEEDED, same version is already published
lconwaymacOS 12.7.1 Monterey / x86_64  OK    OK    OK    OK  UNNEEDED, same version is already published
kjohnson3macOS 13.7.1 Ventura / arm64  OK    OK    OK    OK  UNNEEDED, same version is already published
Package 62/236HostnameOS / ArchINSTALLBUILDCHECKBUILD BIN
DiffBind 3.17.3  (landing page)
Rory Stark
git_last_commit: ffd064b
git_last_commit_date: 2025-01-20 09:44:13 -0500
nebbiolo1Linux (Ubuntu 24.04.1 LTS) / x86_64  OK    OK    OK  UNNEEDED, same version is already published
palomino7Windows Server 2022 Datacenter / x64  OK    OK    OK    OK  NO, package depends on 'DESeq2' which is only available as a source package that needs compilation
lconwaymacOS 12.7.1 Monterey / x86_64  OK    OK    OK    OK  NO, package depends on 'DESeq2' which is only available as a source package that needs compilation
kjohnson3macOS 13.7.1 Ventura / arm64  OK    OK    OK    OK  NO, package depends on 'DESeq2' which is only available as a source package that needs compilation
Package 63/236HostnameOS / ArchINSTALLBUILDCHECKBUILD BIN
diffcyt 1.27.0  (landing page)
Lukas M. Weber
git_last_commit: c9fca52
git_last_commit_date: 2024-10-29 10:27:17 -0500
nebbiolo1Linux (Ubuntu 24.04.1 LTS) / x86_64  OK    OK    OK  UNNEEDED, same version is already published
palomino7Windows Server 2022 Datacenter / x64  OK    OK    OK    OK  UNNEEDED, same version is already published
lconwaymacOS 12.7.1 Monterey / x86_64  OK    OK    OK    OK  UNNEEDED, same version is already published
kjohnson3macOS 13.7.1 Ventura / arm64  OK    OK    OK    OK  UNNEEDED, same version is already published
Package 64/236HostnameOS / ArchINSTALLBUILDCHECKBUILD BIN
diffHic 1.39.1  (landing page)
Aaron Lun , Gordon Smyth , Hannah Coughlin
git_last_commit: de5cfac
git_last_commit_date: 2024-12-16 13:04:00 -0500
nebbiolo1Linux (Ubuntu 24.04.1 LTS) / x86_64  OK    OK    OK  UNNEEDED, same version is already published
palomino7Windows Server 2022 Datacenter / x64  OK    OK    OK    OK  UNNEEDED, same version is already published
lconwaymacOS 12.7.1 Monterey / x86_64  OK    OK    OK    OK  NO, package depends on 'rtracklayer' which is only available as a source package that needs compilation
kjohnson3macOS 13.7.1 Ventura / arm64  OK    OK    OK    OK  NO, package depends on 'rtracklayer' which is only available as a source package that needs compilation
Package 65/236HostnameOS / ArchINSTALLBUILDCHECKBUILD BIN
diffUTR 1.15.0  (landing page)
Pierre-Luc Germain
git_last_commit: 43fce84
git_last_commit_date: 2024-10-29 10:59:54 -0500
nebbiolo1Linux (Ubuntu 24.04.1 LTS) / x86_64  OK    OK    OK  NO, package depends on 'DEXSeq' which is not available
palomino7Windows Server 2022 Datacenter / x64  OK    OK    OK    OK  NO, package depends on 'DEXSeq' which is not available
lconwaymacOS 12.7.1 Monterey / x86_64  OK    OK    OK    OK  NO, package depends on 'DEXSeq' which is not available
kjohnson3macOS 13.7.1 Ventura / arm64  OK    OK    OK    OK  NO, package depends on 'DEXSeq' which is not available
Package 66/236HostnameOS / ArchINSTALLBUILDCHECKBUILD BIN
distinct 1.19.0  (landing page)
Simone Tiberi
git_last_commit: ce83fb1
git_last_commit_date: 2024-10-29 10:45:25 -0500
nebbiolo1Linux (Ubuntu 24.04.1 LTS) / x86_64  OK    OK    OK  UNNEEDED, same version is already published
palomino7Windows Server 2022 Datacenter / x64  OK    OK    OK    OK  UNNEEDED, same version is already published
lconwaymacOS 12.7.1 Monterey / x86_64  OK    OK    OK    OK  UNNEEDED, same version is already published
kjohnson3macOS 13.7.1 Ventura / arm64  OK    OK    OK    OK  UNNEEDED, same version is already published
Package 67/236HostnameOS / ArchINSTALLBUILDCHECKBUILD BIN
DMRcate 3.3.1  (landing page)
Tim Peters
git_last_commit: 52f38aa
git_last_commit_date: 2024-12-16 20:38:02 -0500
nebbiolo1Linux (Ubuntu 24.04.1 LTS) / x86_64  OK    OK    OK  UNNEEDED, same version is already published
palomino7Windows Server 2022 Datacenter / x64  OK    OK    OK    OK  UNNEEDED, same version is already published
lconwaymacOS 12.7.1 Monterey / x86_64  OK    OK    OK    OK  UNNEEDED, same version is already published
kjohnson3macOS 13.7.1 Ventura / arm64  OK    OK    OK    OK  UNNEEDED, same version is already published
Package 68/236HostnameOS / ArchINSTALLBUILDCHECKBUILD BIN
Doscheda 1.29.0  (landing page)
Bruno Contrino
git_last_commit: 305a40a
git_last_commit_date: 2024-10-29 10:21:41 -0500
nebbiolo1Linux (Ubuntu 24.04.1 LTS) / x86_64  OK    OK    OK  UNNEEDED, same version is already published
palomino7Windows Server 2022 Datacenter / x64  OK    OK    OK    OK  UNNEEDED, same version is already published
lconwaymacOS 12.7.1 Monterey / x86_64  OK    OK    OK    OK  UNNEEDED, same version is already published
kjohnson3macOS 13.7.1 Ventura / arm64  OK    OK    OK    OK  UNNEEDED, same version is already published
Package 69/236HostnameOS / ArchINSTALLBUILDCHECKBUILD BIN
dreamlet 1.5.0  (landing page)
Gabriel Hoffman
git_last_commit: dd6cd83
git_last_commit_date: 2024-10-29 11:23:25 -0500
nebbiolo1Linux (Ubuntu 24.04.1 LTS) / x86_64  OK    OK    OK  UNNEEDED, same version is already published
palomino7Windows Server 2022 Datacenter / x64  OK    OK    OK    OK  UNNEEDED, same version is already published
lconwaymacOS 12.7.1 Monterey / x86_64  OK    OK    OK    OK  UNNEEDED, same version is already published
kjohnson3macOS 13.7.1 Ventura / arm64  OK    OK    OK    OK  UNNEEDED, same version is already published
Package 70/236HostnameOS / ArchINSTALLBUILDCHECKBUILD BIN
DRIMSeq 1.35.0  (landing page)
Malgorzata Nowicka
git_last_commit: bffc717
git_last_commit_date: 2024-10-29 10:08:39 -0500
nebbiolo1Linux (Ubuntu 24.04.1 LTS) / x86_64  OK    OK    WARNINGS  UNNEEDED, same version is already published
palomino7Windows Server 2022 Datacenter / x64  OK    OK    WARNINGS    OK  UNNEEDED, same version is already published
lconwaymacOS 12.7.1 Monterey / x86_64  OK    OK    WARNINGS    OK  UNNEEDED, same version is already published
kjohnson3macOS 13.7.1 Ventura / arm64  OK    OK    WARNINGS    OK  UNNEEDED, same version is already published
Package 71/236HostnameOS / ArchINSTALLBUILDCHECKBUILD BIN
DrugVsDisease 2.49.0  (landing page)
j. Saez-Rodriguez
git_last_commit: a631f4f
git_last_commit_date: 2024-10-29 09:44:21 -0500
nebbiolo1Linux (Ubuntu 24.04.1 LTS) / x86_64  ERROR    ERROR  skipped
palomino7Windows Server 2022 Datacenter / x64  OK    OK    OK    OK  UNNEEDED, same version is already published
lconwaymacOS 12.7.1 Monterey / x86_64  ERROR    ERROR  skippedskipped
kjohnson3macOS 13.7.1 Ventura / arm64  ERROR    ERROR  skippedskipped
Package 72/236HostnameOS / ArchINSTALLBUILDCHECKBUILD BIN
edgeR 4.5.2  (landing page)
Yunshun Chen , Gordon Smyth , Aaron Lun , Mark Robinson
git_last_commit: 6987a9c
git_last_commit_date: 2025-01-24 00:46:39 -0500
nebbiolo1Linux (Ubuntu 24.04.1 LTS) / x86_64  OK    OK    OK  UNNEEDED, same version is already published
palomino7Windows Server 2022 Datacenter / x64  OK    OK    OK    OK  UNNEEDED, same version is already published
lconwaymacOS 12.7.1 Monterey / x86_64  OK    OK    OK    OK  UNNEEDED, same version is already published
kjohnson3macOS 13.7.1 Ventura / arm64  OK    OK    OK    OK  UNNEEDED, same version is already published
Package 73/236HostnameOS / ArchINSTALLBUILDCHECKBUILD BIN
EGAD 1.35.0  (landing page)
Sara Ballouz
git_last_commit: 65e168f
git_last_commit_date: 2024-10-29 10:10:55 -0500
nebbiolo1Linux (Ubuntu 24.04.1 LTS) / x86_64  OK    OK    WARNINGS  UNNEEDED, same version is already published
palomino7Windows Server 2022 Datacenter / x64  OK    OK    WARNINGS    OK  UNNEEDED, same version is already published
lconwaymacOS 12.7.1 Monterey / x86_64  OK    OK    WARNINGS    OK  UNNEEDED, same version is already published
kjohnson3macOS 13.7.1 Ventura / arm64  OK    OK    WARNINGS    OK  UNNEEDED, same version is already published
Package 74/236HostnameOS / ArchINSTALLBUILDCHECKBUILD BIN
EGSEA 1.35.0  (landing page)
Monther Alhamdoosh
git_last_commit: bc1e988
git_last_commit_date: 2024-10-29 10:10:48 -0500
nebbiolo1Linux (Ubuntu 24.04.1 LTS) / x86_64  OK    OK    OK  UNNEEDED, same version is already published
palomino7Windows Server 2022 Datacenter / x64  OK    OK    OK    OK  UNNEEDED, same version is already published
lconwaymacOS 12.7.1 Monterey / x86_64  OK    OK    OK    OK  UNNEEDED, same version is already published
kjohnson3macOS 13.7.1 Ventura / arm64  OK    OK    OK    OK  UNNEEDED, same version is already published
Package 75/236HostnameOS / ArchINSTALLBUILDCHECKBUILD BIN
eisaR 1.19.0  (landing page)
Michael Stadler
git_last_commit: 8254299
git_last_commit_date: 2025-01-06 07:32:58 -0500
nebbiolo1Linux (Ubuntu 24.04.1 LTS) / x86_64  OK    OK    OK  UNNEEDED, same version is already published
palomino7Windows Server 2022 Datacenter / x64  OK    OK    OK    OK  UNNEEDED, same version is already published
lconwaymacOS 12.7.1 Monterey / x86_64  OK    OK    OK    OK  UNNEEDED, same version is already published
kjohnson3macOS 13.7.1 Ventura / arm64  OK    OK    OK    OK  UNNEEDED, same version is already published
Package 76/236HostnameOS / ArchINSTALLBUILDCHECKBUILD BIN
EnrichmentBrowser 2.37.0  (landing page)
Ludwig Geistlinger
git_last_commit: 0601e6c
git_last_commit_date: 2024-10-29 09:54:44 -0500
nebbiolo1Linux (Ubuntu 24.04.1 LTS) / x86_64  OK    OK    OK  UNNEEDED, same version is already published
palomino7Windows Server 2022 Datacenter / x64  OK    OK    OK    OK  UNNEEDED, same version is already published
lconwaymacOS 12.7.1 Monterey / x86_64  OK    OK    OK    OK  UNNEEDED, same version is already published
kjohnson3macOS 13.7.1 Ventura / arm64  OK    OK    OK    OK  UNNEEDED, same version is already published
Package 77/236HostnameOS / ArchINSTALLBUILDCHECKBUILD BIN
epigraHMM 1.15.0  (landing page)
Pedro Baldoni
git_last_commit: 524cd3d
git_last_commit_date: 2024-10-29 11:00:37 -0500
nebbiolo1Linux (Ubuntu 24.04.1 LTS) / x86_64  OK    OK    WARNINGS  UNNEEDED, same version is already published
palomino7Windows Server 2022 Datacenter / x64  OK    OK    OK    OK  UNNEEDED, same version is already published
lconwaymacOS 12.7.1 Monterey / x86_64  OK    OK    WARNINGS    OK  NO, package depends on 'rtracklayer' which is only available as a source package that needs compilation
kjohnson3macOS 13.7.1 Ventura / arm64  OK    OK    WARNINGS    OK  NO, package depends on 'rtracklayer' which is only available as a source package that needs compilation
Package 78/236HostnameOS / ArchINSTALLBUILDCHECKBUILD BIN
EpiMix 1.9.0  (landing page)
Yuanning Zheng
git_last_commit: 0b423e1
git_last_commit_date: 2024-10-29 11:12:55 -0500
nebbiolo1Linux (Ubuntu 24.04.1 LTS) / x86_64  OK    OK    OK  UNNEEDED, same version is already published
palomino7Windows Server 2022 Datacenter / x64  OK    OK    OK    OK  UNNEEDED, same version is already published
lconwaymacOS 12.7.1 Monterey / x86_64  OK    OK    OK    OK  UNNEEDED, same version is already published
kjohnson3macOS 13.7.1 Ventura / arm64  OK    OK    OK    OK  UNNEEDED, same version is already published
Package 79/236HostnameOS / ArchINSTALLBUILDCHECKBUILD BIN
erccdashboard 1.41.0  (landing page)
Sarah Munro
git_last_commit: e3aeeef
git_last_commit_date: 2024-10-29 09:54:06 -0500
nebbiolo1Linux (Ubuntu 24.04.1 LTS) / x86_64  OK    OK    OK  UNNEEDED, same version is already published
palomino7Windows Server 2022 Datacenter / x64  OK    OK    OK    OK  UNNEEDED, same version is already published
lconwaymacOS 12.7.1 Monterey / x86_64  OK    OK    OK    OK  UNNEEDED, same version is already published
kjohnson3macOS 13.7.1 Ventura / arm64  OK    OK    OK    OK  UNNEEDED, same version is already published
Package 80/236HostnameOS / ArchINSTALLBUILDCHECKBUILD BIN
EventPointer 3.15.0  (landing page)
Juan A. Ferrer-Bonsoms
git_last_commit: 8a000b5
git_last_commit_date: 2024-10-29 10:17:38 -0500
nebbiolo1Linux (Ubuntu 24.04.1 LTS) / x86_64  OK    OK    OK  UNNEEDED, same version is already published
palomino7Windows Server 2022 Datacenter / x64  OK    OK    OK    OK  UNNEEDED, same version is already published
lconwaymacOS 12.7.1 Monterey / x86_64  OK    OK    OK    OK  UNNEEDED, same version is already published
kjohnson3macOS 13.7.1 Ventura / arm64  OK    OK    OK    OK  UNNEEDED, same version is already published
Package 81/236HostnameOS / ArchINSTALLBUILDCHECKBUILD BIN
EWCE 1.15.0  (landing page)
Alan Murphy
git_last_commit: 0293aa5
git_last_commit_date: 2024-10-29 10:58:21 -0500
nebbiolo1Linux (Ubuntu 24.04.1 LTS) / x86_64  OK    OK    OK  UNNEEDED, same version is already published
palomino7Windows Server 2022 Datacenter / x64  OK    OK    OK    OK  UNNEEDED, same version is already published
lconwaymacOS 12.7.1 Monterey / x86_64  OK    OK    OK    OK  UNNEEDED, same version is already published
kjohnson3macOS 13.7.1 Ventura / arm64  OK    OK    OK    OK  UNNEEDED, same version is already published
Package 82/236HostnameOS / ArchINSTALLBUILDCHECKBUILD BIN
ExiMiR 2.49.0  (landing page)
Sylvain Gubian
git_last_commit: 4ca7e42
git_last_commit_date: 2024-10-29 09:35:43 -0500
nebbiolo1Linux (Ubuntu 24.04.1 LTS) / x86_64  OK    OK    OK  UNNEEDED, same version is already published
palomino7Windows Server 2022 Datacenter / x64  OK    OK    OK    OK  UNNEEDED, same version is already published
lconwaymacOS 12.7.1 Monterey / x86_64  OK    OK    OK    OK  UNNEEDED, same version is already published
kjohnson3macOS 13.7.1 Ventura / arm64  OK    OK    OK    OK  UNNEEDED, same version is already published
Package 83/236HostnameOS / ArchINSTALLBUILDCHECKBUILD BIN
ExploreModelMatrix 1.19.2  (landing page)
Charlotte Soneson
git_last_commit: dce1f59
git_last_commit_date: 2024-12-31 05:26:53 -0500
nebbiolo1Linux (Ubuntu 24.04.1 LTS) / x86_64  OK    OK    OK  UNNEEDED, same version is already published
palomino7Windows Server 2022 Datacenter / x64  OK    OK    OK    OK  UNNEEDED, same version is already published
lconwaymacOS 12.7.1 Monterey / x86_64  OK    OK    OK    OK  UNNEEDED, same version is already published
kjohnson3macOS 13.7.1 Ventura / arm64  OK    OK    OK    OK  UNNEEDED, same version is already published
Package 84/236HostnameOS / ArchINSTALLBUILDCHECKBUILD BIN
ExpressionAtlas 1.35.0  (landing page)
Pedro Madrigal
git_last_commit: 08329fa
git_last_commit_date: 2024-10-29 10:07:24 -0500
nebbiolo1Linux (Ubuntu 24.04.1 LTS) / x86_64  OK    OK    OK  UNNEEDED, same version is already published
palomino7Windows Server 2022 Datacenter / x64  OK    OK    OK    OK  UNNEEDED, same version is already published
lconwaymacOS 12.7.1 Monterey / x86_64  OK    OK    OK    OK  UNNEEDED, same version is already published
kjohnson3macOS 13.7.1 Ventura / arm64  OK    OK    OK    OK  UNNEEDED, same version is already published
Package 85/236HostnameOS / ArchINSTALLBUILDCHECKBUILD BIN
flowBin 1.43.0  (landing page)
Kieran O'Neill
git_last_commit: 6f2acd3
git_last_commit_date: 2024-10-29 09:49:41 -0500
nebbiolo1Linux (Ubuntu 24.04.1 LTS) / x86_64  OK    OK    OK  UNNEEDED, same version is already published
palomino7Windows Server 2022 Datacenter / x64  OK    OK    OK    OK  UNNEEDED, same version is already published
lconwaymacOS 12.7.1 Monterey / x86_64  OK    OK    OK    OK  UNNEEDED, same version is already published
kjohnson3macOS 13.7.1 Ventura / arm64  OK    OK    OK    OK  UNNEEDED, same version is already published
Package 86/236HostnameOS / ArchINSTALLBUILDCHECKBUILD BIN
gCrisprTools 2.13.0  (landing page)
Russell Bainer
git_last_commit: 1bb7f87
git_last_commit_date: 2024-10-29 10:13:45 -0500
nebbiolo1Linux (Ubuntu 24.04.1 LTS) / x86_64  OK    OK    OK  UNNEEDED, same version is already published
palomino7Windows Server 2022 Datacenter / x64  OK    OK    OK    OK  UNNEEDED, same version is already published
lconwaymacOS 12.7.1 Monterey / x86_64  OK    OK    OK    OK  UNNEEDED, same version is already published
kjohnson3macOS 13.7.1 Ventura / arm64  OK    OK    OK    OK  UNNEEDED, same version is already published
Package 87/236HostnameOS / ArchINSTALLBUILDCHECKBUILD BIN
GDCRNATools 1.27.0  (landing page)
Ruidong Li
git_last_commit: e6c5e2e
git_last_commit_date: 2024-10-29 10:25:07 -0500
nebbiolo1Linux (Ubuntu 24.04.1 LTS) / x86_64  OK    OK    OK  UNNEEDED, same version is already published
palomino7Windows Server 2022 Datacenter / x64  OK    OK    OK    OK  NO, package depends on 'DESeq2' which is only available as a source package that needs compilation
lconwaymacOS 12.7.1 Monterey / x86_64  OK    OK    OK    OK  NO, package depends on 'DESeq2' which is only available as a source package that needs compilation
kjohnson3macOS 13.7.1 Ventura / arm64  OK    OK    OK    OK  NO, package depends on 'DESeq2' which is only available as a source package that needs compilation
Package 88/236HostnameOS / ArchINSTALLBUILDCHECKBUILD BIN
genefu 2.39.1  (landing page)
Benjamin Haibe-Kains
git_last_commit: 1ef27ec
git_last_commit_date: 2024-11-27 13:28:44 -0500
nebbiolo1Linux (Ubuntu 24.04.1 LTS) / x86_64  OK    OK    WARNINGS  UNNEEDED, same version is already published
palomino7Windows Server 2022 Datacenter / x64  OK    OK    WARNINGS    OK  UNNEEDED, same version is already published
lconwaymacOS 12.7.1 Monterey / x86_64  OK    OK    WARNINGS    OK  UNNEEDED, same version is already published
kjohnson3macOS 13.7.1 Ventura / arm64  OK    OK    WARNINGS    OK  UNNEEDED, same version is already published
Package 89/236HostnameOS / ArchINSTALLBUILDCHECKBUILD BIN
GeneSelectMMD 2.51.0  (landing page)
Weiliang Qiu
git_last_commit: 618717e
git_last_commit_date: 2024-10-29 09:31:02 -0500
nebbiolo1Linux (Ubuntu 24.04.1 LTS) / x86_64  OK    OK    WARNINGS  UNNEEDED, same version is already published
palomino7Windows Server 2022 Datacenter / x64  OK    OK    OK    OK  UNNEEDED, same version is already published
lconwaymacOS 12.7.1 Monterey / x86_64  OK    OK    WARNINGS    OK  UNNEEDED, same version is already published
kjohnson3macOS 13.7.1 Ventura / arm64  OK    OK    WARNINGS    OK  UNNEEDED, same version is already published
Package 90/236HostnameOS / ArchINSTALLBUILDCHECKBUILD BIN
GEOexplorer 1.13.0  (landing page)
Guy Hunt
git_last_commit: 6e19a44
git_last_commit_date: 2024-10-29 11:02:53 -0500
nebbiolo1Linux (Ubuntu 24.04.1 LTS) / x86_64  OK    OK    WARNINGS  UNNEEDED, same version is already published
palomino7Windows Server 2022 Datacenter / x64  OK    OK    WARNINGS    OK  YES
lconwaymacOS 12.7.1 Monterey / x86_64  OK    OK    WARNINGS    OK  YES
kjohnson3macOS 13.7.1 Ventura / arm64  OK    OK    WARNINGS    OK  YES
Package 91/236HostnameOS / ArchINSTALLBUILDCHECKBUILD BIN
GEOquery 2.75.0  (landing page)
Sean Davis
git_last_commit: 2a416df
git_last_commit_date: 2024-10-29 09:25:37 -0500
nebbiolo1Linux (Ubuntu 24.04.1 LTS) / x86_64  OK    OK    OK  UNNEEDED, same version is already published
palomino7Windows Server 2022 Datacenter / x64  OK    OK    OK    OK  UNNEEDED, same version is already published
lconwaymacOS 12.7.1 Monterey / x86_64  OK    OK    OK    OK  UNNEEDED, same version is already published
kjohnson3macOS 13.7.1 Ventura / arm64  OK    ERROR  skippedskipped
Package 92/236HostnameOS / ArchINSTALLBUILDCHECKBUILD BIN
gg4way 1.5.0  (landing page)
Benjamin I Laufer
git_last_commit: b67ad3a
git_last_commit_date: 2024-10-29 11:24:20 -0500
nebbiolo1Linux (Ubuntu 24.04.1 LTS) / x86_64  OK    OK    OK  UNNEEDED, same version is already published
palomino7Windows Server 2022 Datacenter / x64  OK    OK    OK    OK  NO, package depends on 'DESeq2' which is only available as a source package that needs compilation
lconwaymacOS 12.7.1 Monterey / x86_64  OK    OK    OK    OK  NO, package depends on 'DESeq2' which is only available as a source package that needs compilation
kjohnson3macOS 13.7.1 Ventura / arm64  OK    OK    OK    OK  NO, package depends on 'DESeq2' which is only available as a source package that needs compilation
Package 93/236HostnameOS / ArchINSTALLBUILDCHECKBUILD BIN
gINTomics 1.3.0  (landing page)
Angelo Velle
git_last_commit: 3ba788e
git_last_commit_date: 2024-10-29 11:30:48 -0500
nebbiolo1Linux (Ubuntu 24.04.1 LTS) / x86_64  OK    ERROR  skipped
palomino7Windows Server 2022 Datacenter / x64  OK    OK    OK    OK  UNNEEDED, same version is already published
lconwaymacOS 12.7.1 Monterey / x86_64  OK    OK    OK    OK  UNNEEDED, same version is already published
kjohnson3macOS 13.7.1 Ventura / arm64  OK    OK    OK    OK  UNNEEDED, same version is already published
Package 94/236HostnameOS / ArchINSTALLBUILDCHECKBUILD BIN
Glimma 2.17.2  (landing page)
Shian Su
git_last_commit: 72845c6
git_last_commit_date: 2025-01-14 18:58:27 -0500
nebbiolo1Linux (Ubuntu 24.04.1 LTS) / x86_64  OK    OK    OK  UNNEEDED, same version is already published
palomino7Windows Server 2022 Datacenter / x64  OK    OK    OK    OK  NO, package depends on 'DESeq2' which is only available as a source package that needs compilation
lconwaymacOS 12.7.1 Monterey / x86_64  OK    OK    OK    OK  NO, package depends on 'DESeq2' which is only available as a source package that needs compilation
kjohnson3macOS 13.7.1 Ventura / arm64  OK    OK    OK    OK  NO, package depends on 'DESeq2' which is only available as a source package that needs compilation
Package 95/236HostnameOS / ArchINSTALLBUILDCHECKBUILD BIN
GRaNIE 1.11.0  (landing page)
Christian Arnold
git_last_commit: 7fdc850
git_last_commit_date: 2024-10-29 11:11:39 -0500
nebbiolo1Linux (Ubuntu 24.04.1 LTS) / x86_64  OK    OK    OK  UNNEEDED, same version is already published
palomino7Windows Server 2022 Datacenter / x64  OK    OK    WARNINGS    OK  NO, package depends on 'DESeq2' which is only available as a source package that needs compilation
lconwaymacOS 12.7.1 Monterey / x86_64  OK    OK    OK    OK  NO, package depends on 'DESeq2' which is only available as a source package that needs compilation
kjohnson3macOS 13.7.1 Ventura / arm64  OK    OK    OK    OK  NO, package depends on 'DESeq2' which is only available as a source package that needs compilation
Package 96/236HostnameOS / ArchINSTALLBUILDCHECKBUILD BIN
GUIDEseq 1.37.0  (landing page)
Lihua Julie Zhu
git_last_commit: f947d90
git_last_commit_date: 2024-10-29 10:04:30 -0500
nebbiolo1Linux (Ubuntu 24.04.1 LTS) / x86_64  OK    OK    OK  UNNEEDED, same version is already published
palomino7Windows Server 2022 Datacenter / x64  OK    OK    OK    OK  UNNEEDED, same version is already published
lconwaymacOS 12.7.1 Monterey / x86_64  OK    OK    OK    OK  UNNEEDED, same version is already published
kjohnson3macOS 13.7.1 Ventura / arm64  OK    OK    OK    OK  UNNEEDED, same version is already published
Package 97/236HostnameOS / ArchINSTALLBUILDCHECKBUILD BIN
GWAS.BAYES 1.17.0  (landing page)
Jacob Williams
git_last_commit: 645ae38
git_last_commit_date: 2024-10-29 10:53:03 -0500
nebbiolo1Linux (Ubuntu 24.04.1 LTS) / x86_64  OK    OK    OK  UNNEEDED, same version is already published
palomino7Windows Server 2022 Datacenter / x64  OK    OK    OK    OK  UNNEEDED, same version is already published
lconwaymacOS 12.7.1 Monterey / x86_64  OK    OK    OK    OK  UNNEEDED, same version is already published
kjohnson3macOS 13.7.1 Ventura / arm64  OK    OK    OK    OK  UNNEEDED, same version is already published
Package 98/236HostnameOS / ArchINSTALLBUILDCHECKBUILD BIN
HarmonizR 1.5.0  (landing page)
Simon Schlumbohm
git_last_commit: 024ca72
git_last_commit_date: 2024-10-29 11:22:39 -0500
nebbiolo1Linux (Ubuntu 24.04.1 LTS) / x86_64  OK    OK    OK  UNNEEDED, same version is already published
palomino7Windows Server 2022 Datacenter / x64  OK    OK    OK    OK  UNNEEDED, same version is already published
lconwaymacOS 12.7.1 Monterey / x86_64  OK    OK    OK    OK  UNNEEDED, same version is already published
kjohnson3macOS 13.7.1 Ventura / arm64  OK    OK    OK    OK  UNNEEDED, same version is already published
Package 99/236HostnameOS / ArchINSTALLBUILDCHECKBUILD BIN
hermes 1.11.0  (landing page)
Daniel Sabanés Bové
git_last_commit: 2f1b4a7
git_last_commit_date: 2024-10-29 11:07:06 -0500
nebbiolo1Linux (Ubuntu 24.04.1 LTS) / x86_64  OK    OK    OK  UNNEEDED, same version is already published
palomino7Windows Server 2022 Datacenter / x64  OK    OK    OK    OK  NO, package depends on 'DESeq2' which is only available as a source package that needs compilation
lconwaymacOS 12.7.1 Monterey / x86_64  OK    OK    OK    OK  NO, package depends on 'DESeq2' which is only available as a source package that needs compilation
kjohnson3macOS 13.7.1 Ventura / arm64  OK    OK    OK    OK  NO, package depends on 'DESeq2' which is only available as a source package that needs compilation
Package 100/236HostnameOS / ArchINSTALLBUILDCHECKBUILD BIN
HERON 1.5.0  (landing page)
Sean McIlwain
git_last_commit: a355e34
git_last_commit_date: 2024-10-29 11:22:47 -0500
nebbiolo1Linux (Ubuntu 24.04.1 LTS) / x86_64  OK    OK    OK  UNNEEDED, same version is already published
palomino7Windows Server 2022 Datacenter / x64  OK    OK    OK    OK  UNNEEDED, same version is already published
lconwaymacOS 12.7.1 Monterey / x86_64  OK    OK    OK    OK  UNNEEDED, same version is already published
kjohnson3macOS 13.7.1 Ventura / arm64  OK    OK    OK    OK  UNNEEDED, same version is already published
Package 101/236HostnameOS / ArchINSTALLBUILDCHECKBUILD BIN
hipathia 3.7.0  (landing page)
Marta R. Hidalgo
git_last_commit: eda829a
git_last_commit_date: 2024-10-29 10:27:50 -0500
nebbiolo1Linux (Ubuntu 24.04.1 LTS) / x86_64  OK    OK    OK  UNNEEDED, same version is already published
palomino7Windows Server 2022 Datacenter / x64  OK    OK    OK    OK  UNNEEDED, same version is already published
lconwaymacOS 12.7.1 Monterey / x86_64  OK    OK    OK    OK  UNNEEDED, same version is already published
kjohnson3macOS 13.7.1 Ventura / arm64  OK    OK    OK    OK  UNNEEDED, same version is already published
Package 102/236HostnameOS / ArchINSTALLBUILDCHECKBUILD BIN
icetea 1.25.0  (landing page)
Vivek Bhardwaj
git_last_commit: 795af55
git_last_commit_date: 2024-10-29 10:29:24 -0500
nebbiolo1Linux (Ubuntu 24.04.1 LTS) / x86_64  OK    OK    WARNINGS  UNNEEDED, same version is already published
palomino7Windows Server 2022 Datacenter / x64  OK    OK    WARNINGS    OK  NO, package depends on 'DESeq2' which is only available as a source package that needs compilation
lconwaymacOS 12.7.1 Monterey / x86_64  OK    OK    WARNINGS    OK  NO, package depends on 'rtracklayer' which is only available as a source package that needs compilation
kjohnson3macOS 13.7.1 Ventura / arm64  OK    OK    WARNINGS    OK  NO, package depends on 'rtracklayer' which is only available as a source package that needs compilation
Package 103/236HostnameOS / ArchINSTALLBUILDCHECKBUILD BIN
iCheck 1.37.0  (landing page)
Weiliang Qiu
git_last_commit: 3a391bf
git_last_commit_date: 2024-10-29 10:04:12 -0500
nebbiolo1Linux (Ubuntu 24.04.1 LTS) / x86_64  OK    OK    OK  UNNEEDED, same version is already published
palomino7Windows Server 2022 Datacenter / x64  OK    OK    OK    OK  UNNEEDED, same version is already published
lconwaymacOS 12.7.1 Monterey / x86_64  OK    OK    OK    OK  UNNEEDED, same version is already published
kjohnson3macOS 13.7.1 Ventura / arm64  OK    OK    OK    OK  UNNEEDED, same version is already published
Package 104/236HostnameOS / ArchINSTALLBUILDCHECKBUILD BIN
iChip 1.61.0  (landing page)
Qianxing Mo
git_last_commit: c3b6d48
git_last_commit_date: 2024-10-29 09:33:12 -0500
nebbiolo1Linux (Ubuntu 24.04.1 LTS) / x86_64  OK    OK    WARNINGS  UNNEEDED, same version is already published
palomino7Windows Server 2022 Datacenter / x64  OK    OK    WARNINGS    OK  UNNEEDED, same version is already published
lconwaymacOS 12.7.1 Monterey / x86_64  OK    OK    WARNINGS    OK  UNNEEDED, same version is already published
kjohnson3macOS 13.7.1 Ventura / arm64  OK    OK    WARNINGS    OK  UNNEEDED, same version is already published
Package 105/236HostnameOS / ArchINSTALLBUILDCHECKBUILD BIN
iCOBRA 1.35.1  (landing page)
Charlotte Soneson
git_last_commit: 29e512f
git_last_commit_date: 2024-12-31 04:23:51 -0500
nebbiolo1Linux (Ubuntu 24.04.1 LTS) / x86_64  OK    OK    OK  UNNEEDED, same version is already published
palomino7Windows Server 2022 Datacenter / x64  OK    OK    OK    OK  UNNEEDED, same version is already published
lconwaymacOS 12.7.1 Monterey / x86_64  OK    OK    OK    OK  UNNEEDED, same version is already published
kjohnson3macOS 13.7.1 Ventura / arm64  OK    OK    OK    OK  UNNEEDED, same version is already published
Package 106/236HostnameOS / ArchINSTALLBUILDCHECKBUILD BIN
ideal 2.1.1  (landing page)
Federico Marini
git_last_commit: 38ec392
git_last_commit_date: 2024-12-19 15:39:02 -0500
nebbiolo1Linux (Ubuntu 24.04.1 LTS) / x86_64  OK    OK    OK  UNNEEDED, same version is already published
palomino7Windows Server 2022 Datacenter / x64  OK    OK    OK    OK  NO, package depends on 'DESeq2' which is only available as a source package that needs compilation
lconwaymacOS 12.7.1 Monterey / x86_64  OK    OK    OK    OK  NO, package depends on 'DESeq2' which is only available as a source package that needs compilation
kjohnson3macOS 13.7.1 Ventura / arm64  OK    OK    OK    OK  NO, package depends on 'DESeq2' which is only available as a source package that needs compilation
Package 107/236HostnameOS / ArchINSTALLBUILDCHECKBUILD BIN
InPAS 2.15.2  (landing page)
Jianhong Ou
git_last_commit: deae9ac
git_last_commit_date: 2025-01-03 09:28:34 -0500
nebbiolo1Linux (Ubuntu 24.04.1 LTS) / x86_64  OK    OK    WARNINGS  UNNEEDED, same version is already published
palomino7Windows Server 2022 Datacenter / x64  OK    OK    WARNINGS    OK  UNNEEDED, same version is already published
lconwaymacOS 12.7.1 Monterey / x86_64  OK    OK    WARNINGS    OK  UNNEEDED, same version is already published
kjohnson3macOS 13.7.1 Ventura / arm64  OK    OK    WARNINGS    OK  UNNEEDED, same version is already published
Package 108/236HostnameOS / ArchINSTALLBUILDCHECKBUILD BIN
IsoformSwitchAnalyzeR 2.7.0  (landing page)
Kristoffer Vitting-Seerup
git_last_commit: 15ecc4e
git_last_commit_date: 2024-10-29 10:19:54 -0500
nebbiolo1Linux (Ubuntu 24.04.1 LTS) / x86_64  OK    OK    OK  NO, package depends on 'DEXSeq' which is not available
palomino7Windows Server 2022 Datacenter / x64  OK    OK    OK    OK  NO, package depends on 'DEXSeq' which is not available
lconwaymacOS 12.7.1 Monterey / x86_64  OK    OK    OK    OK  NO, package depends on 'DEXSeq' which is not available
kjohnson3macOS 13.7.1 Ventura / arm64  OK    OK    OK    OK  NO, package depends on 'DEXSeq' which is not available
Package 109/236HostnameOS / ArchINSTALLBUILDCHECKBUILD BIN
isomiRs 1.35.0  (landing page)
Lorena Pantano
git_last_commit: b036eff
git_last_commit_date: 2024-10-29 10:09:14 -0500
nebbiolo1Linux (Ubuntu 24.04.1 LTS) / x86_64  OK    OK    OK  UNNEEDED, same version is already published
palomino7Windows Server 2022 Datacenter / x64  OK    OK    OK    OK  NO, package depends on 'DESeq2' which is only available as a source package that needs compilation
lconwaymacOS 12.7.1 Monterey / x86_64  OK    OK    OK    OK  NO, package depends on 'DESeq2' which is only available as a source package that needs compilation
kjohnson3macOS 13.7.1 Ventura / arm64  OK    OK    OK    OK  NO, package depends on 'DESeq2' which is only available as a source package that needs compilation
Package 110/236HostnameOS / ArchINSTALLBUILDCHECKBUILD BIN
KnowSeq 1.21.0  (landing page)
Daniel Castillo-Secilla
git_last_commit: 5a60694
git_last_commit_date: 2024-10-29 10:38:15 -0500
nebbiolo1Linux (Ubuntu 24.04.1 LTS) / x86_64  OK    OK    OK  UNNEEDED, same version is already published
palomino7Windows Server 2022 Datacenter / x64  OK    OK    OK    OK  UNNEEDED, same version is already published
lconwaymacOS 12.7.1 Monterey / x86_64  OK    OK    OK    OK  UNNEEDED, same version is already published
kjohnson3macOS 13.7.1 Ventura / arm64  OK    OK    OK    OK  UNNEEDED, same version is already published
Package 111/236HostnameOS / ArchINSTALLBUILDCHECKBUILD BIN
lemur 1.5.0  (landing page)
Constantin Ahlmann-Eltze
git_last_commit: 6e2e508
git_last_commit_date: 2024-10-29 11:25:12 -0500
nebbiolo1Linux (Ubuntu 24.04.1 LTS) / x86_64  OK    OK    WARNINGS  UNNEEDED, same version is already published
palomino7Windows Server 2022 Datacenter / x64  OK    OK    WARNINGS    OK  UNNEEDED, same version is already published
lconwaymacOS 12.7.1 Monterey / x86_64  OK    OK    WARNINGS    OK  UNNEEDED, same version is already published
kjohnson3macOS 13.7.1 Ventura / arm64  OK    OK    WARNINGS    OK  UNNEEDED, same version is already published
Package 112/236HostnameOS / ArchINSTALLBUILDCHECKBUILD BIN
limmaGUI 1.83.0  (landing page)
Gordon Smyth
git_last_commit: 39141a0
git_last_commit_date: 2024-10-29 09:22:50 -0500
nebbiolo1Linux (Ubuntu 24.04.1 LTS) / x86_64  OK    OK    OK  UNNEEDED, same version is already published
palomino7Windows Server 2022 Datacenter / x64  OK    OK    OK    OK  UNNEEDED, same version is already published
lconwaymacOS 12.7.1 Monterey / x86_64  OK    OK    OK    OK  UNNEEDED, same version is already published
kjohnson3macOS 13.7.1 Ventura / arm64  OK    OK    OK    OK  UNNEEDED, same version is already published
Package 113/236HostnameOS / ArchINSTALLBUILDCHECKBUILD BIN
LimROTS 0.99.12  (landing page)
Ali Mostafa Anwar
git_last_commit: aac524a
git_last_commit_date: 2024-12-19 14:59:37 -0500
nebbiolo1Linux (Ubuntu 24.04.1 LTS) / x86_64  OK    OK    OK  UNNEEDED, same version is already published
palomino7Windows Server 2022 Datacenter / x64  OK    OK    OK    OK  UNNEEDED, same version is already published
lconwaymacOS 12.7.1 Monterey / x86_64  OK    OK    OK    OK  UNNEEDED, same version is already published
kjohnson3macOS 13.7.1 Ventura / arm64  OK    OK    OK    OK  UNNEEDED, same version is already published
Package 114/236HostnameOS / ArchINSTALLBUILDCHECKBUILD BIN
Linnorm 2.31.0  (landing page)
Shun Hang Yip
git_last_commit: 5c4a716
git_last_commit_date: 2024-10-29 10:09:37 -0500
nebbiolo1Linux (Ubuntu 24.04.1 LTS) / x86_64  OK    OK    OK  UNNEEDED, same version is already published
palomino7Windows Server 2022 Datacenter / x64  OK    OK    OK    OK  UNNEEDED, same version is already published
lconwaymacOS 12.7.1 Monterey / x86_64  OK    OK    OK    OK  UNNEEDED, same version is already published
kjohnson3macOS 13.7.1 Ventura / arm64  OK    OK    OK    OK  UNNEEDED, same version is already published
Package 115/236HostnameOS / ArchINSTALLBUILDCHECKBUILD BIN
lipidr 2.21.0  (landing page)
Ahmed Mohamed
git_last_commit: ce50d70
git_last_commit_date: 2024-10-29 10:36:51 -0500
nebbiolo1Linux (Ubuntu 24.04.1 LTS) / x86_64  OK    OK    OK  UNNEEDED, same version is already published
palomino7Windows Server 2022 Datacenter / x64  OK    OK    OK    OK  UNNEEDED, same version is already published
lconwaymacOS 12.7.1 Monterey / x86_64  OK    OK    OK    OK  UNNEEDED, same version is already published
kjohnson3macOS 13.7.1 Ventura / arm64  OK    OK    OK    OK  UNNEEDED, same version is already published
Package 116/236HostnameOS / ArchINSTALLBUILDCHECKBUILD BIN
lmdme 1.49.0  (landing page)
Cristobal Fresno
git_last_commit: 2d18be3
git_last_commit_date: 2024-10-29 09:42:26 -0500
nebbiolo1Linux (Ubuntu 24.04.1 LTS) / x86_64  OK    OK    WARNINGS  UNNEEDED, same version is already published
palomino7Windows Server 2022 Datacenter / x64  OK    OK    WARNINGS    OK  UNNEEDED, same version is already published
lconwaymacOS 12.7.1 Monterey / x86_64  OK    OK    WARNINGS    OK  UNNEEDED, same version is already published
kjohnson3macOS 13.7.1 Ventura / arm64  OK    OK    WARNINGS    OK  UNNEEDED, same version is already published
Package 117/236HostnameOS / ArchINSTALLBUILDCHECKBUILD BIN
maPredictDSC 1.45.0  (landing page)
Adi Laurentiu Tarca
git_last_commit: 0d81f55
git_last_commit_date: 2024-10-29 09:46:42 -0500
nebbiolo1Linux (Ubuntu 24.04.1 LTS) / x86_64  OK    OK    OK  UNNEEDED, same version is already published
palomino7Windows Server 2022 Datacenter / x64  OK    OK    OK    OK  UNNEEDED, same version is already published
lconwaymacOS 12.7.1 Monterey / x86_64  OK    OK    OK    OK  UNNEEDED, same version is already published
kjohnson3macOS 13.7.1 Ventura / arm64  OK    OK    OK    OK  UNNEEDED, same version is already published
Package 118/236HostnameOS / ArchINSTALLBUILDCHECKBUILD BIN
marray 1.85.0  (landing page)
Yee Hwa (Jean) Yang
git_last_commit: a8c55f6
git_last_commit_date: 2024-10-29 09:22:53 -0500
nebbiolo1Linux (Ubuntu 24.04.1 LTS) / x86_64  OK    OK    OK  UNNEEDED, same version is already published
palomino7Windows Server 2022 Datacenter / x64  OK    OK    OK    OK  UNNEEDED, same version is already published
lconwaymacOS 12.7.1 Monterey / x86_64  OK    OK    OK    OK  UNNEEDED, same version is already published
kjohnson3macOS 13.7.1 Ventura / arm64  OK    OK    OK    OK  UNNEEDED, same version is already published
Package 119/236HostnameOS / ArchINSTALLBUILDCHECKBUILD BIN
mastR 1.7.0  (landing page)
Jinjin Chen
git_last_commit: 492c795
git_last_commit_date: 2024-10-29 11:20:15 -0500
nebbiolo1Linux (Ubuntu 24.04.1 LTS) / x86_64  OK    OK    OK  UNNEEDED, same version is already published
palomino7Windows Server 2022 Datacenter / x64  OK    OK    OK    OK  UNNEEDED, same version is already published
lconwaymacOS 12.7.1 Monterey / x86_64  OK    OK    OK    OK  UNNEEDED, same version is already published
kjohnson3macOS 13.7.1 Ventura / arm64  OK    OK    OK    OK  UNNEEDED, same version is already published
Package 120/236HostnameOS / ArchINSTALLBUILDCHECKBUILD BIN
MatrixQCvis 1.15.0  (landing page)
Thomas Naake
git_last_commit: ae918bf
git_last_commit_date: 2024-10-29 11:00:07 -0500
nebbiolo1Linux (Ubuntu 24.04.1 LTS) / x86_64  OK    OK    OK  UNNEEDED, same version is already published
palomino7Windows Server 2022 Datacenter / x64  OK    OK    OK    OK  UNNEEDED, same version is already published
lconwaymacOS 12.7.1 Monterey / x86_64  OK    OK    OK    OK  UNNEEDED, same version is already published
kjohnson3macOS 13.7.1 Ventura / arm64  OK    OK    OK    OK  UNNEEDED, same version is already published
Package 121/236HostnameOS / ArchINSTALLBUILDCHECKBUILD BIN
MBECS 1.11.0  (landing page)
Michael Olbrich
git_last_commit: f568758
git_last_commit_date: 2024-10-29 11:08:55 -0500
nebbiolo1Linux (Ubuntu 24.04.1 LTS) / x86_64  OK    OK    OK  UNNEEDED, same version is already published
palomino7Windows Server 2022 Datacenter / x64  OK    OK    OK    OK  UNNEEDED, same version is already published
lconwaymacOS 12.7.1 Monterey / x86_64  OK    OK    OK    OK  UNNEEDED, same version is already published
kjohnson3macOS 13.7.1 Ventura / arm64  OK    OK    OK    OK  UNNEEDED, same version is already published
Package 122/236HostnameOS / ArchINSTALLBUILDCHECKBUILD BIN
MBQN 2.19.0  (landing page)
Eva Brombacher
git_last_commit: a95ce36
git_last_commit_date: 2024-10-29 10:41:12 -0500
nebbiolo1Linux (Ubuntu 24.04.1 LTS) / x86_64  OK    OK    OK  UNNEEDED, same version is already published
palomino7Windows Server 2022 Datacenter / x64  OK    OK    OK    OK  UNNEEDED, same version is already published
lconwaymacOS 12.7.1 Monterey / x86_64  OK    OK    OK    OK  UNNEEDED, same version is already published
kjohnson3macOS 13.7.1 Ventura / arm64  OK    OK    OK    OK  UNNEEDED, same version is already published
Package 123/236HostnameOS / ArchINSTALLBUILDCHECKBUILD BIN
mCSEA 1.27.2  (landing page)
Jordi Martorell-Marugán
git_last_commit: 641202d
git_last_commit_date: 2024-12-03 03:39:09 -0500
nebbiolo1Linux (Ubuntu 24.04.1 LTS) / x86_64  OK    OK    OK  UNNEEDED, same version is already published
palomino7Windows Server 2022 Datacenter / x64  OK    OK    OK    OK  UNNEEDED, same version is already published
lconwaymacOS 12.7.1 Monterey / x86_64  OK    OK    OK    OK  UNNEEDED, same version is already published
kjohnson3macOS 13.7.1 Ventura / arm64  OK    OK    OK    OK  UNNEEDED, same version is already published
Package 124/236HostnameOS / ArchINSTALLBUILDCHECKBUILD BIN
MEAL 1.37.0  (landing page)
Xavier Escribà Montagut
git_last_commit: e76b5d7
git_last_commit_date: 2024-10-29 10:04:16 -0500
nebbiolo1Linux (Ubuntu 24.04.1 LTS) / x86_64  OK    OK    WARNINGS  UNNEEDED, same version is already published
palomino7Windows Server 2022 Datacenter / x64  OK    OK    WARNINGS    OK  UNNEEDED, same version is already published
lconwaymacOS 12.7.1 Monterey / x86_64  OK    OK    WARNINGS    OK  UNNEEDED, same version is already published
kjohnson3macOS 13.7.1 Ventura / arm64  OK    OK    WARNINGS    OK  UNNEEDED, same version is already published
Package 125/236HostnameOS / ArchINSTALLBUILDCHECKBUILD BIN
metagenomeSeq 1.49.1  (landing page)
Joseph N. Paulson
git_last_commit: 96adc06
git_last_commit_date: 2024-12-18 01:49:01 -0500
nebbiolo1Linux (Ubuntu 24.04.1 LTS) / x86_64  OK    OK    OK  UNNEEDED, same version is already published
palomino7Windows Server 2022 Datacenter / x64  OK    OK    OK    OK  UNNEEDED, same version is already published
lconwaymacOS 12.7.1 Monterey / x86_64  OK    OK    OK    OK  UNNEEDED, same version is already published
kjohnson3macOS 13.7.1 Ventura / arm64  OK    OK    OK    OK  UNNEEDED, same version is already published
Package 126/236HostnameOS / ArchINSTALLBUILDCHECKBUILD BIN
metaseqR2 1.19.0  (landing page)
Panagiotis Moulos
git_last_commit: 22e1b29
git_last_commit_date: 2024-10-29 10:46:48 -0500
nebbiolo1Linux (Ubuntu 24.04.1 LTS) / x86_64  OK    OK    OK  UNNEEDED, same version is already published
palomino7Windows Server 2022 Datacenter / x64  OK    OK    OK    OK  NO, package depends on 'DESeq2' which is only available as a source package that needs compilation
lconwaymacOS 12.7.1 Monterey / x86_64  OK    OK    OK    OK  NO, package depends on 'DESeq2' which is only available as a source package that needs compilation
kjohnson3macOS 13.7.1 Ventura / arm64  OK    OK    OK    OK  NO, package depends on 'DESeq2' which is only available as a source package that needs compilation
Package 127/236HostnameOS / ArchINSTALLBUILDCHECKBUILD BIN
methylKit 1.33.2  (landing page)
Altuna Akalin , Alexander Blume
git_last_commit: 66ea58c
git_last_commit_date: 2025-01-08 09:20:31 -0500
nebbiolo1Linux (Ubuntu 24.04.1 LTS) / x86_64  OK    OK    OK  UNNEEDED, same version is already published
palomino7Windows Server 2022 Datacenter / x64  OK    OK    OK    OK  UNNEEDED, same version is already published
lconwaymacOS 12.7.1 Monterey / x86_64  OK    OK    OK    OK  NO, package depends on 'fastseg' which is only available as a source package that needs compilation
kjohnson3macOS 13.7.1 Ventura / arm64  OK    OK    OK    OK  NO, package depends on 'fastseg' which is only available as a source package that needs compilation
Package 128/236HostnameOS / ArchINSTALLBUILDCHECKBUILD BIN
MethylMix 2.37.0  (landing page)
Olivier Gevaert
git_last_commit: 6007130
git_last_commit_date: 2024-10-29 09:54:20 -0500
nebbiolo1Linux (Ubuntu 24.04.1 LTS) / x86_64  OK    OK    OK  UNNEEDED, same version is already published
palomino7Windows Server 2022 Datacenter / x64  OK    OK    OK    OK  UNNEEDED, same version is already published
lconwaymacOS 12.7.1 Monterey / x86_64  OK    OK    OK    OK  UNNEEDED, same version is already published
kjohnson3macOS 13.7.1 Ventura / arm64  OK    OK    OK    OK  UNNEEDED, same version is already published
Package 129/236HostnameOS / ArchINSTALLBUILDCHECKBUILD BIN
microbiomeExplorer 1.17.0  (landing page)
Janina Reeder
git_last_commit: f28fc46
git_last_commit_date: 2024-10-29 10:51:39 -0500
nebbiolo1Linux (Ubuntu 24.04.1 LTS) / x86_64  OK    OK    OK  UNNEEDED, same version is already published
palomino7Windows Server 2022 Datacenter / x64  OK    OK    OK    OK  NO, package depends on 'DESeq2' which is only available as a source package that needs compilation
lconwaymacOS 12.7.1 Monterey / x86_64  OK    OK    OK    OK  NO, package depends on 'DESeq2' which is only available as a source package that needs compilation
kjohnson3macOS 13.7.1 Ventura / arm64  OK    OK    OK    OK  NO, package depends on 'DESeq2' which is only available as a source package that needs compilation
Package 130/236HostnameOS / ArchINSTALLBUILDCHECKBUILD BIN
miloR 2.3.0  (landing page)
Mike Morgan
git_last_commit: 959804d
git_last_commit_date: 2024-10-29 10:59:29 -0500
nebbiolo1Linux (Ubuntu 24.04.1 LTS) / x86_64  OK    OK    OK  UNNEEDED, same version is already published
palomino7Windows Server 2022 Datacenter / x64  OK    OK    OK    OK  UNNEEDED, same version is already published
lconwaymacOS 12.7.1 Monterey / x86_64  OK    OK    OK    OK  UNNEEDED, same version is already published
kjohnson3macOS 13.7.1 Ventura / arm64  OK    OK    OK    OK  UNNEEDED, same version is already published
Package 131/236HostnameOS / ArchINSTALLBUILDCHECKBUILD BIN
minfi 1.53.1  (landing page)
Kasper Daniel Hansen
git_last_commit: 3852366
git_last_commit_date: 2024-11-19 11:04:48 -0500
nebbiolo1Linux (Ubuntu 24.04.1 LTS) / x86_64  OK    OK    OK  UNNEEDED, same version is already published
palomino7Windows Server 2022 Datacenter / x64  OK    OK    OK    OK  UNNEEDED, same version is already published
lconwaymacOS 12.7.1 Monterey / x86_64  OK    OK    OK    OK  UNNEEDED, same version is already published
kjohnson3macOS 13.7.1 Ventura / arm64  OK    OK    OK    OK  UNNEEDED, same version is already published
Package 132/236HostnameOS / ArchINSTALLBUILDCHECKBUILD BIN
MIRit 1.3.0  (landing page)
Jacopo Ronchi
git_last_commit: 57bfd48
git_last_commit_date: 2024-10-29 11:27:09 -0500
nebbiolo1Linux (Ubuntu 24.04.1 LTS) / x86_64  OK    OK    OK  UNNEEDED, same version is already published
palomino7Windows Server 2022 Datacenter / x64  OK    OK    OK    OK  NO, package depends on 'DESeq2' which is only available as a source package that needs compilation
lconwaymacOS 12.7.1 Monterey / x86_64  OK    OK    OK    OK  NO, package depends on 'DESeq2' which is only available as a source package that needs compilation
kjohnson3macOS 13.7.1 Ventura / arm64  OK    OK    OK    OK  NO, package depends on 'DESeq2' which is only available as a source package that needs compilation
Package 133/236HostnameOS / ArchINSTALLBUILDCHECKBUILD BIN
miRLAB 1.37.0  (landing page)
Thuc Duy Le
git_last_commit: 8fe9ef1
git_last_commit_date: 2024-10-29 10:02:31 -0500
nebbiolo1Linux (Ubuntu 24.04.1 LTS) / x86_64  OK    OK    WARNINGS  UNNEEDED, same version is already published
palomino7Windows Server 2022 Datacenter / x64  OK    OK    WARNINGS    OK  UNNEEDED, same version is already published
lconwaymacOS 12.7.1 Monterey / x86_64  OK    OK    WARNINGS    OK  UNNEEDED, same version is already published
kjohnson3macOS 13.7.1 Ventura / arm64  OK    OK    WARNINGS    OK  UNNEEDED, same version is already published
Package 134/236HostnameOS / ArchINSTALLBUILDCHECKBUILD BIN
missMethyl 1.41.0  (landing page)
Belinda Phipson
git_last_commit: 9006ed4
git_last_commit_date: 2024-10-29 09:53:27 -0500
nebbiolo1Linux (Ubuntu 24.04.1 LTS) / x86_64  OK    OK    WARNINGS  UNNEEDED, same version is already published
palomino7Windows Server 2022 Datacenter / x64  OK    OK    WARNINGS    OK  UNNEEDED, same version is already published
lconwaymacOS 12.7.1 Monterey / x86_64  OK    OK    WARNINGS    OK  UNNEEDED, same version is already published
kjohnson3macOS 13.7.1 Ventura / arm64  OK    OK    WARNINGS    OK  UNNEEDED, same version is already published
Package 135/236HostnameOS / ArchINSTALLBUILDCHECKBUILD BIN
MLSeq 2.25.0  (landing page)
Gokmen Zararsiz
git_last_commit: 97e5509
git_last_commit_date: 2024-10-29 09:50:40 -0500
nebbiolo1Linux (Ubuntu 24.04.1 LTS) / x86_64  OK    OK    OK  UNNEEDED, same version is already published
palomino7Windows Server 2022 Datacenter / x64  OK    OK    OK    OK  NO, package depends on 'DESeq2' which is only available as a source package that needs compilation
lconwaymacOS 12.7.1 Monterey / x86_64  OK    OK    OK    OK  NO, package depends on 'DESeq2' which is only available as a source package that needs compilation
kjohnson3macOS 13.7.1 Ventura / arm64  OK    OK    OK    OK  NO, package depends on 'DESeq2' which is only available as a source package that needs compilation
Package 136/236HostnameOS / ArchINSTALLBUILDCHECKBUILD BIN
moanin 1.15.0  (landing page)
Nelle Varoquaux
git_last_commit: 24c12c7
git_last_commit_date: 2024-10-29 10:53:27 -0500
nebbiolo1Linux (Ubuntu 24.04.1 LTS) / x86_64  OK    OK    OK  UNNEEDED, same version is already published
palomino7Windows Server 2022 Datacenter / x64  OK    OK    OK    OK  UNNEEDED, same version is already published
lconwaymacOS 12.7.1 Monterey / x86_64  OK    OK    OK    OK  UNNEEDED, same version is already published
kjohnson3macOS 13.7.1 Ventura / arm64  OK    OK    OK    OK  UNNEEDED, same version is already published
Package 137/236HostnameOS / ArchINSTALLBUILDCHECKBUILD BIN
monocle 2.35.0  (landing page)
Cole Trapnell
git_last_commit: f50c2db
git_last_commit_date: 2024-10-29 09:52:19 -0500
nebbiolo1Linux (Ubuntu 24.04.1 LTS) / x86_64  OK    OK    OK  UNNEEDED, same version is already published
palomino7Windows Server 2022 Datacenter / x64  OK    OK    OK    OK  UNNEEDED, same version is already published
lconwaymacOS 12.7.1 Monterey / x86_64  OK    OK    OK    OK  UNNEEDED, same version is already published
kjohnson3macOS 13.7.1 Ventura / arm64  OK    OK    OK    OK  UNNEEDED, same version is already published
Package 138/236HostnameOS / ArchINSTALLBUILDCHECKBUILD BIN
MoonlightR 1.33.0  (landing page)
Matteo Tiberti
git_last_commit: e51fead
git_last_commit_date: 2024-10-29 10:15:00 -0500
nebbiolo1Linux (Ubuntu 24.04.1 LTS) / x86_64  OK    OK    OK  UNNEEDED, same version is already published
palomino7Windows Server 2022 Datacenter / x64  OK    OK    OK    OK  UNNEEDED, same version is already published
lconwaymacOS 12.7.1 Monterey / x86_64  OK    OK    OK    OK  UNNEEDED, same version is already published
kjohnson3macOS 13.7.1 Ventura / arm64  OK    OK    OK    OK  UNNEEDED, same version is already published
Package 139/236HostnameOS / ArchINSTALLBUILDCHECKBUILD BIN
mpra 1.29.0  (landing page)
Leslie Myint
git_last_commit: 033bb6a
git_last_commit_date: 2024-10-29 10:23:51 -0500
nebbiolo1Linux (Ubuntu 24.04.1 LTS) / x86_64  OK    OK    OK  UNNEEDED, same version is already published
palomino7Windows Server 2022 Datacenter / x64  OK    OK    OK    OK  UNNEEDED, same version is already published
lconwaymacOS 12.7.1 Monterey / x86_64  OK    OK    OK    OK  UNNEEDED, same version is already published
kjohnson3macOS 13.7.1 Ventura / arm64  OK    OK    OK    OK  UNNEEDED, same version is already published
Package 140/236HostnameOS / ArchINSTALLBUILDCHECKBUILD BIN
msImpute 1.17.0  (landing page)
Soroor Hediyeh-zadeh
git_last_commit: 1dd79da
git_last_commit_date: 2024-10-29 10:50:43 -0500
nebbiolo1Linux (Ubuntu 24.04.1 LTS) / x86_64  OK    OK    OK  UNNEEDED, same version is already published
palomino7Windows Server 2022 Datacenter / x64  OK    OK    OK    OK  UNNEEDED, same version is already published
lconwaymacOS 12.7.1 Monterey / x86_64  OK    OK    OK    OK  UNNEEDED, same version is already published
kjohnson3macOS 13.7.1 Ventura / arm64  OK    OK    OK    OK  UNNEEDED, same version is already published
Package 141/236HostnameOS / ArchINSTALLBUILDCHECKBUILD BIN
msqrob2 1.15.0  (landing page)
Lieven Clement
git_last_commit: 11223d2
git_last_commit_date: 2024-12-20 09:26:15 -0500
nebbiolo1Linux (Ubuntu 24.04.1 LTS) / x86_64  OK    OK    OK  UNNEEDED, same version is already published
palomino7Windows Server 2022 Datacenter / x64  OK    OK    OK    OK  UNNEEDED, same version is already published
lconwaymacOS 12.7.1 Monterey / x86_64  OK    OK    OK    OK  UNNEEDED, same version is already published
kjohnson3macOS 13.7.1 Ventura / arm64  OK    OK    OK    OK  UNNEEDED, same version is already published
Package 142/236HostnameOS / ArchINSTALLBUILDCHECKBUILD BIN
MSstats 4.15.1  (landing page)
Meena Choi
git_last_commit: 88489fe
git_last_commit_date: 2025-01-08 19:14:01 -0500
nebbiolo1Linux (Ubuntu 24.04.1 LTS) / x86_64  OK    OK    ERROR  
palomino7Windows Server 2022 Datacenter / x64  OK    OK    ERROR    OK  
lconwaymacOS 12.7.1 Monterey / x86_64  OK    OK    WARNINGS    OK  UNNEEDED, same version is already published
kjohnson3macOS 13.7.1 Ventura / arm64  OK    OK    WARNINGS    OK  UNNEEDED, same version is already published
Package 143/236HostnameOS / ArchINSTALLBUILDCHECKBUILD BIN
MSstatsTMT 2.15.1  (landing page)
Devon Kohler
git_last_commit: 6bf3322
git_last_commit_date: 2024-11-14 16:00:18 -0500
nebbiolo1Linux (Ubuntu 24.04.1 LTS) / x86_64  OK    OK    OK  UNNEEDED, same version is already published
palomino7Windows Server 2022 Datacenter / x64  OK    OK    OK    OK  UNNEEDED, same version is already published
lconwaymacOS 12.7.1 Monterey / x86_64  OK    OK    OK    OK  UNNEEDED, same version is already published
kjohnson3macOS 13.7.1 Ventura / arm64  OK    OK    OK    OK  UNNEEDED, same version is already published
Package 144/236HostnameOS / ArchINSTALLBUILDCHECKBUILD BIN
MultiDataSet 1.35.0  (landing page)
Xavier Escribà Montagut
git_last_commit: f5c8571
git_last_commit_date: 2024-10-29 10:10:29 -0500
nebbiolo1Linux (Ubuntu 24.04.1 LTS) / x86_64  OK    OK    WARNINGS  UNNEEDED, same version is already published
palomino7Windows Server 2022 Datacenter / x64  OK    OK    WARNINGS    OK  UNNEEDED, same version is already published
lconwaymacOS 12.7.1 Monterey / x86_64  OK    OK    WARNINGS    OK  UNNEEDED, same version is already published
kjohnson3macOS 13.7.1 Ventura / arm64  OK    OK    WARNINGS    OK  UNNEEDED, same version is already published
Package 145/236HostnameOS / ArchINSTALLBUILDCHECKBUILD BIN
muscat 1.21.0  (landing page)
Helena L. Crowell
git_last_commit: 0bf2615
git_last_commit_date: 2024-10-29 10:39:37 -0500
nebbiolo1Linux (Ubuntu 24.04.1 LTS) / x86_64  OK    OK    OK  UNNEEDED, same version is already published
palomino7Windows Server 2022 Datacenter / x64  OK    OK    OK    OK  NO, package depends on 'DESeq2' which is only available as a source package that needs compilation
lconwaymacOS 12.7.1 Monterey / x86_64  OK    OK    OK    OK  NO, package depends on 'DESeq2' which is only available as a source package that needs compilation
kjohnson3macOS 13.7.1 Ventura / arm64  OK    OK    OK    OK  NO, package depends on 'DESeq2' which is only available as a source package that needs compilation
Package 146/236HostnameOS / ArchINSTALLBUILDCHECKBUILD BIN
NADfinder 1.31.1  (landing page)
Jianhong Ou
git_last_commit: f62bc38
git_last_commit_date: 2025-01-03 09:46:34 -0500
nebbiolo1Linux (Ubuntu 24.04.1 LTS) / x86_64  OK    OK    OK  UNNEEDED, same version is already published
palomino7Windows Server 2022 Datacenter / x64  OK    OK    OK    OK  UNNEEDED, same version is already published
lconwaymacOS 12.7.1 Monterey / x86_64  OK    OK    OK    OK  NO, package depends on 'rtracklayer' which is only available as a source package that needs compilation
kjohnson3macOS 13.7.1 Ventura / arm64  OK    OK    OK    OK  NO, package depends on 'rtracklayer' which is only available as a source package that needs compilation
Package 147/236HostnameOS / ArchINSTALLBUILDCHECKBUILD BIN
NanoMethViz 3.3.3  (landing page)
Shian Su
git_last_commit: 00d2a79
git_last_commit_date: 2025-01-16 19:04:32 -0500
nebbiolo1Linux (Ubuntu 24.04.1 LTS) / x86_64  OK    OK    OK  UNNEEDED, same version is already published
palomino7Windows Server 2022 Datacenter / x64  OK    OK    OK    OK  UNNEEDED, same version is already published
lconwaymacOS 12.7.1 Monterey / x86_64  OK    OK    OK    OK  UNNEEDED, same version is already published
kjohnson3macOS 13.7.1 Ventura / arm64  OK    OK    OK    OK  UNNEEDED, same version is already published
Package 148/236HostnameOS / ArchINSTALLBUILDCHECKBUILD BIN
NanoTube 1.13.1  (landing page)
Caleb Class
git_last_commit: 86c2245
git_last_commit_date: 2025-01-24 13:48:36 -0500
nebbiolo1Linux (Ubuntu 24.04.1 LTS) / x86_64  OK    OK    OK  UNNEEDED, same version is already published
palomino7Windows Server 2022 Datacenter / x64  OK    OK    OK    OK  UNNEEDED, same version is already published
lconwaymacOS 12.7.1 Monterey / x86_64  OK    OK    OK    OK  UNNEEDED, same version is already published
kjohnson3macOS 13.7.1 Ventura / arm64  OK    OK    OK    OK  UNNEEDED, same version is already published
Package 149/236HostnameOS / ArchINSTALLBUILDCHECKBUILD BIN
nethet 1.39.0  (landing page)
Nicolas Staedler
git_last_commit: 585f30a
git_last_commit_date: 2024-10-29 09:57:17 -0500
nebbiolo1Linux (Ubuntu 24.04.1 LTS) / x86_64  OK    OK    WARNINGS  UNNEEDED, same version is already published
palomino7Windows Server 2022 Datacenter / x64  OK    OK    WARNINGS    OK  UNNEEDED, same version is already published
lconwaymacOS 12.7.1 Monterey / x86_64  OK    OK    WARNINGS    OK  UNNEEDED, same version is already published
kjohnson3macOS 13.7.1 Ventura / arm64  OK    OK    WARNINGS    OK  UNNEEDED, same version is already published
Package 150/236HostnameOS / ArchINSTALLBUILDCHECKBUILD BIN
NeuCA 1.13.0  (landing page)
Hao Feng
git_last_commit: a59dea2
git_last_commit_date: 2024-10-29 11:02:05 -0500
nebbiolo1Linux (Ubuntu 24.04.1 LTS) / x86_64  OK    ERROR  skipped
palomino7Windows Server 2022 Datacenter / x64  OK    ERROR  skippedskipped
lconwaymacOS 12.7.1 Monterey / x86_64  OK    ERROR  skippedskipped
kjohnson3macOS 13.7.1 Ventura / arm64  OK    ERROR  skippedskipped
Package 151/236HostnameOS / ArchINSTALLBUILDCHECKBUILD BIN
nondetects 2.37.0  (landing page)
Valeriia Sherina
git_last_commit: 6720960
git_last_commit_date: 2024-10-29 09:51:03 -0500
nebbiolo1Linux (Ubuntu 24.04.1 LTS) / x86_64  ERROR    ERROR  skipped
palomino7Windows Server 2022 Datacenter / x64  ERROR    ERROR  skippedskipped
lconwaymacOS 12.7.1 Monterey / x86_64  ERROR    ERROR  skippedskipped
kjohnson3macOS 13.7.1 Ventura / arm64  ERROR    ERROR  skippedskipped
Package 152/236HostnameOS / ArchINSTALLBUILDCHECKBUILD BIN
NormalyzerDE 1.25.0  (landing page)
Jakob Willforss
git_last_commit: cfe738a
git_last_commit_date: 2024-10-29 10:31:12 -0500
nebbiolo1Linux (Ubuntu 24.04.1 LTS) / x86_64  OK    OK    WARNINGS  UNNEEDED, same version is already published
palomino7Windows Server 2022 Datacenter / x64  OK    OK    WARNINGS    OK  UNNEEDED, same version is already published
lconwaymacOS 12.7.1 Monterey / x86_64  OK    OK    WARNINGS    OK  UNNEEDED, same version is already published
kjohnson3macOS 13.7.1 Ventura / arm64  OK    OK    WARNINGS    OK  UNNEEDED, same version is already published
Package 153/236HostnameOS / ArchINSTALLBUILDCHECKBUILD BIN
octad 1.9.0  (landing page)
E. Chekalin
git_last_commit: 33eb152
git_last_commit_date: 2024-10-29 11:16:05 -0500
nebbiolo1Linux (Ubuntu 24.04.1 LTS) / x86_64  OK    OK    ERROR  
palomino7Windows Server 2022 Datacenter / x64  OK    OK    ERROR    OK  
lconwaymacOS 12.7.1 Monterey / x86_64  OK    OK    ERROR    OK  
kjohnson3macOS 13.7.1 Ventura / arm64  OK    OK    ERROR    OK  
Package 154/236HostnameOS / ArchINSTALLBUILDCHECKBUILD BIN
OLIN 1.85.0  (landing page)
Matthias Futschik
git_last_commit: f6d5168
git_last_commit_date: 2024-10-29 09:23:16 -0500
nebbiolo1Linux (Ubuntu 24.04.1 LTS) / x86_64  OK    OK    OK  UNNEEDED, same version is already published
palomino7Windows Server 2022 Datacenter / x64  OK    OK    OK    OK  UNNEEDED, same version is already published
lconwaymacOS 12.7.1 Monterey / x86_64  OK    OK    OK    OK  UNNEEDED, same version is already published
kjohnson3macOS 13.7.1 Ventura / arm64  OK    OK    OK    OK  UNNEEDED, same version is already published
Package 155/236HostnameOS / ArchINSTALLBUILDCHECKBUILD BIN
omicRexposome 1.29.0  (landing page)
Xavier Escribà Montagut
git_last_commit: 0f24216
git_last_commit_date: 2024-10-29 10:22:50 -0500
nebbiolo1Linux (Ubuntu 24.04.1 LTS) / x86_64  OK    OK    OK  UNNEEDED, same version is already published
palomino7Windows Server 2022 Datacenter / x64  OK    TIMEOUT  skippedskipped
lconwaymacOS 12.7.1 Monterey / x86_64  OK    OK    OK    OK  UNNEEDED, same version is already published
kjohnson3macOS 13.7.1 Ventura / arm64  OK    OK    OK    OK  UNNEEDED, same version is already published
Package 156/236HostnameOS / ArchINSTALLBUILDCHECKBUILD BIN
oppti 1.21.0  (landing page)
Abdulkadir Elmas
git_last_commit: 1c8e74d
git_last_commit_date: 2024-10-29 10:41:33 -0500
nebbiolo1Linux (Ubuntu 24.04.1 LTS) / x86_64  OK    OK    WARNINGS  UNNEEDED, same version is already published
palomino7Windows Server 2022 Datacenter / x64  OK    OK    WARNINGS    OK  UNNEEDED, same version is already published
lconwaymacOS 12.7.1 Monterey / x86_64  OK    OK    WARNINGS    OK  UNNEEDED, same version is already published
kjohnson3macOS 13.7.1 Ventura / arm64  OK    OK    WARNINGS    OK  UNNEEDED, same version is already published
Package 157/236HostnameOS / ArchINSTALLBUILDCHECKBUILD BIN
OVESEG 1.23.0  (landing page)
Lulu Chen
git_last_commit: ec068d0
git_last_commit_date: 2024-10-29 10:34:06 -0500
nebbiolo1Linux (Ubuntu 24.04.1 LTS) / x86_64  OK    OK    OK  UNNEEDED, same version is already published
palomino7Windows Server 2022 Datacenter / x64  OK    OK    OK    OK  UNNEEDED, same version is already published
lconwaymacOS 12.7.1 Monterey / x86_64  OK    OK    OK    OK  UNNEEDED, same version is already published
kjohnson3macOS 13.7.1 Ventura / arm64  OK    OK    OK    OK  UNNEEDED, same version is already published
Package 158/236HostnameOS / ArchINSTALLBUILDCHECKBUILD BIN
PAA 1.41.0  (landing page)
Michael Turewicz , Martin Eisenacher
git_last_commit: e9dd570
git_last_commit_date: 2024-10-29 09:55:36 -0500
nebbiolo1Linux (Ubuntu 24.04.1 LTS) / x86_64  OK    OK    OK  UNNEEDED, same version is already published
palomino7Windows Server 2022 Datacenter / x64  OK    OK    OK    OK  UNNEEDED, same version is already published
lconwaymacOS 12.7.1 Monterey / x86_64  OK    OK    OK    OK  UNNEEDED, same version is already published
kjohnson3macOS 13.7.1 Ventura / arm64  OK    OK    OK    OK  UNNEEDED, same version is already published
Package 159/236HostnameOS / ArchINSTALLBUILDCHECKBUILD BIN
PADOG 1.49.4  (landing page)
Adi L. Tarca
git_last_commit: 46f8115
git_last_commit_date: 2025-01-17 15:27:28 -0500
nebbiolo1Linux (Ubuntu 24.04.1 LTS) / x86_64  OK    OK    OK  UNNEEDED, same version is already published
palomino7Windows Server 2022 Datacenter / x64  OK    OK    OK    OK  UNNEEDED, same version is already published
lconwaymacOS 12.7.1 Monterey / x86_64  OK    OK    OK    OK  UNNEEDED, same version is already published
kjohnson3macOS 13.7.1 Ventura / arm64  OK    OK    OK    OK  UNNEEDED, same version is already published
Package 160/236HostnameOS / ArchINSTALLBUILDCHECKBUILD BIN
pairedGSEA 1.7.0  (landing page)
Søren Helweg Dam
git_last_commit: e165c36
git_last_commit_date: 2024-10-29 11:20:22 -0500
nebbiolo1Linux (Ubuntu 24.04.1 LTS) / x86_64  OK    OK    OK  NO, package depends on 'DEXSeq' which is not available
palomino7Windows Server 2022 Datacenter / x64  OK    OK    OK    OK  NO, package depends on 'DESeq2' which is only available as a source package that needs compilation
lconwaymacOS 12.7.1 Monterey / x86_64  OK    OK    OK    OK  NO, package depends on 'DESeq2' which is only available as a source package that needs compilation
kjohnson3macOS 13.7.1 Ventura / arm64  OK    OK    OK    OK  NO, package depends on 'DESeq2' which is only available as a source package that needs compilation
Package 161/236HostnameOS / ArchINSTALLBUILDCHECKBUILD BIN
PanomiR 1.11.0  (landing page)
Pourya Naderi
git_last_commit: 747888b
git_last_commit_date: 2024-10-29 11:08:09 -0500
nebbiolo1Linux (Ubuntu 24.04.1 LTS) / x86_64  OK    OK    OK  UNNEEDED, same version is already published
palomino7Windows Server 2022 Datacenter / x64  OK    OK    OK    OK  UNNEEDED, same version is already published
lconwaymacOS 12.7.1 Monterey / x86_64  OK    OK    OK    OK  UNNEEDED, same version is already published
kjohnson3macOS 13.7.1 Ventura / arm64  OK    OK    OK    OK  UNNEEDED, same version is already published
Package 162/236HostnameOS / ArchINSTALLBUILDCHECKBUILD BIN
PathoStat 1.33.0  (landing page)
Solaiappan Manimaran
git_last_commit: 1f65914
git_last_commit_date: 2024-10-29 10:14:53 -0500
nebbiolo1Linux (Ubuntu 24.04.1 LTS) / x86_64  OK    OK    OK  UNNEEDED, same version is already published
palomino7Windows Server 2022 Datacenter / x64  OK    OK    OK    OK  NO, package depends on 'DESeq2' which is only available as a source package that needs compilation
lconwaymacOS 12.7.1 Monterey / x86_64  OK    OK    OK    OK  NO, package depends on 'DESeq2' which is only available as a source package that needs compilation
kjohnson3macOS 13.7.1 Ventura / arm64  OK    OK    OK    OK  NO, package depends on 'DESeq2' which is only available as a source package that needs compilation
Package 163/236HostnameOS / ArchINSTALLBUILDCHECKBUILD BIN
pcaExplorer 3.1.1  (landing page)
Federico Marini
git_last_commit: 11c744f
git_last_commit_date: 2024-12-19 15:48:49 -0500
nebbiolo1Linux (Ubuntu 24.04.1 LTS) / x86_64  OK    OK    OK  UNNEEDED, same version is already published
palomino7Windows Server 2022 Datacenter / x64  OK    OK    OK    OK  NO, package depends on 'DESeq2' which is only available as a source package that needs compilation
lconwaymacOS 12.7.1 Monterey / x86_64  OK    OK    OK    OK  NO, package depends on 'DESeq2' which is only available as a source package that needs compilation
kjohnson3macOS 13.7.1 Ventura / arm64  OK    OK    OK    OK  NO, package depends on 'DESeq2' which is only available as a source package that needs compilation
Package 164/236HostnameOS / ArchINSTALLBUILDCHECKBUILD BIN
PECA 1.43.0  (landing page)
Tomi Suomi
git_last_commit: a4a29d4
git_last_commit_date: 2024-10-29 09:49:25 -0500
nebbiolo1Linux (Ubuntu 24.04.1 LTS) / x86_64  OK    OK    OK  UNNEEDED, same version is already published
palomino7Windows Server 2022 Datacenter / x64  OK    OK    OK    OK  UNNEEDED, same version is already published
lconwaymacOS 12.7.1 Monterey / x86_64  OK    OK    OK    OK  UNNEEDED, same version is already published
kjohnson3macOS 13.7.1 Ventura / arm64  OK    OK    OK    OK  UNNEEDED, same version is already published
Package 165/236HostnameOS / ArchINSTALLBUILDCHECKBUILD BIN
PepSetTest 1.1.0  (landing page)
Junmin Wang
git_last_commit: 7d3c75f
git_last_commit_date: 2024-10-29 11:32:10 -0500
nebbiolo1Linux (Ubuntu 24.04.1 LTS) / x86_64  OK    OK    OK  UNNEEDED, same version is already published
palomino7Windows Server 2022 Datacenter / x64  OK    OK    OK    OK  UNNEEDED, same version is already published
lconwaymacOS 12.7.1 Monterey / x86_64  OK    OK    OK    OK  UNNEEDED, same version is already published
kjohnson3macOS 13.7.1 Ventura / arm64  OK    OK    OK    OK  UNNEEDED, same version is already published
Package 166/236HostnameOS / ArchINSTALLBUILDCHECKBUILD BIN
pepStat 1.41.0  (landing page)
Gregory C Imholte
git_last_commit: 42e8f77
git_last_commit_date: 2024-10-29 09:53:04 -0500
nebbiolo1Linux (Ubuntu 24.04.1 LTS) / x86_64  OK    OK    OK  UNNEEDED, same version is already published
palomino7Windows Server 2022 Datacenter / x64  OK    OK    OK    OK  UNNEEDED, same version is already published
lconwaymacOS 12.7.1 Monterey / x86_64  OK    OK    OK    OK  UNNEEDED, same version is already published
kjohnson3macOS 13.7.1 Ventura / arm64  OK    OK    OK    OK  UNNEEDED, same version is already published
Package 167/236HostnameOS / ArchINSTALLBUILDCHECKBUILD BIN
phantasus 1.27.0  (landing page)
Alexey Sergushichev
git_last_commit: 57b2ec9
git_last_commit_date: 2024-10-29 10:26:39 -0500
nebbiolo1Linux (Ubuntu 24.04.1 LTS) / x86_64  OK    OK    OK  UNNEEDED, same version is already published
palomino7Windows Server 2022 Datacenter / x64  OK    OK    ERROR    OK  
lconwaymacOS 12.7.1 Monterey / x86_64  OK    OK    OK    OK  NO, package depends on 'DESeq2' which is only available as a source package that needs compilation
kjohnson3macOS 13.7.1 Ventura / arm64  OK    OK    OK    OK  NO, package depends on 'DESeq2' which is only available as a source package that needs compilation
Package 168/236HostnameOS / ArchINSTALLBUILDCHECKBUILD BIN
phenomis 1.9.0  (landing page)
Etienne A. Thevenot
git_last_commit: b15f3f7
git_last_commit_date: 2024-10-29 11:14:05 -0500
nebbiolo1Linux (Ubuntu 24.04.1 LTS) / x86_64  OK    OK    OK  UNNEEDED, same version is already published
palomino7Windows Server 2022 Datacenter / x64  OK    OK    OK    OK  UNNEEDED, same version is already published
lconwaymacOS 12.7.1 Monterey / x86_64  OK    OK    OK    OK  UNNEEDED, same version is already published
kjohnson3macOS 13.7.1 Ventura / arm64  OK    OK    OK    OK  UNNEEDED, same version is already published
Package 169/236HostnameOS / ArchINSTALLBUILDCHECKBUILD BIN
phenoTest 1.55.0  (landing page)
Evarist Planet
git_last_commit: 689f101
git_last_commit_date: 2024-10-29 09:35:40 -0500
nebbiolo1Linux (Ubuntu 24.04.1 LTS) / x86_64  OK    OK    OK  UNNEEDED, same version is already published
palomino7Windows Server 2022 Datacenter / x64  OK    OK    OK    OK  UNNEEDED, same version is already published
lconwaymacOS 12.7.1 Monterey / x86_64  OK    OK    OK    OK  UNNEEDED, same version is already published
kjohnson3macOS 13.7.1 Ventura / arm64  OK    OK    OK    OK  UNNEEDED, same version is already published
Package 170/236HostnameOS / ArchINSTALLBUILDCHECKBUILD BIN
PhosR 1.17.0  (landing page)
Taiyun Kim
git_last_commit: 1e4d7a4
git_last_commit_date: 2024-10-29 10:50:46 -0500
nebbiolo1Linux (Ubuntu 24.04.1 LTS) / x86_64  OK    OK    OK  UNNEEDED, same version is already published
palomino7Windows Server 2022 Datacenter / x64  OK    OK    OK    OK  UNNEEDED, same version is already published
lconwaymacOS 12.7.1 Monterey / x86_64  OK    OK    OK    OK  UNNEEDED, same version is already published
kjohnson3macOS 13.7.1 Ventura / arm64  OK    OK    OK    OK  UNNEEDED, same version is already published
Package 171/236HostnameOS / ArchINSTALLBUILDCHECKBUILD BIN
PolySTest 1.1.0  (landing page)
Veit Schwämmle
git_last_commit: 43fe068
git_last_commit_date: 2024-11-22 10:11:09 -0500
nebbiolo1Linux (Ubuntu 24.04.1 LTS) / x86_64  OK    OK    OK  UNNEEDED, same version is already published
palomino7Windows Server 2022 Datacenter / x64  OK    OK    OK    OK  UNNEEDED, same version is already published
lconwaymacOS 12.7.1 Monterey / x86_64  OK    OK    OK    OK  UNNEEDED, same version is already published
kjohnson3macOS 13.7.1 Ventura / arm64  OK    OK    OK    OK  UNNEEDED, same version is already published
Package 172/236HostnameOS / ArchINSTALLBUILDCHECKBUILD BIN
POMA 1.17.6  (landing page)
Pol Castellano-Escuder
git_last_commit: 09bb015
git_last_commit_date: 2024-11-26 18:39:32 -0500
nebbiolo1Linux (Ubuntu 24.04.1 LTS) / x86_64  OK    OK    OK  UNNEEDED, same version is already published
palomino7Windows Server 2022 Datacenter / x64  OK    OK    OK    OK  NO, package depends on 'DESeq2' which is only available as a source package that needs compilation
lconwaymacOS 12.7.1 Monterey / x86_64  OK    OK    OK    OK  NO, package depends on 'DESeq2' which is only available as a source package that needs compilation
kjohnson3macOS 13.7.1 Ventura / arm64  OK    OK    OK    OK  NO, package depends on 'DESeq2' which is only available as a source package that needs compilation
Package 173/236HostnameOS / ArchINSTALLBUILDCHECKBUILD BIN
POWSC 1.15.0  (landing page)
Kenong Su
git_last_commit: ce35b26
git_last_commit_date: 2024-10-29 10:59:52 -0500
nebbiolo1Linux (Ubuntu 24.04.1 LTS) / x86_64  OK    OK    OK  UNNEEDED, same version is already published
palomino7Windows Server 2022 Datacenter / x64  OK    OK    OK    OK  UNNEEDED, same version is already published
lconwaymacOS 12.7.1 Monterey / x86_64  OK    OK    OK    OK  UNNEEDED, same version is already published
kjohnson3macOS 13.7.1 Ventura / arm64  OK    OK    OK    OK  UNNEEDED, same version is already published
Package 174/236HostnameOS / ArchINSTALLBUILDCHECKBUILD BIN
projectR 1.23.0  (landing page)
Genevieve Stein-O'Brien
git_last_commit: 6cc9b37
git_last_commit_date: 2024-10-29 10:35:42 -0500
nebbiolo1Linux (Ubuntu 24.04.1 LTS) / x86_64  OK    OK    OK  UNNEEDED, same version is already published
palomino7Windows Server 2022 Datacenter / x64  OK    OK    OK    OK  UNNEEDED, same version is already published
lconwaymacOS 12.7.1 Monterey / x86_64  OK    OK    OK    OK  UNNEEDED, same version is already published
kjohnson3macOS 13.7.1 Ventura / arm64  OK    OK    OK    OK  UNNEEDED, same version is already published
Package 175/236HostnameOS / ArchINSTALLBUILDCHECKBUILD BIN
PRONE 1.1.2  (landing page)
Lis Arend
git_last_commit: bca70b6
git_last_commit_date: 2025-01-23 12:01:15 -0500
nebbiolo1Linux (Ubuntu 24.04.1 LTS) / x86_64  OK    OK    OK  UNNEEDED, same version is already published
palomino7Windows Server 2022 Datacenter / x64  OK    OK    OK    OK  UNNEEDED, same version is already published
lconwaymacOS 12.7.1 Monterey / x86_64  OK    OK    OK    OK  UNNEEDED, same version is already published
kjohnson3macOS 13.7.1 Ventura / arm64  OK    OK    OK    OK  UNNEEDED, same version is already published
Package 176/236HostnameOS / ArchINSTALLBUILDCHECKBUILD BIN
protGear 1.11.0  (landing page)
Kennedy Mwai
git_last_commit: 97e8c52
git_last_commit_date: 2024-10-29 11:10:05 -0500
nebbiolo1Linux (Ubuntu 24.04.1 LTS) / x86_64  OK    OK    OK  UNNEEDED, same version is already published
palomino7Windows Server 2022 Datacenter / x64  OK    OK    OK    OK  UNNEEDED, same version is already published
lconwaymacOS 12.7.1 Monterey / x86_64  OK    OK    OK    OK  UNNEEDED, same version is already published
kjohnson3macOS 13.7.1 Ventura / arm64  OK    OK    OK    OK  UNNEEDED, same version is already published
Package 177/236HostnameOS / ArchINSTALLBUILDCHECKBUILD BIN
psichomics 1.33.0  (landing page)
Nuno Saraiva-Agostinho
git_last_commit: 55e72bb
git_last_commit_date: 2024-10-29 10:15:03 -0500
nebbiolo1Linux (Ubuntu 24.04.1 LTS) / x86_64  OK    OK    OK  UNNEEDED, same version is already published
palomino7Windows Server 2022 Datacenter / x64  OK    OK    OK    OK  UNNEEDED, same version is already published
lconwaymacOS 12.7.1 Monterey / x86_64  OK    OK    OK    OK  UNNEEDED, same version is already published
kjohnson3macOS 13.7.1 Ventura / arm64  OK    OK    OK    OK  UNNEEDED, same version is already published
Package 178/236HostnameOS / ArchINSTALLBUILDCHECKBUILD BIN
qmtools 1.11.0  (landing page)
Jaehyun Joo
git_last_commit: d02f681
git_last_commit_date: 2024-10-29 11:10:22 -0500
nebbiolo1Linux (Ubuntu 24.04.1 LTS) / x86_64  OK    OK    OK  UNNEEDED, same version is already published
palomino7Windows Server 2022 Datacenter / x64  OK    OK    OK    OK  UNNEEDED, same version is already published
lconwaymacOS 12.7.1 Monterey / x86_64  OK    OK    OK    OK  UNNEEDED, same version is already published
kjohnson3macOS 13.7.1 Ventura / arm64  OK    OK    OK    OK  UNNEEDED, same version is already published
Package 179/236HostnameOS / ArchINSTALLBUILDCHECKBUILD BIN
qpcrNorm 1.65.0  (landing page)
Jessica Mar
git_last_commit: 434cba8
git_last_commit_date: 2024-10-29 09:31:13 -0500
nebbiolo1Linux (Ubuntu 24.04.1 LTS) / x86_64  OK    OK    OK  UNNEEDED, same version is already published
palomino7Windows Server 2022 Datacenter / x64  OK    OK    OK    OK  UNNEEDED, same version is already published
lconwaymacOS 12.7.1 Monterey / x86_64  OK    OK    OK    OK  UNNEEDED, same version is already published
kjohnson3macOS 13.7.1 Ventura / arm64  OK    OK    OK    OK  UNNEEDED, same version is already published
Package 180/236HostnameOS / ArchINSTALLBUILDCHECKBUILD BIN
qPLEXanalyzer 1.25.0  (landing page)
Ashley Sawle
git_last_commit: 9825be7
git_last_commit_date: 2024-10-29 10:29:37 -0500
nebbiolo1Linux (Ubuntu 24.04.1 LTS) / x86_64  OK    OK    OK  UNNEEDED, same version is already published
palomino7Windows Server 2022 Datacenter / x64  OK    OK    OK    OK  UNNEEDED, same version is already published
lconwaymacOS 12.7.1 Monterey / x86_64  OK    OK    OK    OK  UNNEEDED, same version is already published
kjohnson3macOS 13.7.1 Ventura / arm64  OK    OK    OK    OK  UNNEEDED, same version is already published
Package 181/236HostnameOS / ArchINSTALLBUILDCHECKBUILD BIN
qsea 1.33.0  (landing page)
Matthias Lienhard
git_last_commit: c55425a
git_last_commit_date: 2024-10-29 10:11:57 -0500
nebbiolo1Linux (Ubuntu 24.04.1 LTS) / x86_64  OK    OK    WARNINGS  UNNEEDED, same version is already published
palomino7Windows Server 2022 Datacenter / x64  OK    OK    WARNINGS    OK  UNNEEDED, same version is already published
lconwaymacOS 12.7.1 Monterey / x86_64  OK    OK    WARNINGS    OK  NO, package depends on 'rtracklayer' which is only available as a source package that needs compilation
kjohnson3macOS 13.7.1 Ventura / arm64  OK    OK    WARNINGS    OK  NO, package depends on 'rtracklayer' which is only available as a source package that needs compilation
Package 182/236HostnameOS / ArchINSTALLBUILDCHECKBUILD BIN
qusage 2.41.0  (landing page)
Christopher Bolen
git_last_commit: 6d6b8f8
git_last_commit_date: 2024-10-29 09:47:44 -0500
nebbiolo1Linux (Ubuntu 24.04.1 LTS) / x86_64  OK    OK    OK  UNNEEDED, same version is already published
palomino7Windows Server 2022 Datacenter / x64  OK    OK    OK    OK  UNNEEDED, same version is already published
lconwaymacOS 12.7.1 Monterey / x86_64  OK    OK    OK    OK  UNNEEDED, same version is already published
kjohnson3macOS 13.7.1 Ventura / arm64  OK    OK    OK    OK  UNNEEDED, same version is already published
Package 183/236HostnameOS / ArchINSTALLBUILDCHECKBUILD BIN
RBM 1.39.0  (landing page)
Dongmei Li
git_last_commit: 7acbaea
git_last_commit_date: 2024-10-29 09:59:51 -0500
nebbiolo1Linux (Ubuntu 24.04.1 LTS) / x86_64  OK    OK    OK  UNNEEDED, same version is already published
palomino7Windows Server 2022 Datacenter / x64  OK    OK    OK    OK  UNNEEDED, same version is already published
lconwaymacOS 12.7.1 Monterey / x86_64  OK    OK    OK    OK  UNNEEDED, same version is already published
kjohnson3macOS 13.7.1 Ventura / arm64  OK    OK    OK    OK  UNNEEDED, same version is already published
Package 184/236HostnameOS / ArchINSTALLBUILDCHECKBUILD BIN
rCGH 1.37.0  (landing page)
Frederic Commo
git_last_commit: f2bf7cc
git_last_commit_date: 2024-10-29 10:02:24 -0500
nebbiolo1Linux (Ubuntu 24.04.1 LTS) / x86_64  OK    OK    OK  UNNEEDED, same version is already published
palomino7Windows Server 2022 Datacenter / x64  OK    OK    OK    OK  UNNEEDED, same version is already published
lconwaymacOS 12.7.1 Monterey / x86_64  OK    OK    OK    OK  UNNEEDED, same version is already published
kjohnson3macOS 13.7.1 Ventura / arm64  OK    OK    OK    OK  UNNEEDED, same version is already published
Package 185/236HostnameOS / ArchINSTALLBUILDCHECKBUILD BIN
RegEnrich 1.17.0  (landing page)
Weiyang Tao
git_last_commit: 231e44e
git_last_commit_date: 2024-10-29 10:47:44 -0500
nebbiolo1Linux (Ubuntu 24.04.1 LTS) / x86_64  OK    OK    OK  UNNEEDED, same version is already published
palomino7Windows Server 2022 Datacenter / x64  OK    OK    OK    OK  NO, package depends on 'DESeq2' which is only available as a source package that needs compilation
lconwaymacOS 12.7.1 Monterey / x86_64  OK    OK    OK    OK  NO, package depends on 'DESeq2' which is only available as a source package that needs compilation
kjohnson3macOS 13.7.1 Ventura / arm64  OK    OK    OK    OK  NO, package depends on 'DESeq2' which is only available as a source package that needs compilation
Package 186/236HostnameOS / ArchINSTALLBUILDCHECKBUILD BIN
regsplice 1.33.0  (landing page)
Lukas M. Weber
git_last_commit: 27b614a
git_last_commit_date: 2024-10-29 10:15:27 -0500
nebbiolo1Linux (Ubuntu 24.04.1 LTS) / x86_64  OK    OK    OK  UNNEEDED, same version is already published
palomino7Windows Server 2022 Datacenter / x64  OK    OK    OK    OK  UNNEEDED, same version is already published
lconwaymacOS 12.7.1 Monterey / x86_64  OK    OK    OK    OK  UNNEEDED, same version is already published
kjohnson3macOS 13.7.1 Ventura / arm64  OK    OK    OK    OK  UNNEEDED, same version is already published
Package 187/236HostnameOS / ArchINSTALLBUILDCHECKBUILD BIN
ReportingTools 2.47.0  (landing page)
Jason A. Hackney , Gabriel Becker
git_last_commit: 30a7956
git_last_commit_date: 2024-10-29 09:42:49 -0500
nebbiolo1Linux (Ubuntu 24.04.1 LTS) / x86_64  OK    OK    OK  UNNEEDED, same version is already published
palomino7Windows Server 2022 Datacenter / x64  OK    OK    ERROR    OK  
lconwaymacOS 12.7.1 Monterey / x86_64  OK    OK    ERROR    OK  
kjohnson3macOS 13.7.1 Ventura / arm64  OK    OK    ERROR    OK  
Package 188/236HostnameOS / ArchINSTALLBUILDCHECKBUILD BIN
RNAseqCovarImpute 1.5.0  (landing page)
Brennan Baker
git_last_commit: f490cdd
git_last_commit_date: 2024-10-29 11:24:42 -0500
nebbiolo1Linux (Ubuntu 24.04.1 LTS) / x86_64  OK    OK    OK  UNNEEDED, same version is already published
palomino7Windows Server 2022 Datacenter / x64  OK    OK    OK    OK  UNNEEDED, same version is already published
lconwaymacOS 12.7.1 Monterey / x86_64  OK    OK    OK    OK  UNNEEDED, same version is already published
kjohnson3macOS 13.7.1 Ventura / arm64  OK    OK    OK    OK  UNNEEDED, same version is already published
Package 189/236HostnameOS / ArchINSTALLBUILDCHECKBUILD BIN
RnBeads 2.25.0  (landing page)
Fabian Mueller
git_last_commit: 3ab7825
git_last_commit_date: 2024-10-29 10:01:01 -0500
nebbiolo1Linux (Ubuntu 24.04.1 LTS) / x86_64  OK    OK    OK  UNNEEDED, same version is already published
palomino7Windows Server 2022 Datacenter / x64  OK    OK    OK    OK  UNNEEDED, same version is already published
lconwaymacOS 12.7.1 Monterey / x86_64  OK    OK    OK    OK  UNNEEDED, same version is already published
kjohnson3macOS 13.7.1 Ventura / arm64  OK    OK    OK    OK  UNNEEDED, same version is already published
Package 190/236HostnameOS / ArchINSTALLBUILDCHECKBUILD BIN
Rnits 1.41.0  (landing page)
Dipen P. Sangurdekar
git_last_commit: 4df67b1
git_last_commit_date: 2024-10-29 09:54:24 -0500
nebbiolo1Linux (Ubuntu 24.04.1 LTS) / x86_64  OK    OK    WARNINGS  UNNEEDED, same version is already published
palomino7Windows Server 2022 Datacenter / x64  OK    OK    WARNINGS    OK  UNNEEDED, same version is already published
lconwaymacOS 12.7.1 Monterey / x86_64  OK    OK    WARNINGS    OK  UNNEEDED, same version is already published
kjohnson3macOS 13.7.1 Ventura / arm64  OK    OK    WARNINGS    OK  UNNEEDED, same version is already published
Package 191/236HostnameOS / ArchINSTALLBUILDCHECKBUILD BIN
roastgsa 1.5.0  (landing page)
Adria Caballe
git_last_commit: 5f94c99
git_last_commit_date: 2024-10-29 11:22:53 -0500
nebbiolo1Linux (Ubuntu 24.04.1 LTS) / x86_64  OK    OK    OK  UNNEEDED, same version is already published
palomino7Windows Server 2022 Datacenter / x64  OK    OK    OK    OK  UNNEEDED, same version is already published
lconwaymacOS 12.7.1 Monterey / x86_64  OK    OK    OK    OK  UNNEEDED, same version is already published
kjohnson3macOS 13.7.1 Ventura / arm64  OK    OK    OK    OK  UNNEEDED, same version is already published
Package 192/236HostnameOS / ArchINSTALLBUILDCHECKBUILD BIN
ROSeq 1.19.0  (landing page)
Krishan Gupta
git_last_commit: f033b59
git_last_commit_date: 2024-10-29 10:46:19 -0500
nebbiolo1Linux (Ubuntu 24.04.1 LTS) / x86_64  OK    OK    WARNINGS  UNNEEDED, same version is already published
palomino7Windows Server 2022 Datacenter / x64  OK    OK    WARNINGS    OK  UNNEEDED, same version is already published
lconwaymacOS 12.7.1 Monterey / x86_64  OK    OK    WARNINGS    OK  UNNEEDED, same version is already published
kjohnson3macOS 13.7.1 Ventura / arm64  OK    OK    WARNINGS    OK  UNNEEDED, same version is already published
Package 193/236HostnameOS / ArchINSTALLBUILDCHECKBUILD BIN
RTN 2.31.0  (landing page)
Mauro Castro
git_last_commit: 84b09ed
git_last_commit_date: 2024-10-29 09:47:19 -0500
nebbiolo1Linux (Ubuntu 24.04.1 LTS) / x86_64  OK    OK    OK  UNNEEDED, same version is already published
palomino7Windows Server 2022 Datacenter / x64  OK    OK    OK    OK  UNNEEDED, same version is already published
lconwaymacOS 12.7.1 Monterey / x86_64  OK    OK    OK    OK  UNNEEDED, same version is already published
kjohnson3macOS 13.7.1 Ventura / arm64  OK    OK    OK    OK  UNNEEDED, same version is already published
Package 194/236HostnameOS / ArchINSTALLBUILDCHECKBUILD BIN
RTopper 1.53.0  (landing page)
Luigi Marchionni
git_last_commit: 3a32b4a
git_last_commit_date: 2024-10-29 09:38:21 -0500
nebbiolo1Linux (Ubuntu 24.04.1 LTS) / x86_64  OK    OK    OK  UNNEEDED, same version is already published
palomino7Windows Server 2022 Datacenter / x64  OK    OK    OK    OK  UNNEEDED, same version is already published
lconwaymacOS 12.7.1 Monterey / x86_64  OK    OK    OK    OK  UNNEEDED, same version is already published
kjohnson3macOS 13.7.1 Ventura / arm64  OK    OK    OK    OK  UNNEEDED, same version is already published
Package 195/236HostnameOS / ArchINSTALLBUILDCHECKBUILD BIN
saseR 1.3.0  (landing page)
Alexandre Segers
git_last_commit: f1d9b6b
git_last_commit_date: 2024-10-29 11:26:33 -0500
nebbiolo1Linux (Ubuntu 24.04.1 LTS) / x86_64  OK    OK    WARNINGS  NO, package depends on 'DEXSeq' which is not available
palomino7Windows Server 2022 Datacenter / x64  OK    OK    WARNINGS    OK  NO, package depends on 'DESeq2' which is only available as a source package that needs compilation
lconwaymacOS 12.7.1 Monterey / x86_64  OK    OK    WARNINGS    OK  NO, package depends on 'DESeq2' which is only available as a source package that needs compilation
kjohnson3macOS 13.7.1 Ventura / arm64  OK    OK    WARNINGS    OK  NO, package depends on 'DESeq2' which is only available as a source package that needs compilation
Package 196/236HostnameOS / ArchINSTALLBUILDCHECKBUILD BIN
satuRn 1.15.0  (landing page)
Jeroen Gilis
git_last_commit: 6656389
git_last_commit_date: 2024-10-29 10:55:50 -0500
nebbiolo1Linux (Ubuntu 24.04.1 LTS) / x86_64  OK    OK    OK  UNNEEDED, same version is already published
palomino7Windows Server 2022 Datacenter / x64  OK    OK    OK    OK  UNNEEDED, same version is already published
lconwaymacOS 12.7.1 Monterey / x86_64  OK    OK    OK    OK  UNNEEDED, same version is already published
kjohnson3macOS 13.7.1 Ventura / arm64  OK    OK    OK    OK  UNNEEDED, same version is already published
Package 197/236HostnameOS / ArchINSTALLBUILDCHECKBUILD BIN
scClassify 1.19.0  (landing page)
Yingxin Lin
git_last_commit: e235107
git_last_commit_date: 2024-10-29 10:46:09 -0500
nebbiolo1Linux (Ubuntu 24.04.1 LTS) / x86_64  OK    OK    OK  UNNEEDED, same version is already published
palomino7Windows Server 2022 Datacenter / x64  OK    OK    OK    OK  UNNEEDED, same version is already published
lconwaymacOS 12.7.1 Monterey / x86_64  OK    OK    OK    OK  UNNEEDED, same version is already published
kjohnson3macOS 13.7.1 Ventura / arm64  OK    OK    OK    OK  UNNEEDED, same version is already published
Package 198/236HostnameOS / ArchINSTALLBUILDCHECKBUILD BIN
scone 1.31.0  (landing page)
Davide Risso
git_last_commit: 92a6cd8
git_last_commit_date: 2024-10-29 10:16:17 -0500
nebbiolo1Linux (Ubuntu 24.04.1 LTS) / x86_64  OK    ERROR  skipped
palomino7Windows Server 2022 Datacenter / x64  OK    ERROR  skippedskipped
lconwaymacOS 12.7.1 Monterey / x86_64  OK    ERROR  skippedskipped
kjohnson3macOS 13.7.1 Ventura / arm64  OK    ERROR  skippedskipped
Package 199/236HostnameOS / ArchINSTALLBUILDCHECKBUILD BIN
scQTLtools 0.99.11  (landing page)
Xiaofeng Wu
git_last_commit: ea83240
git_last_commit_date: 2025-01-15 12:27:35 -0500
nebbiolo1Linux (Ubuntu 24.04.1 LTS) / x86_64  OK    OK    OK  UNNEEDED, same version is already published
palomino7Windows Server 2022 Datacenter / x64  OK    OK    OK    OK  NO, package depends on 'DESeq2' which is only available as a source package that needs compilation
lconwaymacOS 12.7.1 Monterey / x86_64  OK    OK    OK    OK  NO, package depends on 'DESeq2' which is only available as a source package that needs compilation
kjohnson3macOS 13.7.1 Ventura / arm64  OK    OK    OK    OK  NO, package depends on 'DESeq2' which is only available as a source package that needs compilation
Package 200/236HostnameOS / ArchINSTALLBUILDCHECKBUILD BIN
scran 1.35.0  (landing page)
Aaron Lun
git_last_commit: f18e781
git_last_commit_date: 2024-10-29 10:09:52 -0500
nebbiolo1Linux (Ubuntu 24.04.1 LTS) / x86_64  OK    OK    WARNINGS  UNNEEDED, same version is already published
palomino7Windows Server 2022 Datacenter / x64  OK    OK    WARNINGS    OK  UNNEEDED, same version is already published
lconwaymacOS 12.7.1 Monterey / x86_64  OK    OK    WARNINGS    OK  UNNEEDED, same version is already published
kjohnson3macOS 13.7.1 Ventura / arm64  OK    OK    WARNINGS    OK  UNNEEDED, same version is already published
Package 201/236HostnameOS / ArchINSTALLBUILDCHECKBUILD BIN
ScreenR 1.9.0  (landing page)
Emanuel Michele Soda
git_last_commit: 9ed4aad
git_last_commit_date: 2024-10-29 11:12:15 -0500
nebbiolo1Linux (Ubuntu 24.04.1 LTS) / x86_64  OK    OK    OK  UNNEEDED, same version is already published
palomino7Windows Server 2022 Datacenter / x64  OK    OK    OK    OK  UNNEEDED, same version is already published
lconwaymacOS 12.7.1 Monterey / x86_64  OK    OK    OK    OK  UNNEEDED, same version is already published
kjohnson3macOS 13.7.1 Ventura / arm64  OK    OK    OK    OK  UNNEEDED, same version is already published
Package 202/236HostnameOS / ArchINSTALLBUILDCHECKBUILD BIN
scviR 1.7.0  (landing page)
Vincent Carey
git_last_commit: 97c87b8
git_last_commit_date: 2024-10-29 11:18:41 -0500
nebbiolo1Linux (Ubuntu 24.04.1 LTS) / x86_64  OK    OK    OK  UNNEEDED, same version is already published
palomino7Windows Server 2022 Datacenter / x64... NOT SUPPORTED ...
lconwaymacOS 12.7.1 Monterey / x86_64  OK    ERROR  skippedskipped
kjohnson3macOS 13.7.1 Ventura / arm64  OK    OK    OK    OK  UNNEEDED, same version is already published
Package 203/236HostnameOS / ArchINSTALLBUILDCHECKBUILD BIN
seqsetvis 1.27.2  (landing page)
Joseph R Boyd
git_last_commit: ae10577
git_last_commit_date: 2024-12-09 15:04:05 -0500
nebbiolo1Linux (Ubuntu 24.04.1 LTS) / x86_64  OK    OK    OK  UNNEEDED, same version is already published
palomino7Windows Server 2022 Datacenter / x64  OK    OK    OK    OK  UNNEEDED, same version is already published
lconwaymacOS 12.7.1 Monterey / x86_64  OK    OK    OK    OK  NO, package depends on 'rtracklayer' which is only available as a source package that needs compilation
kjohnson3macOS 13.7.1 Ventura / arm64  OK    OK    OK    OK  NO, package depends on 'rtracklayer' which is only available as a source package that needs compilation
Package 204/236HostnameOS / ArchINSTALLBUILDCHECKBUILD BIN
shinyepico 1.15.0  (landing page)
Octavio Morante-Palacios
git_last_commit: 072d986
git_last_commit_date: 2024-10-29 10:53:31 -0500
nebbiolo1Linux (Ubuntu 24.04.1 LTS) / x86_64  OK    OK    OK  UNNEEDED, same version is already published
palomino7Windows Server 2022 Datacenter / x64  OK    OK    OK    OK  UNNEEDED, same version is already published
lconwaymacOS 12.7.1 Monterey / x86_64  OK    OK    OK    OK  NO, package depends on 'rtracklayer' which is only available as a source package that needs compilation
kjohnson3macOS 13.7.1 Ventura / arm64  OK    OK    OK    OK  NO, package depends on 'rtracklayer' which is only available as a source package that needs compilation
Package 205/236HostnameOS / ArchINSTALLBUILDCHECKBUILD BIN
SingleCellSignalR 1.19.0  (landing page)
Jacques Colinge Developer
git_last_commit: f0f49f1
git_last_commit_date: 2024-10-29 10:46:44 -0500
nebbiolo1Linux (Ubuntu 24.04.1 LTS) / x86_64  OK    OK    WARNINGS  UNNEEDED, same version is already published
palomino7Windows Server 2022 Datacenter / x64  OK    OK    WARNINGS    OK  UNNEEDED, same version is already published
lconwaymacOS 12.7.1 Monterey / x86_64  OK    OK    WARNINGS    OK  UNNEEDED, same version is already published
kjohnson3macOS 13.7.1 Ventura / arm64  OK    OK    WARNINGS    OK  UNNEEDED, same version is already published
Package 206/236HostnameOS / ArchINSTALLBUILDCHECKBUILD BIN
singleCellTK 2.17.0  (landing page)
Joshua David Campbell
git_last_commit: 65dee790
git_last_commit_date: 2024-10-29 11:30:33 -0500
nebbiolo1Linux (Ubuntu 24.04.1 LTS) / x86_64  OK    OK    ERROR  
palomino7Windows Server 2022 Datacenter / x64  OK    OK    ERROR    OK  
lconwaymacOS 12.7.1 Monterey / x86_64  OK    OK    ERROR    OK  
kjohnson3macOS 13.7.1 Ventura / arm64  OK    OK    ERROR    OK  
Package 207/236HostnameOS / ArchINSTALLBUILDCHECKBUILD BIN
sparrow 1.13.4  (landing page)
Steve Lianoglou
git_last_commit: 960335c
git_last_commit_date: 2024-12-03 10:41:27 -0500
nebbiolo1Linux (Ubuntu 24.04.1 LTS) / x86_64  OK    OK    OK  UNNEEDED, same version is already published
palomino7Windows Server 2022 Datacenter / x64  OK    OK    OK    OK  UNNEEDED, same version is already published
lconwaymacOS 12.7.1 Monterey / x86_64  OK    OK    OK    OK  UNNEEDED, same version is already published
kjohnson3macOS 13.7.1 Ventura / arm64  OK    OK    OK    OK  UNNEEDED, same version is already published
Package 208/236HostnameOS / ArchINSTALLBUILDCHECKBUILD BIN
speckle 1.7.0  (landing page)
Belinda Phipson
git_last_commit: 204269e
git_last_commit_date: 2024-10-29 11:16:44 -0500
nebbiolo1Linux (Ubuntu 24.04.1 LTS) / x86_64  OK    OK    OK  UNNEEDED, same version is already published
palomino7Windows Server 2022 Datacenter / x64  OK    OK    OK    OK  UNNEEDED, same version is already published
lconwaymacOS 12.7.1 Monterey / x86_64  OK    OK    OK    OK  UNNEEDED, same version is already published
kjohnson3macOS 13.7.1 Ventura / arm64  OK    OK    OK    OK  UNNEEDED, same version is already published
Package 209/236HostnameOS / ArchINSTALLBUILDCHECKBUILD BIN
splineTimeR 1.35.0  (landing page)
Herbert Braselmann , Martin Selmansberger
git_last_commit: 3853c2f
git_last_commit_date: 2024-10-29 10:06:05 -0500
nebbiolo1Linux (Ubuntu 24.04.1 LTS) / x86_64  OK    OK    OK  UNNEEDED, same version is already published
palomino7Windows Server 2022 Datacenter / x64  OK    OK    OK    OK  UNNEEDED, same version is already published
lconwaymacOS 12.7.1 Monterey / x86_64  OK    OK    OK    OK  UNNEEDED, same version is already published
kjohnson3macOS 13.7.1 Ventura / arm64  OK    OK    OK    OK  UNNEEDED, same version is already published
Package 210/236HostnameOS / ArchINSTALLBUILDCHECKBUILD BIN
SPsimSeq 1.17.0  (landing page)
Joris Meys
git_last_commit: 36e9409
git_last_commit_date: 2024-10-29 10:47:41 -0500
nebbiolo1Linux (Ubuntu 24.04.1 LTS) / x86_64  OK    OK    OK  UNNEEDED, same version is already published
palomino7Windows Server 2022 Datacenter / x64  OK    OK    OK    OK  UNNEEDED, same version is already published
lconwaymacOS 12.7.1 Monterey / x86_64  OK    OK    OK    OK  UNNEEDED, same version is already published
kjohnson3macOS 13.7.1 Ventura / arm64  OK    OK    OK    OK  UNNEEDED, same version is already published
Package 211/236HostnameOS / ArchINSTALLBUILDCHECKBUILD BIN
standR 1.11.1  (landing page)
Ning Liu
git_last_commit: 0dbb86e
git_last_commit_date: 2024-12-01 22:37:29 -0500
nebbiolo1Linux (Ubuntu 24.04.1 LTS) / x86_64  OK    OK    OK  UNNEEDED, same version is already published
palomino7Windows Server 2022 Datacenter / x64  OK    OK    OK    OK  UNNEEDED, same version is already published
lconwaymacOS 12.7.1 Monterey / x86_64  OK    OK    OK    OK  UNNEEDED, same version is already published
kjohnson3macOS 13.7.1 Ventura / arm64  OK    OK    OK    OK  UNNEEDED, same version is already published
Package 212/236HostnameOS / ArchINSTALLBUILDCHECKBUILD BIN
STATegRa 1.43.0  (landing page)
David Gomez-Cabrero , Núria Planell
git_last_commit: 7a5e8cc
git_last_commit_date: 2024-10-29 09:56:04 -0500
nebbiolo1Linux (Ubuntu 24.04.1 LTS) / x86_64  OK    OK    OK  UNNEEDED, same version is already published
palomino7Windows Server 2022 Datacenter / x64  OK    OK    OK    OK  UNNEEDED, same version is already published
lconwaymacOS 12.7.1 Monterey / x86_64  OK    OK    OK    OK  UNNEEDED, same version is already published
kjohnson3macOS 13.7.1 Ventura / arm64  OK    OK    OK    OK  UNNEEDED, same version is already published
Package 213/236HostnameOS / ArchINSTALLBUILDCHECKBUILD BIN
Statial 1.9.0  (landing page)
Farhan Ameen
git_last_commit: b4c031f
git_last_commit_date: 2024-10-29 11:16:14 -0500
nebbiolo1Linux (Ubuntu 24.04.1 LTS) / x86_64  OK    ERROR  skipped
palomino7Windows Server 2022 Datacenter / x64  OK    ERROR  skippedskipped
lconwaymacOS 12.7.1 Monterey / x86_64  OK    ERROR  skippedskipped
kjohnson3macOS 13.7.1 Ventura / arm64  OK    ERROR  skippedskipped
Package 214/236HostnameOS / ArchINSTALLBUILDCHECKBUILD BIN
sva 3.55.0  (landing page)
Jeffrey T. Leek , John D. Storey
git_last_commit: 5dc7e05
git_last_commit_date: 2024-10-29 09:39:01 -0500
nebbiolo1Linux (Ubuntu 24.04.1 LTS) / x86_64  OK    OK    OK  UNNEEDED, same version is already published
palomino7Windows Server 2022 Datacenter / x64  OK    OK    OK    OK  UNNEEDED, same version is already published
lconwaymacOS 12.7.1 Monterey / x86_64  OK    OK    OK    OK  UNNEEDED, same version is already published
kjohnson3macOS 13.7.1 Ventura / arm64  OK    OK    OK    OK  UNNEEDED, same version is already published
Package 215/236HostnameOS / ArchINSTALLBUILDCHECKBUILD BIN
timecourse 1.79.0  (landing page)
Yu Chuan Tai
git_last_commit: e883bf8
git_last_commit_date: 2024-10-29 09:25:01 -0500
nebbiolo1Linux (Ubuntu 24.04.1 LTS) / x86_64  OK    OK    OK  UNNEEDED, same version is already published
palomino7Windows Server 2022 Datacenter / x64  OK    OK    OK    OK  UNNEEDED, same version is already published
lconwaymacOS 12.7.1 Monterey / x86_64  OK    OK    OK    OK  UNNEEDED, same version is already published
kjohnson3macOS 13.7.1 Ventura / arm64  OK    OK    OK    OK  UNNEEDED, same version is already published
Package 216/236HostnameOS / ArchINSTALLBUILDCHECKBUILD BIN
TMSig 1.1.0  (landing page)
Tyler Sagendorf
git_last_commit: fcdbeea
git_last_commit_date: 2024-10-29 11:35:19 -0500
nebbiolo1Linux (Ubuntu 24.04.1 LTS) / x86_64  OK    OK    OK  UNNEEDED, same version is already published
palomino7Windows Server 2022 Datacenter / x64  OK    OK    OK    OK  UNNEEDED, same version is already published
lconwaymacOS 12.7.1 Monterey / x86_64  OK    OK    OK    OK  UNNEEDED, same version is already published
kjohnson3macOS 13.7.1 Ventura / arm64  OK    OK    OK    OK  UNNEEDED, same version is already published
Package 217/236HostnameOS / ArchINSTALLBUILDCHECKBUILD BIN
TOAST 1.21.0  (landing page)
Ziyi Li
git_last_commit: 3fa4c26
git_last_commit_date: 2024-10-29 10:38:09 -0500
nebbiolo1Linux (Ubuntu 24.04.1 LTS) / x86_64  OK    OK    OK  UNNEEDED, same version is already published
palomino7Windows Server 2022 Datacenter / x64  OK    ERROR  skippedskipped
lconwaymacOS 12.7.1 Monterey / x86_64  OK    OK    OK    OK  UNNEEDED, same version is already published
kjohnson3macOS 13.7.1 Ventura / arm64  OK    OK    OK    OK  UNNEEDED, same version is already published
Package 218/236HostnameOS / ArchINSTALLBUILDCHECKBUILD BIN
TOP 1.7.0  (landing page)
Harry Robertson
git_last_commit: ade71fe
git_last_commit_date: 2024-10-29 11:20:53 -0500
nebbiolo1Linux (Ubuntu 24.04.1 LTS) / x86_64  OK    OK    OK  UNNEEDED, same version is already published
palomino7Windows Server 2022 Datacenter / x64  OK    OK    OK    OK  UNNEEDED, same version is already published
lconwaymacOS 12.7.1 Monterey / x86_64  OK    OK    OK    OK  UNNEEDED, same version is already published
kjohnson3macOS 13.7.1 Ventura / arm64  OK    OK    OK    OK  UNNEEDED, same version is already published
Package 219/236HostnameOS / ArchINSTALLBUILDCHECKBUILD BIN
ToxicoGx 2.11.0  (landing page)
Benjamin Haibe-Kains
git_last_commit: 15ee7e7
git_last_commit_date: 2024-10-29 10:47:56 -0500
nebbiolo1Linux (Ubuntu 24.04.1 LTS) / x86_64  OK    OK    OK  UNNEEDED, same version is already published
palomino7Windows Server 2022 Datacenter / x64  OK    OK    OK    OK  UNNEEDED, same version is already published
lconwaymacOS 12.7.1 Monterey / x86_64  OK    OK    OK    OK  UNNEEDED, same version is already published
kjohnson3macOS 13.7.1 Ventura / arm64  OK    OK    OK    OK  UNNEEDED, same version is already published
Package 220/236HostnameOS / ArchINSTALLBUILDCHECKBUILD BIN
TPP 3.35.0  (landing page)
Dorothee Childs
git_last_commit: d3e2611
git_last_commit_date: 2024-10-29 10:00:25 -0500
nebbiolo1Linux (Ubuntu 24.04.1 LTS) / x86_64  OK    OK    OK  UNNEEDED, same version is already published
palomino7Windows Server 2022 Datacenter / x64  OK    OK    OK    OK  UNNEEDED, same version is already published
lconwaymacOS 12.7.1 Monterey / x86_64  OK    OK    OK    OK  UNNEEDED, same version is already published
kjohnson3macOS 13.7.1 Ventura / arm64  OK    OK    OK    OK  UNNEEDED, same version is already published
Package 221/236HostnameOS / ArchINSTALLBUILDCHECKBUILD BIN
TPP2D 1.23.0  (landing page)
Nils Kurzawa
git_last_commit: 9179fb5
git_last_commit_date: 2024-10-29 10:37:24 -0500
nebbiolo1Linux (Ubuntu 24.04.1 LTS) / x86_64  OK    OK    OK  UNNEEDED, same version is already published
palomino7Windows Server 2022 Datacenter / x64  OK    OK    OK    OK  UNNEEDED, same version is already published
lconwaymacOS 12.7.1 Monterey / x86_64  OK    OK    OK    OK  UNNEEDED, same version is already published
kjohnson3macOS 13.7.1 Ventura / arm64  OK    OK    OK    OK  UNNEEDED, same version is already published
Package 222/236HostnameOS / ArchINSTALLBUILDCHECKBUILD BIN
transcriptogramer 1.29.0  (landing page)
Diego Morais
git_last_commit: c3aae60
git_last_commit_date: 2024-10-29 10:24:01 -0500
nebbiolo1Linux (Ubuntu 24.04.1 LTS) / x86_64  OK    OK    OK  UNNEEDED, same version is already published
palomino7Windows Server 2022 Datacenter / x64  OK    OK    OK    OK  UNNEEDED, same version is already published
lconwaymacOS 12.7.1 Monterey / x86_64  OK    OK    OK    OK  UNNEEDED, same version is already published
kjohnson3macOS 13.7.1 Ventura / arm64  OK    OK    OK    OK  UNNEEDED, same version is already published
Package 223/236HostnameOS / ArchINSTALLBUILDCHECKBUILD BIN
tRanslatome 1.45.0  (landing page)
Toma Tebaldi , Erik Dassi
git_last_commit: 7c3a2dc
git_last_commit_date: 2024-10-29 09:46:10 -0500
nebbiolo1Linux (Ubuntu 24.04.1 LTS) / x86_64  OK    OK    OK  UNNEEDED, same version is already published
palomino7Windows Server 2022 Datacenter / x64  OK    OK    OK    OK  NO, package depends on 'DESeq2' which is only available as a source package that needs compilation
lconwaymacOS 12.7.1 Monterey / x86_64  OK    OK    OK    OK  NO, package depends on 'DESeq2' which is only available as a source package that needs compilation
kjohnson3macOS 13.7.1 Ventura / arm64  OK    OK    OK    OK  NO, package depends on 'DESeq2' which is only available as a source package that needs compilation
Package 224/236HostnameOS / ArchINSTALLBUILDCHECKBUILD BIN
TurboNorm 1.55.0  (landing page)
Maarten van Iterson
git_last_commit: 0c41566
git_last_commit_date: 2024-10-29 09:35:32 -0500
nebbiolo1Linux (Ubuntu 24.04.1 LTS) / x86_64  OK    OK    OK  UNNEEDED, same version is already published
palomino7Windows Server 2022 Datacenter / x64  OK    OK    OK    OK  UNNEEDED, same version is already published
lconwaymacOS 12.7.1 Monterey / x86_64  OK    OK    OK    OK  UNNEEDED, same version is already published
kjohnson3macOS 13.7.1 Ventura / arm64  OK    OK    OK    OK  UNNEEDED, same version is already published
Package 225/236HostnameOS / ArchINSTALLBUILDCHECKBUILD BIN
TVTB 1.33.0  (landing page)
Kevin Rue-Albrecht
git_last_commit: 9b5085b
git_last_commit_date: 2024-10-29 10:15:23 -0500
nebbiolo1Linux (Ubuntu 24.04.1 LTS) / x86_64  OK    OK    OK  UNNEEDED, same version is already published
palomino7Windows Server 2022 Datacenter / x64... NOT SUPPORTED ...
lconwaymacOS 12.7.1 Monterey / x86_64  OK    OK    OK    OK  NO, package depends on 'VariantAnnotation' which is only available as a source package that needs compilation
kjohnson3macOS 13.7.1 Ventura / arm64  OK    OK    OK    OK  NO, package depends on 'VariantAnnotation' which is only available as a source package that needs compilation
Package 226/236HostnameOS / ArchINSTALLBUILDCHECKBUILD BIN
tweeDEseq 1.53.0  (landing page)
Dolors Pelegri-Siso
git_last_commit: 3a20c3b
git_last_commit_date: 2024-10-29 09:39:16 -0500
nebbiolo1Linux (Ubuntu 24.04.1 LTS) / x86_64  OK    OK    WARNINGS  UNNEEDED, same version is already published
palomino7Windows Server 2022 Datacenter / x64  OK    OK    WARNINGS    OK  UNNEEDED, same version is already published
lconwaymacOS 12.7.1 Monterey / x86_64  OK    OK    WARNINGS    OK  UNNEEDED, same version is already published
kjohnson3macOS 13.7.1 Ventura / arm64  OK    OK    WARNINGS    OK  UNNEEDED, same version is already published
Package 227/236HostnameOS / ArchINSTALLBUILDCHECKBUILD BIN
unifiedWMWqPCR 1.43.0  (landing page)
Joris Meys
git_last_commit: f2c0c05
git_last_commit_date: 2024-10-29 09:50:19 -0500
nebbiolo1Linux (Ubuntu 24.04.1 LTS) / x86_64  OK    OK    OK  UNNEEDED, same version is already published
palomino7Windows Server 2022 Datacenter / x64  OK    OK    OK    OK  UNNEEDED, same version is already published
lconwaymacOS 12.7.1 Monterey / x86_64  OK    OK    OK    OK  UNNEEDED, same version is already published
kjohnson3macOS 13.7.1 Ventura / arm64  OK    OK    OK    OK  UNNEEDED, same version is already published
Package 228/236HostnameOS / ArchINSTALLBUILDCHECKBUILD BIN
variancePartition 1.37.2  (landing page)
Gabriel E. Hoffman
git_last_commit: ccb5903
git_last_commit_date: 2025-01-07 11:43:51 -0500
nebbiolo1Linux (Ubuntu 24.04.1 LTS) / x86_64  OK    OK    OK  UNNEEDED, same version is already published
palomino7Windows Server 2022 Datacenter / x64  OK    OK    OK    OK  UNNEEDED, same version is already published
lconwaymacOS 12.7.1 Monterey / x86_64  OK    OK    OK    OK  UNNEEDED, same version is already published
kjohnson3macOS 13.7.1 Ventura / arm64  OK    OK    OK    OK  UNNEEDED, same version is already published
Package 229/236HostnameOS / ArchINSTALLBUILDCHECKBUILD BIN
vsclust 1.9.10  (landing page)
Veit Schwammle
git_last_commit: ef79bf9
git_last_commit_date: 2025-01-18 10:55:31 -0500
nebbiolo1Linux (Ubuntu 24.04.1 LTS) / x86_64  OK    OK    ERROR  
palomino7Windows Server 2022 Datacenter / x64  OK    OK    WARNINGS    OK  UNNEEDED, same version is already published
lconwaymacOS 12.7.1 Monterey / x86_64  OK    OK    WARNINGS    OK  UNNEEDED, same version is already published
kjohnson3macOS 13.7.1 Ventura / arm64  OK    OK    WARNINGS    OK  UNNEEDED, same version is already published
Package 230/236HostnameOS / ArchINSTALLBUILDCHECKBUILD BIN
vsn 3.75.0  (landing page)
Wolfgang Huber
git_last_commit: 79d34f6
git_last_commit_date: 2024-10-29 09:21:17 -0500
nebbiolo1Linux (Ubuntu 24.04.1 LTS) / x86_64  OK    OK    OK  UNNEEDED, same version is already published
palomino7Windows Server 2022 Datacenter / x64  OK    OK    OK    OK  UNNEEDED, same version is already published
lconwaymacOS 12.7.1 Monterey / x86_64  OK    OK    OK    OK  UNNEEDED, same version is already published
kjohnson3macOS 13.7.1 Ventura / arm64  OK    OK    OK    OK  UNNEEDED, same version is already published
Package 231/236HostnameOS / ArchINSTALLBUILDCHECKBUILD BIN
wateRmelon 2.13.0  (landing page)
Leo C Schalkwyk
git_last_commit: d54e843
git_last_commit_date: 2024-11-27 06:20:28 -0500
nebbiolo1Linux (Ubuntu 24.04.1 LTS) / x86_64  OK    OK    WARNINGS  UNNEEDED, same version is already published
palomino7Windows Server 2022 Datacenter / x64  OK    OK    WARNINGS    OK  UNNEEDED, same version is already published
lconwaymacOS 12.7.1 Monterey / x86_64  OK    OK    WARNINGS    OK  UNNEEDED, same version is already published
kjohnson3macOS 13.7.1 Ventura / arm64  OK    OK    WARNINGS    OK  UNNEEDED, same version is already published
Package 232/236HostnameOS / ArchINSTALLBUILDCHECKBUILD BIN
weitrix 1.19.0  (landing page)
Paul Harrison
git_last_commit: 9762181
git_last_commit_date: 2024-10-29 10:46:53 -0500
nebbiolo1Linux (Ubuntu 24.04.1 LTS) / x86_64  OK    OK    OK  UNNEEDED, same version is already published
palomino7Windows Server 2022 Datacenter / x64  OK    OK    OK    OK  UNNEEDED, same version is already published
lconwaymacOS 12.7.1 Monterey / x86_64  OK    OK    OK    OK  UNNEEDED, same version is already published
kjohnson3macOS 13.7.1 Ventura / arm64  OK    OK    OK    OK  UNNEEDED, same version is already published
Package 233/236HostnameOS / ArchINSTALLBUILDCHECKBUILD BIN
Wrench 1.25.0  (landing page)
Hector Corrada Bravo
git_last_commit: 4f4b817
git_last_commit_date: 2024-10-29 10:32:43 -0500
nebbiolo1Linux (Ubuntu 24.04.1 LTS) / x86_64  OK    OK    OK  UNNEEDED, same version is already published
palomino7Windows Server 2022 Datacenter / x64  OK    OK    OK    OK  UNNEEDED, same version is already published
lconwaymacOS 12.7.1 Monterey / x86_64  OK    OK    OK    OK  UNNEEDED, same version is already published
kjohnson3macOS 13.7.1 Ventura / arm64  OK    OK    OK    OK  UNNEEDED, same version is already published
Package 234/236HostnameOS / ArchINSTALLBUILDCHECKBUILD BIN
yamss 1.33.0  (landing page)
Leslie Myint
git_last_commit: 2ec1eaf
git_last_commit_date: 2024-10-29 10:15:30 -0500
nebbiolo1Linux (Ubuntu 24.04.1 LTS) / x86_64  OK    OK    OK  UNNEEDED, same version is already published
palomino7Windows Server 2022 Datacenter / x64  OK    OK    OK    OK  UNNEEDED, same version is already published
lconwaymacOS 12.7.1 Monterey / x86_64  OK    OK    OK    OK  UNNEEDED, same version is already published
kjohnson3macOS 13.7.1 Ventura / arm64  OK    OK    OK    OK  UNNEEDED, same version is already published
Package 235/236HostnameOS / ArchINSTALLBUILDCHECKBUILD BIN
yarn 1.33.0  (landing page)
Joseph N Paulson
git_last_commit: 7e48450
git_last_commit_date: 2024-10-29 10:15:39 -0500
nebbiolo1Linux (Ubuntu 24.04.1 LTS) / x86_64  OK    OK    OK  UNNEEDED, same version is already published
palomino7Windows Server 2022 Datacenter / x64  OK    OK    OK    OK  UNNEEDED, same version is already published
lconwaymacOS 12.7.1 Monterey / x86_64  OK    OK    OK    OK  UNNEEDED, same version is already published
kjohnson3macOS 13.7.1 Ventura / arm64  OK    OK    OK    OK  UNNEEDED, same version is already published
Package 236/236HostnameOS / ArchINSTALLBUILDCHECKBUILD BIN
zenith 1.9.0  (landing page)
Gabriel Hoffman
git_last_commit: 5422050
git_last_commit_date: 2024-10-29 11:13:29 -0500
nebbiolo1Linux (Ubuntu 24.04.1 LTS) / x86_64  OK    OK    OK  UNNEEDED, same version is already published
palomino7Windows Server 2022 Datacenter / x64  OK    OK    OK    OK  UNNEEDED, same version is already published
lconwaymacOS 12.7.1 Monterey / x86_64  OK    OK    OK    OK  UNNEEDED, same version is already published
kjohnson3macOS 13.7.1 Ventura / arm64  OK    OK    OK    OK  UNNEEDED, same version is already published