| Back to Multiple platform build/check report for BioC 3.22: simplified long |
|
This page was generated on 2025-10-23 12:04 -0400 (Thu, 23 Oct 2025).
| Hostname | OS | Arch (*) | R version | Installed pkgs |
|---|---|---|---|---|
| nebbiolo2 | Linux (Ubuntu 24.04.3 LTS) | x86_64 | 4.5.1 Patched (2025-08-23 r88802) -- "Great Square Root" | 4894 |
| lconway | macOS 12.7.6 Monterey | x86_64 | 4.5.1 Patched (2025-09-10 r88807) -- "Great Square Root" | 4684 |
| kjohnson3 | macOS 13.7.7 Ventura | arm64 | 4.5.1 Patched (2025-09-10 r88807) -- "Great Square Root" | 4629 |
| taishan | Linux (openEuler 24.03 LTS) | aarch64 | 4.5.0 (2025-04-11) -- "How About a Twenty-Six" | 4642 |
| Click on any hostname to see more info about the system (e.g. compilers) (*) as reported by 'uname -p', except on Windows and Mac OS X | ||||
| Package 2245/2355 | Hostname | OS / Arch | INSTALL | BUILD | CHECK | BUILD BIN | ||||||||
| tRanslatome 1.47.0 (landing page) Toma Tebaldi
| nebbiolo2 | Linux (Ubuntu 24.04.3 LTS) / x86_64 | OK | OK | OK | |||||||||
| lconway | macOS 12.7.6 Monterey / x86_64 | OK | OK | OK | OK | |||||||||
| kjohnson3 | macOS 13.7.7 Ventura / arm64 | OK | OK | OK | OK | |||||||||
| taishan | Linux (openEuler 24.03 LTS) / aarch64 | OK | OK | NA | ||||||||||
|
To the developers/maintainers of the tRanslatome package: - Allow up to 24 hours (and sometimes 48 hours) for your latest push to git@git.bioconductor.org:packages/tRanslatome.git to reflect on this report. See Troubleshooting Build Report for more information. - Use the following Renviron settings to reproduce errors and warnings. - If 'R CMD check' started to fail recently on the Linux builder(s) over a missing dependency, add the missing dependency to 'Suggests:' in your DESCRIPTION file. See Renviron.bioc for more information. |
| Package: tRanslatome |
| Version: 1.47.0 |
| Command: /home/biocbuild/bbs-3.22-bioc/R/bin/R CMD check --install=check:tRanslatome.install-out.txt --library=/home/biocbuild/bbs-3.22-bioc/R/site-library --timings tRanslatome_1.47.0.tar.gz |
| StartedAt: 2025-10-23 05:49:19 -0400 (Thu, 23 Oct 2025) |
| EndedAt: 2025-10-23 05:55:09 -0400 (Thu, 23 Oct 2025) |
| EllapsedTime: 350.3 seconds |
| RetCode: 0 |
| Status: OK |
| CheckDir: tRanslatome.Rcheck |
| Warnings: 0 |
##############################################################################
##############################################################################
###
### Running command:
###
### /home/biocbuild/bbs-3.22-bioc/R/bin/R CMD check --install=check:tRanslatome.install-out.txt --library=/home/biocbuild/bbs-3.22-bioc/R/site-library --timings tRanslatome_1.47.0.tar.gz
###
##############################################################################
##############################################################################
* using log directory ‘/home/biocbuild/bbs-3.22-bioc/meat/tRanslatome.Rcheck’
* using R version 4.5.1 Patched (2025-08-23 r88802)
* using platform: x86_64-pc-linux-gnu
* R was compiled by
gcc (Ubuntu 13.3.0-6ubuntu2~24.04) 13.3.0
GNU Fortran (Ubuntu 13.3.0-6ubuntu2~24.04) 13.3.0
* running under: Ubuntu 24.04.3 LTS
* using session charset: UTF-8
* checking for file ‘tRanslatome/DESCRIPTION’ ... OK
* checking extension type ... Package
* this is package ‘tRanslatome’ version ‘1.47.0’
* checking package namespace information ... OK
* checking package dependencies ... INFO
Depends: includes the non-default packages:
'limma', 'anota', 'DESeq2', 'edgeR', 'RankProd', 'topGO',
'org.Hs.eg.db', 'GOSemSim', 'Heatplus', 'gplots', 'plotrix',
'Biobase'
Adding so many packages to the search path is excessive and importing
selectively is preferable.
* checking if this is a source package ... OK
* checking if there is a namespace ... OK
* checking for hidden files and directories ... OK
* checking for portable file names ... OK
* checking for sufficient/correct file permissions ... OK
* checking whether package ‘tRanslatome’ can be installed ... OK
* checking installed package size ... OK
* checking package directory ... OK
* checking ‘build’ directory ... OK
* checking DESCRIPTION meta-information ... OK
* checking top-level files ... OK
* checking for left-over files ... OK
* checking index information ... OK
* checking package subdirectories ... OK
* checking code files for non-ASCII characters ... OK
* checking R files for syntax errors ... OK
* checking whether the package can be loaded ... OK
* checking whether the package can be loaded with stated dependencies ... OK
* checking whether the package can be unloaded cleanly ... OK
* checking whether the namespace can be loaded with stated dependencies ... OK
* checking whether the namespace can be unloaded cleanly ... OK
* checking loading without being on the library search path ... OK
* checking dependencies in R code ... OK
* checking S3 generic/method consistency ... OK
* checking replacement functions ... OK
* checking foreign function calls ... OK
* checking R code for possible problems ... NOTE
methodLimma: no visible global function definition for ‘lmFit’
methodTTest: no visible global function definition for ‘calcTStatFast’
GOEnrichment,DEGs: no visible global function definition for ‘toTable’
Undefined global functions or variables:
calcTStatFast lmFit toTable
* checking Rd files ... OK
* checking Rd metadata ... OK
* checking Rd cross-references ... OK
* checking for missing documentation entries ... OK
* checking for code/documentation mismatches ... OK
* checking Rd \usage sections ... OK
* checking Rd contents ... OK
* checking for unstated dependencies in examples ... OK
* checking contents of ‘data’ directory ... OK
* checking data for non-ASCII characters ... OK
* checking data for ASCII and uncompressed saves ... OK
* checking files in ‘vignettes’ ... OK
* checking examples ... OK
Examples with CPU (user + system) or elapsed time > 5s
user system elapsed
GOComparison 14.690 0.791 15.482
GOEnrichment 12.636 0.153 12.792
* checking for unstated dependencies in vignettes ... OK
* checking package vignettes ... OK
* checking re-building of vignette outputs ... OK
* checking PDF version of manual ... OK
* DONE
Status: 1 NOTE
See
‘/home/biocbuild/bbs-3.22-bioc/meat/tRanslatome.Rcheck/00check.log’
for details.
tRanslatome.Rcheck/00install.out
############################################################################## ############################################################################## ### ### Running command: ### ### /home/biocbuild/bbs-3.22-bioc/R/bin/R CMD INSTALL tRanslatome ### ############################################################################## ############################################################################## * installing to library ‘/home/biocbuild/bbs-3.22-bioc/R/site-library’ * installing *source* package ‘tRanslatome’ ... ** this is package ‘tRanslatome’ version ‘1.47.0’ ** using staged installation ** R ** data ** byte-compile and prepare package for lazy loading groupGOTerms: GOBPTerm, GOMFTerm, GOCCTerm environments built. ** help *** installing help indices ** building package indices ** installing vignettes ** testing if installed package can be loaded from temporary location groupGOTerms: GOBPTerm, GOMFTerm, GOCCTerm environments built. ** testing if installed package can be loaded from final location groupGOTerms: GOBPTerm, GOMFTerm, GOCCTerm environments built. ** testing if installed package keeps a record of temporary installation path * DONE (tRanslatome)
tRanslatome.Rcheck/tRanslatome-Ex.timings
| name | user | system | elapsed | |
| CVplot | 0.094 | 0.004 | 0.098 | |
| DEGs | 0.001 | 0.000 | 0.001 | |
| DEGs.table | 0.073 | 0.017 | 0.090 | |
| EnrichedSets | 0.001 | 0.000 | 0.001 | |
| FC.threshold | 0.046 | 0.003 | 0.049 | |
| GOComparison | 14.690 | 0.791 | 15.482 | |
| GOEnrichment | 12.636 | 0.153 | 12.792 | |
| GOsets | 0.000 | 0.000 | 0.001 | |
| GOsims | 0 | 0 | 0 | |
| Heatmap | 0.109 | 0.003 | 0.111 | |
| Histogram | 0.053 | 0.001 | 0.053 | |
| IdentityPlot | 0.047 | 0.002 | 0.048 | |
| MAplot | 0.076 | 0.002 | 0.078 | |
| Radar | 0.089 | 0.005 | 0.094 | |
| RegulatoryEnrichment | 1.221 | 0.005 | 1.225 | |
| SDplot | 0.077 | 0.001 | 0.078 | |
| Scatterplot | 0.110 | 0.001 | 0.110 | |
| SimilarityPlot | 0.046 | 0.004 | 0.050 | |
| TranslatomeDataset | 0 | 0 | 0 | |
| average.similarity.scores | 0.046 | 0.003 | 0.049 | |
| computeDEGs | 0.200 | 0.012 | 0.212 | |
| enriched.table | 0.050 | 0.001 | 0.051 | |
| getConditionA | 0.048 | 0.002 | 0.050 | |
| getConditionB | 0.047 | 0.001 | 0.049 | |
| getConditionC | 0.046 | 0.003 | 0.049 | |
| getConditionD | 0.048 | 0.000 | 0.049 | |
| getConditionLabels | 0.048 | 0.001 | 0.049 | |
| getDEGs | 0.048 | 0.001 | 0.049 | |
| getDEGsMethod | 0.047 | 0.002 | 0.049 | |
| getDataType | 0.045 | 0.003 | 0.049 | |
| getExprMatrix | 0.062 | 0.007 | 0.069 | |
| getLevelLabels | 0.046 | 0.012 | 0.058 | |
| identity.matrix | 0.047 | 0.002 | 0.049 | |
| label.condition | 0.048 | 0.001 | 0.049 | |
| label.level.DEGs | 0.047 | 0.001 | 0.048 | |
| label.level.enriched | 0.047 | 0.002 | 0.049 | |
| newTranslatomeDataset | 0.047 | 0.003 | 0.051 | |
| significance.threshold | 0.047 | 0.002 | 0.049 | |
| similarity.matrix | 0.049 | 0.000 | 0.049 | |
| tRanslatomeSampleData | 0.045 | 0.004 | 0.049 | |