Back to Multiple platform build/check report for BioC 3.22: simplified long |
|
This page was generated on 2025-10-11 12:03 -0400 (Sat, 11 Oct 2025).
Hostname | OS | Arch (*) | R version | Installed pkgs |
---|---|---|---|---|
nebbiolo2 | Linux (Ubuntu 24.04.3 LTS) | x86_64 | 4.5.1 Patched (2025-08-23 r88802) -- "Great Square Root" | 4864 |
lconway | macOS 12.7.1 Monterey | x86_64 | 4.5.1 Patched (2025-09-10 r88807) -- "Great Square Root" | 4652 |
kjohnson3 | macOS 13.7.7 Ventura | arm64 | 4.5.1 Patched (2025-09-10 r88807) -- "Great Square Root" | 4597 |
taishan | Linux (openEuler 24.03 LTS) | aarch64 | 4.5.0 (2025-04-11) -- "How About a Twenty-Six" | 4586 |
Click on any hostname to see more info about the system (e.g. compilers) (*) as reported by 'uname -p', except on Windows and Mac OS X |
Package 1974/2346 | Hostname | OS / Arch | INSTALL | BUILD | CHECK | BUILD BIN | ||||||||
seqsetvis 1.29.1 (landing page) Joseph R Boyd
| nebbiolo2 | Linux (Ubuntu 24.04.3 LTS) / x86_64 | OK | OK | OK | ![]() | ||||||||
lconway | macOS 12.7.1 Monterey / x86_64 | OK | OK | OK | OK | ![]() | ||||||||
kjohnson3 | macOS 13.7.7 Ventura / arm64 | OK | OK | OK | OK | ![]() | ||||||||
taishan | Linux (openEuler 24.03 LTS) / aarch64 | OK | OK | OK | ||||||||||
To the developers/maintainers of the seqsetvis package: - Allow up to 24 hours (and sometimes 48 hours) for your latest push to git@git.bioconductor.org:packages/seqsetvis.git to reflect on this report. See Troubleshooting Build Report for more information. - Use the following Renviron settings to reproduce errors and warnings. - If 'R CMD check' started to fail recently on the Linux builder(s) over a missing dependency, add the missing dependency to 'Suggests:' in your DESCRIPTION file. See Renviron.bioc for more information. |
Package: seqsetvis |
Version: 1.29.1 |
Command: /home/biocbuild/bbs-3.22-bioc/R/bin/R CMD check --install=check:seqsetvis.install-out.txt --library=/home/biocbuild/bbs-3.22-bioc/R/site-library --timings seqsetvis_1.29.1.tar.gz |
StartedAt: 2025-10-11 04:26:27 -0400 (Sat, 11 Oct 2025) |
EndedAt: 2025-10-11 04:38:51 -0400 (Sat, 11 Oct 2025) |
EllapsedTime: 744.7 seconds |
RetCode: 0 |
Status: OK |
CheckDir: seqsetvis.Rcheck |
Warnings: 0 |
############################################################################## ############################################################################## ### ### Running command: ### ### /home/biocbuild/bbs-3.22-bioc/R/bin/R CMD check --install=check:seqsetvis.install-out.txt --library=/home/biocbuild/bbs-3.22-bioc/R/site-library --timings seqsetvis_1.29.1.tar.gz ### ############################################################################## ############################################################################## * using log directory ‘/home/biocbuild/bbs-3.22-bioc/meat/seqsetvis.Rcheck’ * using R version 4.5.1 Patched (2025-08-23 r88802) * using platform: x86_64-pc-linux-gnu * R was compiled by gcc (Ubuntu 13.3.0-6ubuntu2~24.04) 13.3.0 GNU Fortran (Ubuntu 13.3.0-6ubuntu2~24.04) 13.3.0 * running under: Ubuntu 24.04.3 LTS * using session charset: UTF-8 * checking for file ‘seqsetvis/DESCRIPTION’ ... OK * checking extension type ... Package * this is package ‘seqsetvis’ version ‘1.29.1’ * package encoding: UTF-8 * checking package namespace information ... OK * checking package dependencies ... OK * checking if this is a source package ... OK * checking if there is a namespace ... OK * checking for hidden files and directories ... OK * checking for portable file names ... OK * checking for sufficient/correct file permissions ... OK * checking whether package ‘seqsetvis’ can be installed ... OK * checking installed package size ... OK * checking package directory ... OK * checking ‘build’ directory ... OK * checking DESCRIPTION meta-information ... OK * checking top-level files ... OK * checking for left-over files ... OK * checking index information ... OK * checking package subdirectories ... OK * checking code files for non-ASCII characters ... OK * checking R files for syntax errors ... OK * checking whether the package can be loaded ... OK * checking whether the package can be loaded with stated dependencies ... OK * checking whether the package can be unloaded cleanly ... OK * checking whether the namespace can be loaded with stated dependencies ... OK * checking whether the namespace can be unloaded cleanly ... OK * checking loading without being on the library search path ... OK * checking dependencies in R code ... OK * checking S3 generic/method consistency ... OK * checking replacement functions ... OK * checking foreign function calls ... OK * checking R code for possible problems ... OK * checking Rd files ... OK * checking Rd metadata ... OK * checking Rd cross-references ... OK * checking for missing documentation entries ... OK * checking for code/documentation mismatches ... OK * checking Rd \usage sections ... OK * checking Rd contents ... OK * checking for unstated dependencies in examples ... OK * checking contents of ‘data’ directory ... OK * checking data for non-ASCII characters ... OK * checking data for ASCII and uncompressed saves ... OK * checking files in ‘vignettes’ ... OK * checking examples ... OK Examples with CPU (user + system) or elapsed time > 5s user system elapsed ssvFetchBamPE.RNA 10.634 0.042 2.742 merge_clusters 9.743 0.437 7.706 ssvSignalHeatmap 9.369 0.068 4.551 ssvFeatureBinaryHeatmap 8.213 0.873 9.157 ssvSignalBandedQuantiles 8.215 0.194 5.777 ssvSignalClustering 7.975 0.211 4.148 ssvSignalHeatmap.ClusterBars 7.953 0.033 4.068 ssvFetchBam 7.091 0.152 7.216 reorder_clusters_stepdown 5.577 0.494 4.994 split_cluster 5.515 0.243 3.156 applySpline 5.329 0.045 0.785 reorder_clusters_hclust 5.034 0.141 3.946 add_cluster_annotation 5.010 0.156 4.216 * checking for unstated dependencies in ‘tests’ ... OK * checking tests ... Running ‘testthat.R’ OK * checking for unstated dependencies in vignettes ... OK * checking package vignettes ... OK * checking re-building of vignette outputs ... OK * checking PDF version of manual ... OK * DONE Status: OK
seqsetvis.Rcheck/00install.out
############################################################################## ############################################################################## ### ### Running command: ### ### /home/biocbuild/bbs-3.22-bioc/R/bin/R CMD INSTALL seqsetvis ### ############################################################################## ############################################################################## * installing to library ‘/home/biocbuild/bbs-3.22-bioc/R/site-library’ * installing *source* package ‘seqsetvis’ ... ** this is package ‘seqsetvis’ version ‘1.29.1’ ** using staged installation ** R ** data ** inst ** byte-compile and prepare package for lazy loading ** help *** installing help indices ** building package indices ** installing vignettes ** testing if installed package can be loaded from temporary location ** testing if installed package can be loaded from final location ** testing if installed package keeps a record of temporary installation path * DONE (seqsetvis)
seqsetvis.Rcheck/tests/testthat.Rout
R version 4.5.1 Patched (2025-08-23 r88802) -- "Great Square Root" Copyright (C) 2025 The R Foundation for Statistical Computing Platform: x86_64-pc-linux-gnu R is free software and comes with ABSOLUTELY NO WARRANTY. You are welcome to redistribute it under certain conditions. Type 'license()' or 'licence()' for distribution details. R is a collaborative project with many contributors. Type 'contributors()' for more information and 'citation()' on how to cite R or R packages in publications. Type 'demo()' for some demos, 'help()' for on-line help, or 'help.start()' for an HTML browser interface to help. Type 'q()' to quit R. > > ## load dependencies > library(testthat) > library(seqsetvis) Loading required package: ggplot2 > library(data.table) > > ## test package > test_check(package = "seqsetvis") [ FAIL 0 | WARN 3 | SKIP 0 | PASS 1291 ] [ FAIL 0 | WARN 3 | SKIP 0 | PASS 1291 ] > > proc.time() user system elapsed 336.807 3.195 265.539
seqsetvis.Rcheck/seqsetvis-Ex.timings
name | user | system | elapsed | |
add_cluster_annotation | 5.010 | 0.156 | 4.216 | |
append_ynorm | 0.142 | 0.002 | 0.058 | |
applyMovingAverage | 2.418 | 0.008 | 1.493 | |
applySpline | 5.329 | 0.045 | 0.785 | |
assemble_heatmap_cluster_bars | 2.394 | 0.172 | 1.683 | |
calc_norm_factors | 0.088 | 0.000 | 0.038 | |
centerAtMax | 1.439 | 0.065 | 0.524 | |
centerFixedSizeGRanges | 0.272 | 0.024 | 0.295 | |
centerGRangesAtMax | 2.809 | 0.051 | 0.935 | |
clusteringKmeans | 0.111 | 0.001 | 0.040 | |
clusteringKmeansNestedHclust | 0.079 | 0.002 | 0.038 | |
col2hex | 0.002 | 0.000 | 0.002 | |
collapse_gr | 1.322 | 0.036 | 1.358 | |
convert_collapsed_coord | 0.524 | 0.029 | 0.553 | |
copy_clust_info | 3.454 | 0.119 | 2.645 | |
crossCorrByRle | 0.479 | 0.056 | 0.553 | |
easyLoad_FUN | 0.068 | 0.006 | 0.074 | |
easyLoad_IDRmerged | 0.058 | 0.007 | 0.069 | |
easyLoad_bed | 0.171 | 0.015 | 0.186 | |
easyLoad_broadPeak | 0.050 | 0.001 | 0.051 | |
easyLoad_narrowPeak | 0.052 | 0.001 | 0.054 | |
easyLoad_seacr | 0.058 | 0.003 | 0.062 | |
expandCigar | 0.228 | 0.011 | 0.219 | |
findMaxPos | 0.103 | 0.001 | 0.054 | |
fragLen_calcStranded | 3.321 | 0.007 | 2.596 | |
fragLen_fromMacs2Xls | 0.002 | 0.000 | 0.003 | |
getReadLength | 0.076 | 0.001 | 0.077 | |
get_mapped_reads | 0.012 | 0.002 | 0.014 | |
ggellipse | 1.053 | 0.000 | 1.053 | |
harmonize_seqlengths | 0.091 | 0.002 | 0.093 | |
make_clustering_matrix | 0.504 | 0.004 | 0.206 | |
merge_clusters | 9.743 | 0.437 | 7.706 | |
prepare_fetch_GRanges | 0.050 | 0.003 | 0.053 | |
prepare_fetch_GRanges_names | 0.128 | 0.001 | 0.130 | |
prepare_fetch_GRanges_width | 0.050 | 0.000 | 0.049 | |
quantileGRangesWidth | 0.002 | 0.001 | 0.003 | |
reorder_clusters_hclust | 5.034 | 0.141 | 3.946 | |
reorder_clusters_manual | 2.835 | 0.090 | 2.016 | |
reorder_clusters_stepdown | 5.577 | 0.494 | 4.994 | |
reverse_clusters | 3.890 | 0.166 | 2.966 | |
safeBrew | 0.025 | 0.001 | 0.027 | |
split_cluster | 5.515 | 0.243 | 3.156 | |
ssvAnnotateSubjectGRanges | 1.622 | 0.127 | 1.749 | |
ssvConsensusIntervalSets | 0.463 | 0.011 | 0.475 | |
ssvFactorizeMembTable | 0.019 | 0.001 | 0.021 | |
ssvFeatureBars | 1.000 | 0.042 | 1.051 | |
ssvFeatureBinaryHeatmap | 8.213 | 0.873 | 9.157 | |
ssvFeatureEuler | 1.113 | 0.086 | 1.199 | |
ssvFeaturePie | 1.025 | 0.028 | 1.054 | |
ssvFeatureUpset | 4.525 | 0.159 | 4.694 | |
ssvFeatureVenn | 1.719 | 0.028 | 1.747 | |
ssvFetchBam | 7.091 | 0.152 | 7.216 | |
ssvFetchBamPE | 2.646 | 0.005 | 2.666 | |
ssvFetchBamPE.RNA | 10.634 | 0.042 | 2.742 | |
ssvFetchBigwig | 1.555 | 0.038 | 1.588 | |
ssvFetchGRanges | 1.051 | 0.109 | 1.160 | |
ssvFetchSignal | 1.720 | 0.039 | 1.759 | |
ssvMakeMembTable-methods | 0.780 | 0.034 | 0.814 | |
ssvOverlapIntervalSets | 0.255 | 0.023 | 0.278 | |
ssvSignalBandedQuantiles | 8.215 | 0.194 | 5.777 | |
ssvSignalClustering | 7.975 | 0.211 | 4.148 | |
ssvSignalHeatmap.ClusterBars | 7.953 | 0.033 | 4.068 | |
ssvSignalHeatmap | 9.369 | 0.068 | 4.551 | |
ssvSignalLineplot | 2.821 | 0.048 | 2.864 | |
ssvSignalLineplotAgg | 1.013 | 0.000 | 0.959 | |
ssvSignalScatterplot | 1.155 | 0.047 | 1.156 | |
viewGRangesWinSample_dt | 1.185 | 0.009 | 1.190 | |
viewGRangesWinSummary_dt | 1.785 | 0.011 | 1.113 | |
within_clust_sort | 2.664 | 0.016 | 1.888 | |